Workbook

Sheet MASTER PRICE LIST
A1: 0
C2: #VALUE!
C10: TruLink PTC
A12: 1 | C12: Description | D12: TruLink PN | E12: List Price | F12: Quantity | G12: Total List | H12: Labor (mins) | I12: Labor Hours
A13: 1 | C13: **As of Jan 1st 2026, there will be a $100 service charge per 5 sticks of tubing cut in half.**
A14: 1 | C14: **A Minimum Dealer Net (DN) Purchase Amount of $150 is Required For ALL Orders**
A15: 1 | C15: Pipe Blue
A16: =IF(IFERROR(F16*1,0)>0,A15+1,A15) -> 1 | C16: 20mm - Tubing Blue (16ft length) | D16: TP1-20-BLUE | E16: 65.48 | G16: =E16*F16 -> 0 | H16: 4 | I16: =$F16* $H16/60 -> 0
A17: =IF(IFERROR(F17*1,0)>0,A16+1,A16) -> 1 | B17: #VALUE! | C17: 25mm - Tubing Blue (16ft length) | D17: TP1-25-BLUE | E17: 79.11 | G17: =E17*F17 -> 0 | H17: 4 | I17: =$F17* $H17/60 -> 0
A18: =IF(IFERROR(F18*1,0)>0,A17+1,A17) -> 1 | C18: 32mm - Tubing Blue (16ft length) | D18: TP1-32-BLUE | E18: 103.65 | G18: =E18*F18 -> 0 | H18: 4 | I18: =$F18* $H18/60 -> 0
A19: =IF(IFERROR(F19*1,0)>0,A18+1,A18) -> 1 | C19: 40mm - Tubing Blue (16ft length) | D19: TP1-40-BLUE | E19: 130.92 | G19: =E19*F19 -> 0 | H19: 4 | I19: =$F19* $H19/60 -> 0
A20: =IF(IFERROR(F20*1,0)>0,A19+1,A19) -> 1 | C20: 50mm - Tubing Blue (16ft length) | D20: TP1-50-BLUE | E20: 196.41 | G20: =E20*F20 -> 0 | H20: 4 | I20: =$F20* $H20/60 -> 0
A21: =IF(IFERROR(F21*1,0)>0,A20+1,A20) -> 1 | C21: 63mm - Tubing Blue (16ft length) | D21: TP1-63-BLUE | E21: 237.28 | G21: =E21*F21 -> 0 | H21: 4 | I21: =$F21* $H21/60 -> 0
A22: =IF(IFERROR(F22*1,0)>0,A21+1,A21) -> 1 | C22: Pipe Black
A23: =IF(IFERROR(F23*1,0)>0,A22+1,A22) -> 1 | C23: 20mm - Tubing Black (16ft Length) | D23: TP1-20-BLACK | E23: 70.05 | G23: =E23*F23 -> 0 | H23: 4 | I23: =$F23* $H23/60 -> 0
A24: =IF(IFERROR(F24*1,0)>0,A23+1,A23) -> 1 | B24: #VALUE! | C24: 25mm - Tubing Black (16ft Length) | D24: TP1-25-BLACK | E24: 84.63 | G24: =E24*F24 -> 0 | H24: 4 | I24: =$F24* $H24/60 -> 0
A25: =IF(IFERROR(F25*1,0)>0,A24+1,A24) -> 1 | C25: 32mm - Tubing Black (16ft Length) | D25: TP1-32-BLACK | E25: 110.88 | G25: =E25*F25 -> 0 | H25: 4 | I25: =$F25* $H25/60 -> 0
A26: =IF(IFERROR(F26*1,0)>0,A25+1,A25) -> 1 | C26: 40mm - Tubing Black (16ft Length) | D26: TP1-40-BLACK | E26: 140.06 | G26: =E26*F26 -> 0 | H26: 4 | I26: =$F26* $H26/60 -> 0
A27: =IF(IFERROR(F27*1,0)>0,A26+1,A26) -> 1 | C27: 50mm - Tubing Black (16ft Length) | D27: TP1-50-BLACK | E27: 210.12 | G27: =E27*F27 -> 0 | H27: 4 | I27: =$F27* $H27/60 -> 0
A28: =IF(IFERROR(F28*1,0)>0,A27+1,A27) -> 1 | C28: 63mm - Tubing Black (16ft Length) | D28: TP1-63-BLACK | E28: 253.84 | G28: =E28*F28 -> 0 | H28: 4 | I28: =$F28* $H28/60 -> 0
A29: =IF(IFERROR(F29*1,0)>0,A28+1,A28) -> 1 | C29: Pipe Grey
A30: =IF(IFERROR(F30*1,0)>0,A29+1,A29) -> 1 | C30: 20mm - Tubing Grey (16ft Length) | D30: TP1-20-GREY | E30: 70.05 | G30: =E30*F30 -> 0 | H30: 4 | I30: =$F30* $H30/60 -> 0
A31: =IF(IFERROR(F31*1,0)>0,A30+1,A30) -> 1 | B31: #VALUE! | C31: 25mm - Tubing Grey (16ft Length) | D31: TP1-25-GREY | E31: 84.63 | G31: =E31*F31 -> 0 | H31: 4 | I31: =$F31* $H31/60 -> 0
A32: =IF(IFERROR(F32*1,0)>0,A31+1,A31) -> 1 | C32: 32mm - Tubing Grey (16ft Length) | D32: TP1-32-GREY | E32: 110.88 | G32: =E32*F32 -> 0 | H32: 4 | I32: =$F32* $H32/60 -> 0
A33: =IF(IFERROR(F33*1,0)>0,A32+1,A32) -> 1 | C33: 40mm - Tubing Grey (16ft Length) | D33: TP1-40-GREY | E33: 140.06 | G33: =E33*F33 -> 0 | H33: 4 | I33: =$F33* $H33/60 -> 0
A34: =IF(IFERROR(F34*1,0)>0,A33+1,A33) -> 1 | C34: 50mm - Tubing Grey (16ft Length) | D34: TP1-50-GREY | E34: 210.12 | G34: =E34*F34 -> 0 | H34: 4 | I34: =$F34* $H34/60 -> 0
A35: =IF(IFERROR(F35*1,0)>0,A34+1,A34) -> 1 | C35: 63mm - Tubing Grey (16ft Length) | D35: TP1-63-GREY | E35: 253.84 | G35: =E35*F35 -> 0 | H35: 4 | I35: =$F35* $H35/60 -> 0
A36: =IF(IFERROR(F36*1,0)>0,A35+1,A35) -> 1 | C36: Pipe Green
A37: =IF(IFERROR(F37*1,0)>0,A36+1,A36) -> 1 | C37: 20mm - Tubing Green (16ft Length) | D37: TP1-20-GREEN | E37: 70.05 | G37: =E37*F37 -> 0 | H37: 4 | I37: =$F37* $H37/60 -> 0
A38: =IF(IFERROR(F38*1,0)>0,A37+1,A37) -> 1 | B38: #VALUE! | C38: 25mm - Tubing Green (16ft Length) | D38: TP1-25-GREEN | E38: 84.63 | G38: =E38*F38 -> 0 | H38: 4 | I38: =$F38* $H38/60 -> 0
A39: =IF(IFERROR(F39*1,0)>0,A38+1,A38) -> 1 | C39: 32mm - Tubing Green (16ft Length) | D39: TP1-32-GREEN | E39: 110.88 | G39: =E39*F39 -> 0 | H39: 4 | I39: =$F39* $H39/60 -> 0
A40: =IF(IFERROR(F40*1,0)>0,A39+1,A39) -> 1 | C40: 40mm - Tubing Green (16ft Length) | D40: TP1-40-GREEN | E40: 140.06 | G40: =E40*F40 -> 0 | H40: 4 | I40: =$F40* $H40/60 -> 0
A41: =IF(IFERROR(F41*1,0)>0,A40+1,A40) -> 1 | C41: 50mm - Tubing Green (16ft Length) | D41: TP1-50-GREEN | E41: 210.12 | G41: =E41*F41 -> 0 | H41: 4 | I41: =$F41* $H41/60 -> 0
A42: =IF(IFERROR(F42*1,0)>0,A41+1,A41) -> 1 | C42: 63mm - Tubing Green (16ft Length) | D42: TP1-63-GREEN | E42: 253.84 | G42: =E42*F42 -> 0 | H42: 4 | I42: =$F42* $H42/60 -> 0
A43: =IF(IFERROR(F43*1,0)>0,A42+1,A42) -> 1 | C43: Pipe Inked
A44: =IF(IFERROR(F44*1,0)>0,A43+1,A43) -> 1 | C44: 20mm - Tubing Blue (16ft length) | D44: TP1-20-BLUE-INKED | E44: 72.83 | G44: =E44*F44 -> 0 | H44: 4 | I44: =$F44* $H44/60 -> 0
A45: =IF(IFERROR(F45*1,0)>0,A44+1,A44) -> 1 | B45: #VALUE! | C45: 25mm - Tubing Blue (16ft length) | D45: TP1-25-BLUE-INKED | E45: 88.03 | G45: =E45*F45 -> 0 | H45: 4 | I45: =$F45* $H45/60 -> 0
A46: =IF(IFERROR(F46*1,0)>0,A45+1,A45) -> 1 | C46: 32mm - Tubing Blue (16ft length) | D46: TP1-32-BLUE-INKED | E46: 115.33 | G46: =E46*F46 -> 0 | H46: 4 | I46: =$F46* $H46/60 -> 0
A47: =IF(IFERROR(F47*1,0)>0,A46+1,A46) -> 1 | C47: 40mm - Tubing Blue (16ft length) | D47: TP1-40-BLUE-INKED | E47: 145.67 | G47: =E47*F47 -> 0 | H47: 4 | I47: =$F47* $H47/60 -> 0
A48: =IF(IFERROR(F48*1,0)>0,A47+1,A47) -> 1 | C48: 50mm - Tubing Blue (16ft length) | D48: TP1-50-BLUE-INKED | E48: 218.52 | G48: =E48*F48 -> 0 | H48: 4 | I48: =$F48* $H48/60 -> 0
...

Sheet ORDER SUMMARY
B1: TruLink Summary | D1: DISCOUNT: | F1: TOTAL LIST PRICE: | G1: =SUM(F5:F397) -> 0 | H1: =IF(G2<150,"Below Minimum","Above Minimum") -> Below Minimum | J1: **As of Jan 1st 2026, there will be a $100 service charge per stick of tubing cut in half**
D2: AMOUNT SAVED: | E2: =G1-G2 -> 0 | F2: FINAL COST: | G2: =SUM(G5:G397) -> 0 | H2: * Labor Hours: | I2: =SUM(I5:I350) -> 0 | J2: *Click Here To See Labor Hour Multiplier Tab* | N2: **A Minimum Dealer Net (DN) Purchase Amount of $150 is Required Fot ALL Orders**
A4: ROW | B4: DESCRIPTION | C4: TRULINK PN | D4: LIST PRICE | E4: QUANTITY | F4: TOTAL PRICE | G4: DISCOUNTED PRICE | H4: Labor (Mins) | I4: Labor Hours | J4: Notes
A5: 2 | B5: =IFERROR(VLOOKUP($A5,'MASTER PRICE LIST'!$A$15:$G$1053,3,0),"") | C5: =IFERROR(VLOOKUP($A5,'MASTER PRICE LIST'!$A$15:$G$1053,4,0),"") | D5: =IFERROR(VLOOKUP($A5,'MASTER PRICE LIST'!$A$15:$G$1053,5,0),"") | E5: =IFERROR(VLOOKUP($A5,'MASTER PRICE LIST'!$A$15:$G$1053,6,0),"") | F5: =IFERROR(VLOOKUP($A5,'MASTER PRICE LIST'!$A$15:$G$1053,7,0),"") | G5: =IFERROR(F5-(F5*$E$1%),"") | H5: =IFERROR(VLOOKUP($A5,'MASTER PRICE LIST'!$A$15:$I$1053,8,0),"") | I5: =IFERROR(VLOOKUP($A5,'MASTER PRICE LIST'!$A$15:$I$1053,9,0),"")
A6: 3 | B6: =IFERROR(VLOOKUP($A6,'MASTER PRICE LIST'!$A$15:$G$1053,3,0),"") | C6: =IFERROR(VLOOKUP($A6,'MASTER PRICE LIST'!$A$15:$G$1053,4,0),"") | D6: =IFERROR(VLOOKUP($A6,'MASTER PRICE LIST'!$A$15:$G$1053,5,0),"") | E6: =IFERROR(VLOOKUP($A6,'MASTER PRICE LIST'!$A$15:$G$1053,6,0),"") | F6: =IFERROR(VLOOKUP($A6,'MASTER PRICE LIST'!$A$15:$G$1053,7,0),"") | G6: =IFERROR(F6-(F6*$E$1%),"") | H6: =IFERROR(VLOOKUP($A6,'MASTER PRICE LIST'!$A$15:$I$1053,8,0),"") | I6: =IFERROR(VLOOKUP($A6,'MASTER PRICE LIST'!$A$15:$I$1053,9,0),"")
A7: 4 | B7: =IFERROR(VLOOKUP($A7,'MASTER PRICE LIST'!$A$15:$G$1053,3,0),"") | C7: =IFERROR(VLOOKUP($A7,'MASTER PRICE LIST'!$A$15:$G$1053,4,0),"") | D7: =IFERROR(VLOOKUP($A7,'MASTER PRICE LIST'!$A$15:$G$1053,5,0),"") | E7: =IFERROR(VLOOKUP($A7,'MASTER PRICE LIST'!$A$15:$G$1053,6,0),"") | F7: =IFERROR(VLOOKUP($A7,'MASTER PRICE LIST'!$A$15:$G$1053,7,0),"") | G7: =IFERROR(F7-(F7*$E$1%),"") | H7: =IFERROR(VLOOKUP($A7,'MASTER PRICE LIST'!$A$15:$I$1053,8,0),"") | I7: =IFERROR(VLOOKUP($A7,'MASTER PRICE LIST'!$A$15:$I$1053,9,0),"")
A8: 5 | B8: =IFERROR(VLOOKUP($A8,'MASTER PRICE LIST'!$A$15:$G$1053,3,0),"") | C8: =IFERROR(VLOOKUP($A8,'MASTER PRICE LIST'!$A$15:$G$1053,4,0),"") | D8: =IFERROR(VLOOKUP($A8,'MASTER PRICE LIST'!$A$15:$G$1053,5,0),"") | E8: =IFERROR(VLOOKUP($A8,'MASTER PRICE LIST'!$A$15:$G$1053,6,0),"") | F8: =IFERROR(VLOOKUP($A8,'MASTER PRICE LIST'!$A$15:$G$1053,7,0),"") | G8: =IFERROR(F8-(F8*$E$1%),"") | H8: =IFERROR(VLOOKUP($A8,'MASTER PRICE LIST'!$A$15:$I$1053,8,0),"") | I8: =IFERROR(VLOOKUP($A8,'MASTER PRICE LIST'!$A$15:$I$1053,9,0),"")
A9: 6 | B9: =IFERROR(VLOOKUP($A9,'MASTER PRICE LIST'!$A$15:$G$1053,3,0),"") | C9: =IFERROR(VLOOKUP($A9,'MASTER PRICE LIST'!$A$15:$G$1053,4,0),"") | D9: =IFERROR(VLOOKUP($A9,'MASTER PRICE LIST'!$A$15:$G$1053,5,0),"") | E9: =IFERROR(VLOOKUP($A9,'MASTER PRICE LIST'!$A$15:$G$1053,6,0),"") | F9: =IFERROR(VLOOKUP($A9,'MASTER PRICE LIST'!$A$15:$G$1053,7,0),"") | G9: =IFERROR(F9-(F9*$E$1%),"") | H9: =IFERROR(VLOOKUP($A9,'MASTER PRICE LIST'!$A$15:$I$1053,8,0),"") | I9: =IFERROR(VLOOKUP($A9,'MASTER PRICE LIST'!$A$15:$I$1053,9,0),"")
A10: 7 | B10: =IFERROR(VLOOKUP($A10,'MASTER PRICE LIST'!$A$15:$G$1053,3,0),"") | C10: =IFERROR(VLOOKUP($A10,'MASTER PRICE LIST'!$A$15:$G$1053,4,0),"") | D10: =IFERROR(VLOOKUP($A10,'MASTER PRICE LIST'!$A$15:$G$1053,5,0),"") | E10: =IFERROR(VLOOKUP($A10,'MASTER PRICE LIST'!$A$15:$G$1053,6,0),"") | F10: =IFERROR(VLOOKUP($A10,'MASTER PRICE LIST'!$A$15:$G$1053,7,0),"") | G10: =IFERROR(F10-(F10*$E$1%),"") | H10: =IFERROR(VLOOKUP($A10,'MASTER PRICE LIST'!$A$15:$I$1053,8,0),"") | I10: =IFERROR(VLOOKUP($A10,'MASTER PRICE LIST'!$A$15:$I$1053,9,0),"")
A11: 8 | B11: =IFERROR(VLOOKUP($A11,'MASTER PRICE LIST'!$A$15:$G$1053,3,0),"") | C11: =IFERROR(VLOOKUP($A11,'MASTER PRICE LIST'!$A$15:$G$1053,4,0),"") | D11: =IFERROR(VLOOKUP($A11,'MASTER PRICE LIST'!$A$15:$G$1053,5,0),"") | E11: =IFERROR(VLOOKUP($A11,'MASTER PRICE LIST'!$A$15:$G$1053,6,0),"") | F11: =IFERROR(VLOOKUP($A11,'MASTER PRICE LIST'!$A$15:$G$1053,7,0),"") | G11: =IFERROR(F11-(F11*$E$1%),"") | H11: =IFERROR(VLOOKUP($A11,'MASTER PRICE LIST'!$A$15:$I$1053,8,0),"") | I11: =IFERROR(VLOOKUP($A11,'MASTER PRICE LIST'!$A$15:$I$1053,9,0),"")
A12: 9 | B12: =IFERROR(VLOOKUP($A12,'MASTER PRICE LIST'!$A$15:$G$1053,3,0),"") | C12: =IFERROR(VLOOKUP($A12,'MASTER PRICE LIST'!$A$15:$G$1053,4,0),"") | D12: =IFERROR(VLOOKUP($A12,'MASTER PRICE LIST'!$A$15:$G$1053,5,0),"") | E12: =IFERROR(VLOOKUP($A12,'MASTER PRICE LIST'!$A$15:$G$1053,6,0),"") | F12: =IFERROR(VLOOKUP($A12,'MASTER PRICE LIST'!$A$15:$G$1053,7,0),"") | G12: =IFERROR(F12-(F12*$E$1%),"") | H12: =IFERROR(VLOOKUP($A12,'MASTER PRICE LIST'!$A$15:$I$1053,8,0),"") | I12: =IFERROR(VLOOKUP($A12,'MASTER PRICE LIST'!$A$15:$I$1053,9,0),"")
A13: 10 | B13: =IFERROR(VLOOKUP($A13,'MASTER PRICE LIST'!$A$15:$G$1053,3,0),"") | C13: =IFERROR(VLOOKUP($A13,'MASTER PRICE LIST'!$A$15:$G$1053,4,0),"") | D13: =IFERROR(VLOOKUP($A13,'MASTER PRICE LIST'!$A$15:$G$1053,5,0),"") | E13: =IFERROR(VLOOKUP($A13,'MASTER PRICE LIST'!$A$15:$G$1053,6,0),"") | F13: =IFERROR(VLOOKUP($A13,'MASTER PRICE LIST'!$A$15:$G$1053,7,0),"") | G13: =IFERROR(F13-(F13*$E$1%),"") | H13: =IFERROR(VLOOKUP($A13,'MASTER PRICE LIST'!$A$15:$I$1053,8,0),"") | I13: =IFERROR(VLOOKUP($A13,'MASTER PRICE LIST'!$A$15:$I$1053,9,0),"")
A14: 11 | B14: =IFERROR(VLOOKUP($A14,'MASTER PRICE LIST'!$A$15:$G$1053,3,0),"") | C14: =IFERROR(VLOOKUP($A14,'MASTER PRICE LIST'!$A$15:$G$1053,4,0),"") | D14: =IFERROR(VLOOKUP($A14,'MASTER PRICE LIST'!$A$15:$G$1053,5,0),"") | E14: =IFERROR(VLOOKUP($A14,'MASTER PRICE LIST'!$A$15:$G$1053,6,0),"") | F14: =IFERROR(VLOOKUP($A14,'MASTER PRICE LIST'!$A$15:$G$1053,7,0),"") | G14: =IFERROR(F14-(F14*$E$1%),"") | H14: =IFERROR(VLOOKUP($A14,'MASTER PRICE LIST'!$A$15:$I$1053,8,0),"") | I14: =IFERROR(VLOOKUP($A14,'MASTER PRICE LIST'!$A$15:$I$1053,9,0),"")
A15: 12 | B15: =IFERROR(VLOOKUP($A15,'MASTER PRICE LIST'!$A$15:$G$1053,3,0),"") | C15: =IFERROR(VLOOKUP($A15,'MASTER PRICE LIST'!$A$15:$G$1053,4,0),"") | D15: =IFERROR(VLOOKUP($A15,'MASTER PRICE LIST'!$A$15:$G$1053,5,0),"") | E15: =IFERROR(VLOOKUP($A15,'MASTER PRICE LIST'!$A$15:$G$1053,6,0),"") | F15: =IFERROR(VLOOKUP($A15,'MASTER PRICE LIST'!$A$15:$G$1053,7,0),"") | G15: =IFERROR(F15-(F15*$E$1%),"") | H15: =IFERROR(VLOOKUP($A15,'MASTER PRICE LIST'!$A$15:$I$1053,8,0),"") | I15: =IFERROR(VLOOKUP($A15,'MASTER PRICE LIST'!$A$15:$I$1053,9,0),"")
A16: 13 | B16: =IFERROR(VLOOKUP($A16,'MASTER PRICE LIST'!$A$15:$G$1053,3,0),"") | C16: =IFERROR(VLOOKUP($A16,'MASTER PRICE LIST'!$A$15:$G$1053,4,0),"") | D16: =IFERROR(VLOOKUP($A16,'MASTER PRICE LIST'!$A$15:$G$1053,5,0),"") | E16: =IFERROR(VLOOKUP($A16,'MASTER PRICE LIST'!$A$15:$G$1053,6,0),"") | F16: =IFERROR(VLOOKUP($A16,'MASTER PRICE LIST'!$A$15:$G$1053,7,0),"") | G16: =IFERROR(F16-(F16*$E$1%),"") | H16: =IFERROR(VLOOKUP($A16,'MASTER PRICE LIST'!$A$15:$I$1053,8,0),"") | I16: =IFERROR(VLOOKUP($A16,'MASTER PRICE LIST'!$A$15:$I$1053,9,0),"")
... A393: 390 | B393: =IFERROR(VLOOKUP($A393,'MASTER PRICE LIST'!$A$15:$G$1053,3,0),"") | C393: =IFERROR(VLOOKUP($A393,'MASTER PRICE LIST'!$A$15:$G$1053,4,0),"") | D393: =IFERROR(VLOOKUP($A393,'MASTER PRICE LIST'!$A$15:$G$1053,5,0),"") | E393: =IFERROR(VLOOKUP($A393,'MASTER PRICE LIST'!$A$15:$G$1053,6,0),"") | F393: =IFERROR(VLOOKUP($A393,'MASTER PRICE LIST'!$A$15:$G$1053,7,0),"") | G393: =IFERROR(F393-(F393*$E$1%),"") | H393: =IFERROR(VLOOKUP($A393,'MASTER PRICE LIST'!$A$15:$I$1053,8,0),"") | I393: =IFERROR(VLOOKUP($A393,'MASTER PRICE LIST'!$A$15:$I$1053,9,0),"")
H394: =IFERROR(VLOOKUP($A394,'MASTER PRICE LIST'!$A$15:$G$1053,8,0),"")
A396: 800 | B396: =IFERROR(VLOOKUP($A396,'MASTER PRICE LIST'!$A$15:$G$1053,3,0),"") | C396: =IFERROR(VLOOKUP($A396,'MASTER PRICE LIST'!$A$15:$G$1053,4,0),"") | D396: =IFERROR(VLOOKUP($A396,'MASTER PRICE LIST'!$A$15:$G$1053,5,0),"") | E396: =IFERROR(VLOOKUP($A396,'MASTER PRICE LIST'!$A$15:$G$1053,6,0),"") | F396: =IFERROR(VLOOKUP($A396,'MASTER PRICE LIST'!$A$15:$G$1053,7,0),"") | G396: =IFERROR(F396-(F396*$E$1%),"")

Sheet Labor Multiplier
