Workbook

Sheet MASTER PRICE LIST
A1: 0
C2: #VALUE!
C10: TruLink PTC
A12: 1 | C12: Description | D12: TruLink PN | E12: List Price | F12: Quantity | G12: Total List | H12: Labor (mins) | I12: Labor Hours
A13: 1 | C13: **As of Jan 1st 2026, there will be a $100 service charge per 5 sticks of tubing cut in half.**
A14: 1 | C14: **A Minimum Dealer Net (DN) Purchase Amount of $150 is Required For ALL Orders**
A15: 1 | C15: Pipe Blue
A16: =IF(IFERROR(F16*1,0)>0,A15+1,A15) -> 1 | C16: 20mm - Tubing Blue (16ft length) | D16: TP1-20-BLUE | E16: 65.48 | G16: =E16*F16 -> 0 | H16: 4 | I16: =$F16* $H16/60 -> 0
A17: =IF(IFERROR(F17*1,0)>0,A16+1,A16) -> 1 | B17: #VALUE! | C17: 25mm - Tubing Blue (16ft length) | D17: TP1-25-BLUE | E17: 79.11 | G17: =E17*F17 -> 0 | H17: 4 | I17: =$F17* $H17/60 -> 0
A18: =IF(IFERROR(F18*1,0)>0,A17+1,A17) -> 1 | C18: 32mm - Tubing Blue (16ft length) | D18: TP1-32-BLUE | E18: 103.65 | G18: =E18*F18 -> 0 | H18: 4 | I18: =$F18* $H18/60 -> 0
A19: =IF(IFERROR(F19*1,0)>0,A18+1,A18) -> 1 | C19: 40mm - Tubing Blue (16ft length) | D19: TP1-40-BLUE | E19: 130.92 | G19: =E19*F19 -> 0 | H19: 4 | I19: =$F19* $H19/60 -> 0
A20: =IF(IFERROR(F20*1,0)>0,A19+1,A19) -> 1 | C20: 50mm - Tubing Blue (16ft length) | D20: TP1-50-BLUE | E20: 196.41 | G20: =E20*F20 -> 0 | H20: 4 | I20: =$F20* $H20/60 -> 0
A21: =IF(IFERROR(F21*1,0)>0,A20+1,A20) -> 1 | C21: 63mm - Tubing Blue (16ft length) | D21: TP1-63-BLUE | E21: 237.28 | G21: =E21*F21 -> 0 | H21: 4 | I21: =$F21* $H21/60 -> 0
A22: =IF(IFERROR(F22*1,0)>0,A21+1,A21) -> 1 | C22: Pipe Black
A23: =IF(IFERROR(F23*1,0)>0,A22+1,A22) -> 1 | C23: 20mm - Tubing Black (16ft Length) | D23: TP1-20-BLACK | E23: 70.05 | G23: =E23*F23 -> 0 | H23: 4 | I23: =$F23* $H23/60 -> 0
A24: =IF(IFERROR(F24*1,0)>0,A23+1,A23) -> 1 | B24: #VALUE! | C24: 25mm - Tubing Black (16ft Length) | D24: TP1-25-BLACK | E24: 84.63 | G24: =E24*F24 -> 0 | H24: 4 | I24: =$F24* $H24/60 -> 0
A25: =IF(IFERROR(F25*1,0)>0,A24+1,A24) -> 1 | C25: 32mm - Tubing Black (16ft Length) | D25: TP1-32-BLACK | E25: 110.88 | G25: =E25*F25 -> 0 | H25: 4 | I25: =$F25* $H25/60 -> 0
A26: =IF(IFERROR(F26*1,0)>0,A25+1,A25) -> 1 | C26: 40mm - Tubing Black (16ft Length) | D26: TP1-40-BLACK | E26: 140.06 | G26: =E26*F26 -> 0 | H26: 4 | I26: =$F26* $H26/60 -> 0
A27: =IF(IFERROR(F27*1,0)>0,A26+1,A26) -> 1 | C27: 50mm - Tubing Black (16ft Length) | D27: TP1-50-BLACK | E27: 210.12 | G27: =E27*F27 -> 0 | H27: 4 | I27: =$F27* $H27/60 -> 0
A28: =IF(IFERROR(F28*1,0)>0,A27+1,A27) -> 1 | C28: 63mm - Tubing Black (16ft Length) | D28: TP1-63-BLACK | E28: 253.84 | G28: =E28*F28 -> 0 | H28: 4 | I28: =$F28* $H28/60 -> 0
A29: =IF(IFERROR(F29*1,0)>0,A28+1,A28) -> 1 | C29: Pipe Grey
A30: =IF(IFERROR(F30*1,0)>0,A29+1,A29) -> 1 | C30: 20mm - Tubing Grey (16ft Length) | D30: TP1-20-GREY | E30: 70.05 | G30: =E30*F30 -> 0 | H30: 4 | I30: =$F30* $H30/60 -> 0
A31: =IF(IFERROR(F31*1,0)>0,A30+1,A30) -> 1 | B31: #VALUE! | C31: 25mm - Tubing Grey (16ft Length) | D31: TP1-25-GREY | E31: 84.63 | G31: =E31*F31 -> 0 | H31: 4 | I31: =$F31* $H31/60 -> 0
A32: =IF(IFERROR(F32*1,0)>0,A31+1,A31) -> 1 | C32: 32mm - Tubing Grey (16ft Length) | D32: TP1-32-GREY | E32: 110.88 | G32: =E32*F32 -> 0 | H32: 4 | I32: =$F32* $H32/60 -> 0
A33: =IF(IFERROR(F33*1,0)>0,A32+1,A32) -> 1 | C33: 40mm - Tubing Grey (16ft Length) | D33: TP1-40-GREY | E33: 140.06 | G33: =E33*F33 -> 0 | H33: 4 | I33: =$F33* $H33/60 -> 0
A34: =IF(IFERROR(F34*1,0)>0,A33+1,A33) -> 1 | C34: 50mm - Tubing Grey (16ft Length) | D34: TP1-50-GREY | E34: 210.12 | G34: =E34*F34 -> 0 | H34: 4 | I34: =$F34* $H34/60 -> 0
A35: =IF(IFERROR(F35*1,0)>0,A34+1,A34) -> 1 | C35: 63mm - Tubing Grey (16ft Length) | D35: TP1-63-GREY | E35: 253.84 | G35: =E35*F35 -> 0 | H35: 4 | I35: =$F35* $H35/60 -> 0
A36: =IF(IFERROR(F36*1,0)>0,A35+1,A35) -> 1 | C36: Pipe Green
A37: =IF(IFERROR(F37*1,0)>0,A36+1,A36) -> 1 | C37: 20mm - Tubing Green (16ft Length) | D37: TP1-20-GREEN | E37: 70.05 | G37: =E37*F37 -> 0 | H37: 4 | I37: =$F37* $H37/60 -> 0
A38: =IF(IFERROR(F38*1,0)>0,A37+1,A37) -> 1 | B38: #VALUE! | C38: 25mm - Tubing Green (16ft Length) | D38: TP1-25-GREEN | E38: 84.63 | G38: =E38*F38 -> 0 | H38: 4 | I38: =$F38* $H38/60 -> 0
A39: =IF(IFERROR(F39*1,0)>0,A38+1,A38) -> 1 | C39: 32mm - Tubing Green (16ft Length) | D39: TP1-32-GREEN | E39: 110.88 | G39: =E39*F39 -> 0 | H39: 4 | I39: =$F39* $H39/60 -> 0
A40: =IF(IFERROR(F40*1,0)>0,A39+1,A39) -> 1 | C40: 40mm - Tubing Green (16ft Length) | D40: TP1-40-GREEN | E40: 140.06 | G40: =E40*F40 -> 0 | H40: 4 | I40: =$F40* $H40/60 -> 0
A41: =IF(IFERROR(F41*1,0)>0,A40+1,A40) -> 1 | C41: 50mm - Tubing Green (16ft Length) | D41: TP1-50-GREEN | E41: 210.12 | G41: =E41*F41 -> 0 | H41: 4 | I41: =$F41* $H41/60 -> 0
A42: =IF(IFERROR(F42*1,0)>0,A41+1,A41) -> 1 | C42: 63mm - Tubing Green (16ft Length) | D42: TP1-63-GREEN | E42: 253.84 | G42: =E42*F42 -> 0 | H42: 4 | I42: =$F42* $H42/60 -> 0
A43: =IF(IFERROR(F43*1,0)>0,A42+1,A42) -> 1 | C43: Pipe Inked
A44: =IF(IFERROR(F44*1,0)>0,A43+1,A43) -> 1 | C44: 20mm - Tubing Blue (16ft length) | D44: TP1-20-BLUE-INKED | E44: 72.83 | G44: =E44*F44 -> 0 | H44: 4 | I44: =$F44* $H44/60 -> 0
A45: =IF(IFERROR(F45*1,0)>0,A44+1,A44) -> 1 | B45: #VALUE! | C45: 25mm - Tubing Blue (16ft length) | D45: TP1-25-BLUE-INKED | E45: 88.03 | G45: =E45*F45 -> 0 | H45: 4 | I45: =$F45* $H45/60 -> 0
A46: =IF(IFERROR(F46*1,0)>0,A45+1,A45) -> 1 | C46: 32mm - Tubing Blue (16ft length) | D46: TP1-32-BLUE-INKED | E46: 115.33 | G46: =E46*F46 -> 0 | H46: 4 | I46: =$F46* $H46/60 -> 0
A47: =IF(IFERROR(F47*1,0)>0,A46+1,A46) -> 1 | C47: 40mm - Tubing Blue (16ft length) | D47: TP1-40-BLUE-INKED | E47: 145.67 | G47: =E47*F47 -> 0 | H47: 4 | I47: =$F47* $H47/60 -> 0
A48: =IF(IFERROR(F48*1,0)>0,A47+1,A47) -> 1 | C48: 50mm - Tubing Blue (16ft length) | D48: TP1-50-BLUE-INKED | E48: 218.52 | G48: =E48*F48 -> 0 | H48: 4 | I48: =$F48* $H48/60 -> 0
A49: =IF(IFERROR(F49*1,0)>0,A48+1,A48) -> 1 | C49: 63mm - Tubing Blue (16ft length) | D49: TP1-63-BLUE-INKED | E49: 266.54 | G49: =E49*F49 -> 0 | H49: 4 | I49: =$F49* $H49/60 -> 0
A50: =IF(IFERROR(F50*1,0)>0,A49+1,A49) -> 1 | C50: Straight Male Adapter
A51: =IF(IFERROR(F51*1,0)>0,A50+1,A50) -> 1 | C51: Straight male adapter 20mm x 1/2" MNPT | D51: TP3-20-08M | E51: 20.08 | G51: =E51*F51 -> 0 | H51: 3 | I51: =$F51* $H51/60 -> 0
A52: =IF(IFERROR(F52*1,0)>0,A51+1,A51) -> 1 | C52: Straight male adapter 20mm x 3/4" MNPT | D52: TP3-20-12M | E52: 25.2288 | G52: =E52*F52 -> 0 | H52: 3 | I52: =$F52* $H52/60 -> 0
A53: =IF(IFERROR(F53*1,0)>0,A52+1,A52) -> 1 | B53: #VALUE! | C53: Straight male adapter 25mm x 3/4" MNPT | D53: TP3-25-12M | E53: 32.4756 | G53: =E53*F53 -> 0 | H53: 3 | I53: =$F53* $H53/60 -> 0
A54: =IF(IFERROR(F54*1,0)>0,A53+1,A53) -> 1 | C54: Straight male adapter 25mm x 1" MNPT | D54: TP3-25-16M | E54: 35.5212 | G54: =E54*F54 -> 0 | H54: 3 | I54: =$F54* $H54/60 -> 0
A55: =IF(IFERROR(F55*1,0)>0,A54+1,A54) -> 1 | C55: Straight male adapter 32mm x 1" MNPT | D55: TP3-32-16M | E55: 38.012 | G55: =E55*F55 -> 0 | H55: 3 | I55: =$F55* $H55/60 -> 0
A56: =IF(IFERROR(F56*1,0)>0,A55+1,A55) -> 1 | C56: Straight male adapter 32mm x 1-1/2" MNPT | D56: TP3-32-24M | E56: 46.92375 | G56: =E56*F56 -> 0 | H56: 3 | I56: =$F56* $H56/60 -> 0
A57: =IF(IFERROR(F57*1,0)>0,A56+1,A56) -> 1 | C57: Straight male adapter 40mm x 1-1/2" MNPT | D57: TP3-40-24M | E57: 55.39475 | G57: =E57*F57 -> 0 | H57: 3 | I57: =$F57* $H57/60 -> 0
A58: =IF(IFERROR(F58*1,0)>0,A57+1,A57) -> 1 | C58: Straight male adapter 50mm x 1-1/2" MNPT | D58: TP3-50-24M | E58: 102.99575 | G58: =E58*F58 -> 0 | H58: 5 | I58: =$F58* $H58/60 -> 0
A59: =IF(IFERROR(F59*1,0)>0,A58+1,A58) -> 1 | C59: Straight male adapter 50mm x 2" MNPT | D59: TP3-50-32M | E59: 107.3925 | G59: =E59*F59 -> 0 | H59: 5 | I59: =$F59* $H59/60 -> 0
A60: =IF(IFERROR(F60*1,0)>0,A59+1,A59) -> 1 | C60: Straight male adapter 63mm x 2" MNPT | D60: TP3-63-32M | E60: 110.7465 | G60: =E60*F60 -> 0 | H60: 5 | I60: =$F60* $H60/60 -> 0
A61: =IF(IFERROR(F61*1,0)>0,A60+1,A60) -> 1 | C61: Straight male adapter 63mm x 2 -1/2" MNPT | D61: TP3-63-40M | E61: 114.71325 | G61: =E61*F61 -> 0 | H61: 5 | I61: =$F61* $H61/60 -> 0
A62: =IF(IFERROR(F62*1,0)>0,A61+1,A61) -> 1 | C62: Straight Female Adaper
A63: =IF(IFERROR(F63*1,0)>0,A62+1,A62) -> 1 | B63: #VALUE! | C63: Straight female adapter 20mm x 1/2" FNPT | D63: TP3-20-08F | E63: 46.8396 | G63: =E63*F63 -> 0 | H63: 3 | I63: =$F63* $H63/60 -> 0
A64: =IF(IFERROR(F64*1,0)>0,A63+1,A63) -> 1 | C64: Straight female adapter 25mm x 1" FNPT | D64: TP3-25-16F | E64: 55.3824 | G64: =E64*F64 -> 0 | H64: 3 | I64: =$F64* $H64/60 -> 0
A65: =IF(IFERROR(F65*1,0)>0,A64+1,A64) -> 1 | C65: Straight female adapter 32mm x 1" FNPT | D65: TP3-32-16F | E65: 58.824 | G65: =E65*F65 -> 0 | H65: 3 | I65: =$F65* $H65/60 -> 0
A66: =IF(IFERROR(F66*1,0)>0,A65+1,A65) -> 1 | C66: Straight female adapter 40mm x 1 -1/2" FNPT | D66: TP3-40-24F | E66: 71.36925 | G66: =E66*F66 -> 0 | H66: 3 | I66: =$F66* $H66/60 -> 0
A67: =IF(IFERROR(F67*1,0)>0,A66+1,A66) -> 1 | C67: Straight female adapter 50mm x 2" FNPT | D67: TP3-50-32F | E67: 137.67525 | G67: =E67*F67 -> 0 | H67: 5 | I67: =$F67* $H67/60 -> 0
A68: =IF(IFERROR(F68*1,0)>0,A67+1,A67) -> 1 | C68: Straight Union
A69: =IF(IFERROR(F69*1,0)>0,A68+1,A68) -> 1 | B69: #VALUE! | C69: Straight Union Connector 20mm | D69: TP2-20 | E69: 29.7324 | G69: =E69*F69 -> 0 | H69: 3 | I69: =$F69* $H69/60 -> 0
A70: =IF(IFERROR(F70*1,0)>0,A69+1,A69) -> 1 | C70: Straight Union Connector 25mm | D70: TP2-25 | E70: 39.2364 | G70: =E70*F70 -> 0 | H70: 3 | I70: =$F70* $H70/60 -> 0
A71: =IF(IFERROR(F71*1,0)>0,A70+1,A70) -> 1 | C71: Straight Union Connector 32mm | D71: TP2-32 | E71: 54.87875 | G71: =E71*F71 -> 0 | H71: 3 | I71: =$F71* $H71/60 -> 0
A72: =IF(IFERROR(F72*1,0)>0,A71+1,A71) -> 1 | C72: Straight Union Connector 40mm | D72: TP2-40 | E72: 78.05575 | G72: =E72*F72 -> 0 | H72: 3 | I72: =$F72* $H72/60 -> 0
A73: =IF(IFERROR(F73*1,0)>0,A72+1,A72) -> 1 | C73: Straight Union Connector 50mm | D73: TP2-50 | E73: 119.20675 | G73: =E73*F73 -> 0 | H73: 5 | I73: =$F73* $H73/60 -> 0
A74: =IF(IFERROR(F74*1,0)>0,A73+1,A73) -> 1 | C74: Straight Union Connector 63mm | D74: TP2-63 | E74: 141.52375 | G74: =E74*F74 -> 0 | H74: 5 | I74: =$F74* $H74/60 -> 0
A75: =IF(IFERROR(F75*1,0)>0,A74+1,A74) -> 1 | C75: Straight Union w/ Ports
A76: =IF(IFERROR(F76*1,0)>0,A75+1,A75) -> 1 | B76: #VALUE! | C76: Straight Union Connector 20mm w/ 1/2" FNPT Ports | D76: TP2-20-08F | E76: 62.816116 | G76: =E76*F76 -> 0 | H76: 3 | I76: =$F76* $H76/60 -> 0
A77: =IF(IFERROR(F77*1,0)>0,A76+1,A76) -> 1 | C77: Straight Union Connector 25mm w/ 1/2" FNPT Ports | D77: TP2-25-08F | E77: 68.072206 | G77: =E77*F77 -> 0 | H77: 3 | I77: =$F77* $H77/60 -> 0
A78: =IF(IFERROR(F78*1,0)>0,A77+1,A77) -> 1 | C78: Straight Union Connector 32mm w/ 1/2" FNPT Ports | D78: TP2-32-08F | E78: 74.91875 | G78: =E78*F78 -> 0 | H78: 3 | I78: =$F78* $H78/60 -> 0
A79: =IF(IFERROR(F79*1,0)>0,A78+1,A78) -> 1 | C79: Straight Union Connector 40mm w/ 1/2" FNPT Ports | D79: TP2-40-08F | E79: 100.72875 | G79: =E79*F79 -> 0 | H79: 3 | I79: =$F79* $H79/60 -> 0
A80: =IF(IFERROR(F80*1,0)>0,A79+1,A79) -> 1 | C80: Straight Union Connector 50mm w/ 1/2" FNPT Ports | D80: TP2-50-08F | E80: 153.61599 | G80: =E80*F80 -> 0 | H80: 5 | I80: =$F80* $H80/60 -> 0
A81: =IF(IFERROR(F81*1,0)>0,A80+1,A80) -> 1 | C81: Straight Union Connector 63mm w/ 1/2" FNPT Ports | D81: TP2-63-08F | E81: 227.69766 | G81: =E81*F81 -> 0 | H81: 5 | I81: =$F81* $H81/60 -> 0
A82: =IF(IFERROR(F82*1,0)>0,A81+1,A81) -> 1 | C82: 90° Elbow
A83: =IF(IFERROR(F83*1,0)>0,A82+1,A82) -> 1 | B83: #VALUE! | C83: 90˚ Union Elbow 20mm | D83: TP6-20 | E83: 30.39188 | G83: =E83*F83 -> 0 | H83: 3 | I83: =$F83* $H83/60 -> 0
A84: =IF(IFERROR(F84*1,0)>0,A83+1,A83) -> 1 | C84: 90˚ Union Elbow 25mm | D84: TP6-25 | E84: 42.550969 | G84: =E84*F84 -> 0 | H84: 3 | I84: =$F84* $H84/60 -> 0
A85: =IF(IFERROR(F85*1,0)>0,A84+1,A84) -> 1 | C85: 90˚ Union Elbow 32mm | D85: TP6-32 | E85: 63.490269 | G85: =E85*F85 -> 0 | H85: 3 | I85: =$F85* $H85/60 -> 0
A86: =IF(IFERROR(F86*1,0)>0,A85+1,A85) -> 1 | C86: 90˚ Union Elbow 40mm | D86: TP6-40 | E86: 87.126181 | G86: =E86*F86 -> 0 | H86: 3 | I86: =$F86* $H86/60 -> 0
A87: =IF(IFERROR(F87*1,0)>0,A86+1,A86) -> 1 | C87: 90˚ Union Elbow 50mm | D87: TP6-50 | E87: 133.11913 | G87: =E87*F87 -> 0 | H87: 5 | I87: =$F87* $H87/60 -> 0
A88: =IF(IFERROR(F88*1,0)>0,A87+1,A87) -> 1 | C88: 90˚ Union Elbow 63mm | D88: TP6-63 | E88: 149.86075 | G88: =E88*F88 -> 0 | H88: 5 | I88: =$F88* $H88/60 -> 0
A89: =IF(IFERROR(F89*1,0)>0,A88+1,A88) -> 1 | C89: 90° Elbow X NPT
A90: =IF(IFERROR(F90*1,0)>0,A89+1,A89) -> 1 | C90: 90˚ Street Elbow 20mm x 1/2" MNPT | D90: TP6-20-08M | E90: 58.319239 | G90: =E90*F90 -> 0 | H90: 3 | I90: =$F90* $H90/60 -> 0
A91: =IF(IFERROR(F91*1,0)>0,A90+1,A90) -> 1 | C91: 90˚ Street Elbow 20mm x 3/4" MNPT | D91: TP6-20-12M | E91: 60.024548 | G91: =E91*F91 -> 0 | H91: 3 | I91: =$F91* $H91/60 -> 0
A92: =IF(IFERROR(F92*1,0)>0,A91+1,A91) -> 1 | B92: #VALUE! | C92: 90˚ Street Elbow 25mm x 3/4" MNPT | D92: TP6-25-12M | E92: 77.393005 | G92: =E92*F92 -> 0 | H92: 3 | I92: =$F92* $H92/60 -> 0
A93: =IF(IFERROR(F93*1,0)>0,A92+1,A92) -> 1 | C93: 90˚ Street Elbow 25mm x 1" MNPT | D93: TP6-25-16M | E93: 81.889882 | G93: =E93*F93 -> 0 | H93: 3 | I93: =$F93* $H93/60 -> 0
A94: =IF(IFERROR(F94*1,0)>0,A93+1,A93) -> 1 | C94: 90˚ Street Elbow 32mm x 1" MNPT | D94: TP6-32-16M | E94: 115.04051 | G94: =E94*F94 -> 0 | H94: 3 | I94: =$F94* $H94/60 -> 0
A95: =IF(IFERROR(F95*1,0)>0,A94+1,A94) -> 1 | C95: 90˚ Street Elbow 40mm x 1-1/2" MNPT | D95: TP6-40-24M | E95: 157.88278 | G95: =E95*F95 -> 0 | H95: 3 | I95: =$F95* $H95/60 -> 0
A96: =IF(IFERROR(F96*1,0)>0,A95+1,A95) -> 1 | C96: 90˚ Street Elbow 50mm x 1-1/2" MNPT | D96: TP6-50-24M | E96: 241.25372 | G96: =E96*F96 -> 0 | H96: 5 | I96: =$F96* $H96/60 -> 0
A97: =IF(IFERROR(F97*1,0)>0,A96+1,A96) -> 1 | C97: 90˚ Street Elbow 50mm x 2" MNPT | D97: TP6-50-32M | E97: 246.05531 | G97: =E97*F97 -> 0 | H97: 5 | I97: =$F97* $H97/60 -> 0
A98: =IF(IFERROR(F98*1,0)>0,A97+1,A97) -> 1 | C98: 90˚ Street Elbow 63mm x 2" MNPT | D98: TP6-63-32M | E98: 271.2375 | G98: =E98*F98 -> 0 | H98: 5 | I98: =$F98* $H98/60 -> 0
A99: =IF(IFERROR(F99*1,0)>0,A98+1,A98) -> 1 | C99: 90˚ Street Elbow 63mm x 2-1/2" MNPT | D99: TP6-63-40M | E99: 283.09614 | G99: =E99*F99 -> 0 | H99: 5 | I99: =$F99* $H99/60 -> 0
A100: =IF(IFERROR(F100*1,0)>0,A99+1,A99) -> 1 | C100: 45° Elbow
A101: =IF(IFERROR(F101*1,0)>0,A100+1,A100) -> 1 | B101: #VALUE! | C101: 45˚ Union Elbow 20mm | D101: TP8-20 | E101: 33.043286 | G101: =E101*F101 -> 0 | H101: 3 | I101: =$F101* $H101/60 -> 0
A102: =IF(IFERROR(F102*1,0)>0,A101+1,A101) -> 1 | C102: 45˚ Union Elbow 25mm | D102: TP8-25 | E102: 47.269769 | G102: =E102*F102 -> 0 | H102: 3 | I102: =$F102* $H102/60 -> 0
A103: =IF(IFERROR(F103*1,0)>0,A102+1,A102) -> 1 | C103: 45˚ Union Elbow 32mm | D103: TP8-32 | E103: 65.838746 | G103: =E103*F103 -> 0 | H103: 3 | I103: =$F103* $H103/60 -> 0
A104: =IF(IFERROR(F104*1,0)>0,A103+1,A103) -> 1 | C104: 45˚ Union Elbow 40mm | D104: TP8-40 | E104: 90.637271 | G104: =E104*F104 -> 0 | H104: 3 | I104: =$F104* $H104/60 -> 0
A105: =IF(IFERROR(F105*1,0)>0,A104+1,A104) -> 1 | C105: 45˚ Union Elbow 50mm | D105: TP8-50 | E105: 220.31 | G105: =E105*F105 -> 0 | H105: 5 | I105: =$F105* $H105/60 -> 0
A106: =IF(IFERROR(F106*1,0)>0,A105+1,A105) -> 1 | C106: 45˚ Union Elbow 63mm | D106: TP8-63 | E106: 261.65757 | G106: =E106*F106 -> 0 | H106: 5 | I106: =$F106* $H106/60 -> 0
A107: =IF(IFERROR(F107*1,0)>0,A106+1,A106) -> 1 | C107: Equal Tee
A108: =IF(IFERROR(F108*1,0)>0,A107+1,A107) -> 1 | B108: #VALUE! | C108: Junction Tee 20mm | D108: TP9-20 | E108: 52.16 | G108: =E108*F108 -> 0 | H108: 4 | I108: =$F108* $H108/60 -> 0
...

Sheet ORDER SUMMARY
B1: TruLink Summary | D1: DISCOUNT: | F1: TOTAL LIST PRICE: | G1: =SUM(F5:F397) -> 0 | H1: =IF(G2<150,"Below Minimum","Above Minimum") -> Below Minimum | J1: **As of Jan 1st 2026, there will be a $100 service charge per stick of tubing cut in half**
D2: AMOUNT SAVED: | E2: =G1-G2 -> 0 | F2: FINAL COST: | G2: =SUM(G5:G397) -> 0 | H2: * Labor Hours: | I2: =SUM(I5:I350) -> 0 | J2: *Click Here To See Labor Hour Multiplier Tab* | N2: **A Minimum Dealer Net (DN) Purchase Amount of $150 is Required Fot ALL Orders**
A4: ROW | B4: DESCRIPTION | C4: TRULINK PN | D4: LIST PRICE | E4: QUANTITY | F4: TOTAL PRICE | G4: DISCOUNTED PRICE | H4: Labor (Mins) | I4: Labor Hours | J4: Notes
A5: 2 | B5: =IFERROR(VLOOKUP($A5,'MASTER PRICE LIST'!$A$15:$G$1053,3,0),"") | C5: =IFERROR(VLOOKUP($A5,'MASTER PRICE LIST'!$A$15:$G$1053,4,0),"") | D5: =IFERROR(VLOOKUP($A5,'MASTER PRICE LIST'!$A$15:$G$1053,5,0),"") | E5: =IFERROR(VLOOKUP($A5,'MASTER PRICE LIST'!$A$15:$G$1053,6,0),"") | F5: =IFERROR(VLOOKUP($A5,'MASTER PRICE LIST'!$A$15:$G$1053,7,0),"") | G5: =IFERROR(F5-(F5*$E$1%),"") | H5: =IFERROR(VLOOKUP($A5,'MASTER PRICE LIST'!$A$15:$I$1053,8,0),"") | I5: =IFERROR(VLOOKUP($A5,'MASTER PRICE LIST'!$A$15:$I$1053,9,0),"")
A6: 3 | B6: =IFERROR(VLOOKUP($A6,'MASTER PRICE LIST'!$A$15:$G$1053,3,0),"") | C6: =IFERROR(VLOOKUP($A6,'MASTER PRICE LIST'!$A$15:$G$1053,4,0),"") | D6: =IFERROR(VLOOKUP($A6,'MASTER PRICE LIST'!$A$15:$G$1053,5,0),"") | E6: =IFERROR(VLOOKUP($A6,'MASTER PRICE LIST'!$A$15:$G$1053,6,0),"") | F6: =IFERROR(VLOOKUP($A6,'MASTER PRICE LIST'!$A$15:$G$1053,7,0),"") | G6: =IFERROR(F6-(F6*$E$1%),"") | H6: =IFERROR(VLOOKUP($A6,'MASTER PRICE LIST'!$A$15:$I$1053,8,0),"") | I6: =IFERROR(VLOOKUP($A6,'MASTER PRICE LIST'!$A$15:$I$1053,9,0),"")
A7: 4 | B7: =IFERROR(VLOOKUP($A7,'MASTER PRICE LIST'!$A$15:$G$1053,3,0),"") | C7: =IFERROR(VLOOKUP($A7,'MASTER PRICE LIST'!$A$15:$G$1053,4,0),"") | D7: =IFERROR(VLOOKUP($A7,'MASTER PRICE LIST'!$A$15:$G$1053,5,0),"") | E7: =IFERROR(VLOOKUP($A7,'MASTER PRICE LIST'!$A$15:$G$1053,6,0),"") | F7: =IFERROR(VLOOKUP($A7,'MASTER PRICE LIST'!$A$15:$G$1053,7,0),"") | G7: =IFERROR(F7-(F7*$E$1%),"") | H7: =IFERROR(VLOOKUP($A7,'MASTER PRICE LIST'!$A$15:$I$1053,8,0),"") | I7: =IFERROR(VLOOKUP($A7,'MASTER PRICE LIST'!$A$15:$I$1053,9,0),"")
A8: 5 | B8: =IFERROR(VLOOKUP($A8,'MASTER PRICE LIST'!$A$15:$G$1053,3,0),"") | C8: =IFERROR(VLOOKUP($A8,'MASTER PRICE LIST'!$A$15:$G$1053,4,0),"") | D8: =IFERROR(VLOOKUP($A8,'MASTER PRICE LIST'!$A$15:$G$1053,5,0),"") | E8: =IFERROR(VLOOKUP($A8,'MASTER PRICE LIST'!$A$15:$G$1053,6,0),"") | F8: =IFERROR(VLOOKUP($A8,'MASTER PRICE LIST'!$A$15:$G$1053,7,0),"") | G8: =IFERROR(F8-(F8*$E$1%),"") | H8: =IFERROR(VLOOKUP($A8,'MASTER PRICE LIST'!$A$15:$I$1053,8,0),"") | I8: =IFERROR(VLOOKUP($A8,'MASTER PRICE LIST'!$A$15:$I$1053,9,0),"")
A9: 6 | B9: =IFERROR(VLOOKUP($A9,'MASTER PRICE LIST'!$A$15:$G$1053,3,0),"") | C9: =IFERROR(VLOOKUP($A9,'MASTER PRICE LIST'!$A$15:$G$1053,4,0),"") | D9: =IFERROR(VLOOKUP($A9,'MASTER PRICE LIST'!$A$15:$G$1053,5,0),"") | E9: =IFERROR(VLOOKUP($A9,'MASTER PRICE LIST'!$A$15:$G$1053,6,0),"") | F9: =IFERROR(VLOOKUP($A9,'MASTER PRICE LIST'!$A$15:$G$1053,7,0),"") | G9: =IFERROR(F9-(F9*$E$1%),"") | H9: =IFERROR(VLOOKUP($A9,'MASTER PRICE LIST'!$A$15:$I$1053,8,0),"") | I9: =IFERROR(VLOOKUP($A9,'MASTER PRICE LIST'!$A$15:$I$1053,9,0),"")
A10: 7 | B10: =IFERROR(VLOOKUP($A10,'MASTER PRICE LIST'!$A$15:$G$1053,3,0),"") | C10: =IFERROR(VLOOKUP($A10,'MASTER PRICE LIST'!$A$15:$G$1053,4,0),"") | D10: =IFERROR(VLOOKUP($A10,'MASTER PRICE LIST'!$A$15:$G$1053,5,0),"") | E10: =IFERROR(VLOOKUP($A10,'MASTER PRICE LIST'!$A$15:$G$1053,6,0),"") | F10: =IFERROR(VLOOKUP($A10,'MASTER PRICE LIST'!$A$15:$G$1053,7,0),"") | G10: =IFERROR(F10-(F10*$E$1%),"") | H10: =IFERROR(VLOOKUP($A10,'MASTER PRICE LIST'!$A$15:$I$1053,8,0),"") | I10: =IFERROR(VLOOKUP($A10,'MASTER PRICE LIST'!$A$15:$I$1053,9,0),"")
A11: 8 | B11: =IFERROR(VLOOKUP($A11,'MASTER PRICE LIST'!$A$15:$G$1053,3,0),"") | C11: =IFERROR(VLOOKUP($A11,'MASTER PRICE LIST'!$A$15:$G$1053,4,0),"") | D11: =IFERROR(VLOOKUP($A11,'MASTER PRICE LIST'!$A$15:$G$1053,5,0),"") | E11: =IFERROR(VLOOKUP($A11,'MASTER PRICE LIST'!$A$15:$G$1053,6,0),"") | F11: =IFERROR(VLOOKUP($A11,'MASTER PRICE LIST'!$A$15:$G$1053,7,0),"") | G11: =IFERROR(F11-(F11*$E$1%),"") | H11: =IFERROR(VLOOKUP($A11,'MASTER PRICE LIST'!$A$15:$I$1053,8,0),"") | I11: =IFERROR(VLOOKUP($A11,'MASTER PRICE LIST'!$A$15:$I$1053,9,0),"")
A12: 9 | B12: =IFERROR(VLOOKUP($A12,'MASTER PRICE LIST'!$A$15:$G$1053,3,0),"") | C12: =IFERROR(VLOOKUP($A12,'MASTER PRICE LIST'!$A$15:$G$1053,4,0),"") | D12: =IFERROR(VLOOKUP($A12,'MASTER PRICE LIST'!$A$15:$G$1053,5,0),"") | E12: =IFERROR(VLOOKUP($A12,'MASTER PRICE LIST'!$A$15:$G$1053,6,0),"") | F12: =IFERROR(VLOOKUP($A12,'MASTER PRICE LIST'!$A$15:$G$1053,7,0),"") | G12: =IFERROR(F12-(F12*$E$1%),"") | H12: =IFERROR(VLOOKUP($A12,'MASTER PRICE LIST'!$A$15:$I$1053,8,0),"") | I12: =IFERROR(VLOOKUP($A12,'MASTER PRICE LIST'!$A$15:$I$1053,9,0),"")
A13: 10 | B13: =IFERROR(VLOOKUP($A13,'MASTER PRICE LIST'!$A$15:$G$1053,3,0),"") | C13: =IFERROR(VLOOKUP($A13,'MASTER PRICE LIST'!$A$15:$G$1053,4,0),"") | D13: =IFERROR(VLOOKUP($A13,'MASTER PRICE LIST'!$A$15:$G$1053,5,0),"") | E13: =IFERROR(VLOOKUP($A13,'MASTER PRICE LIST'!$A$15:$G$1053,6,0),"") | F13: =IFERROR(VLOOKUP($A13,'MASTER PRICE LIST'!$A$15:$G$1053,7,0),"") | G13: =IFERROR(F13-(F13*$E$1%),"") | H13: =IFERROR(VLOOKUP($A13,'MASTER PRICE LIST'!$A$15:$I$1053,8,0),"") | I13: =IFERROR(VLOOKUP($A13,'MASTER PRICE LIST'!$A$15:$I$1053,9,0),"")
A14: 11 | B14: =IFERROR(VLOOKUP($A14,'MASTER PRICE LIST'!$A$15:$G$1053,3,0),"") | C14: =IFERROR(VLOOKUP($A14,'MASTER PRICE LIST'!$A$15:$G$1053,4,0),"") | D14: =IFERROR(VLOOKUP($A14,'MASTER PRICE LIST'!$A$15:$G$1053,5,0),"") | E14: =IFERROR(VLOOKUP($A14,'MASTER PRICE LIST'!$A$15:$G$1053,6,0),"") | F14: =IFERROR(VLOOKUP($A14,'MASTER PRICE LIST'!$A$15:$G$1053,7,0),"") | G14: =IFERROR(F14-(F14*$E$1%),"") | H14: =IFERROR(VLOOKUP($A14,'MASTER PRICE LIST'!$A$15:$I$1053,8,0),"") | I14: =IFERROR(VLOOKUP($A14,'MASTER PRICE LIST'!$A$15:$I$1053,9,0),"")
A15: 12 | B15: =IFERROR(VLOOKUP($A15,'MASTER PRICE LIST'!$A$15:$G$1053,3,0),"") | C15: =IFERROR(VLOOKUP($A15,'MASTER PRICE LIST'!$A$15:$G$1053,4,0),"") | D15: =IFERROR(VLOOKUP($A15,'MASTER PRICE LIST'!$A$15:$G$1053,5,0),"") | E15: =IFERROR(VLOOKUP($A15,'MASTER PRICE LIST'!$A$15:$G$1053,6,0),"") | F15: =IFERROR(VLOOKUP($A15,'MASTER PRICE LIST'!$A$15:$G$1053,7,0),"") | G15: =IFERROR(F15-(F15*$E$1%),"") | H15: =IFERROR(VLOOKUP($A15,'MASTER PRICE LIST'!$A$15:$I$1053,8,0),"") | I15: =IFERROR(VLOOKUP($A15,'MASTER PRICE LIST'!$A$15:$I$1053,9,0),"")
A16: 13 | B16: =IFERROR(VLOOKUP($A16,'MASTER PRICE LIST'!$A$15:$G$1053,3,0),"") | C16: =IFERROR(VLOOKUP($A16,'MASTER PRICE LIST'!$A$15:$G$1053,4,0),"") | D16: =IFERROR(VLOOKUP($A16,'MASTER PRICE LIST'!$A$15:$G$1053,5,0),"") | E16: =IFERROR(VLOOKUP($A16,'MASTER PRICE LIST'!$A$15:$G$1053,6,0),"") | F16: =IFERROR(VLOOKUP($A16,'MASTER PRICE LIST'!$A$15:$G$1053,7,0),"") | G16: =IFERROR(F16-(F16*$E$1%),"") | H16: =IFERROR(VLOOKUP($A16,'MASTER PRICE LIST'!$A$15:$I$1053,8,0),"") | I16: =IFERROR(VLOOKUP($A16,'MASTER PRICE LIST'!$A$15:$I$1053,9,0),"")
... A393: 390 | B393: =IFERROR(VLOOKUP($A393,'MASTER PRICE LIST'!$A$15:$G$1053,3,0),"") | C393: =IFERROR(VLOOKUP($A393,'MASTER PRICE LIST'!$A$15:$G$1053,4,0),"") | D393: =IFERROR(VLOOKUP($A393,'MASTER PRICE LIST'!$A$15:$G$1053,5,0),"") | E393: =IFERROR(VLOOKUP($A393,'MASTER PRICE LIST'!$A$15:$G$1053,6,0),"") | F393: =IFERROR(VLOOKUP($A393,'MASTER PRICE LIST'!$A$15:$G$1053,7,0),"") | G393: =IFERROR(F393-(F393*$E$1%),"") | H393: =IFERROR(VLOOKUP($A393,'MASTER PRICE LIST'!$A$15:$I$1053,8,0),"") | I393: =IFERROR(VLOOKUP($A393,'MASTER PRICE LIST'!$A$15:$I$1053,9,0),"")
H394: =IFERROR(VLOOKUP($A394,'MASTER PRICE LIST'!$A$15:$G$1053,8,0),"")
A396: 800 | B396: =IFERROR(VLOOKUP($A396,'MASTER PRICE LIST'!$A$15:$G$1053,3,0),"") | C396: =IFERROR(VLOOKUP($A396,'MASTER PRICE LIST'!$A$15:$G$1053,4,0),"") | D396: =IFERROR(VLOOKUP($A396,'MASTER PRICE LIST'!$A$15:$G$1053,5,0),"") | E396: =IFERROR(VLOOKUP($A396,'MASTER PRICE LIST'!$A$15:$G$1053,6,0),"") | F396: =IFERROR(VLOOKUP($A396,'MASTER PRICE LIST'!$A$15:$G$1053,7,0),"") | G396: =IFERROR(F396-(F396*$E$1%),"")

Sheet Labor Multiplier
