Workbook

Sheet Data
B2: Instructions
B4: Enter distributor and customer information in the grey boxes below
B5: Enter all information applicable to your project in the blue boxes below ( Labor, Permits, Rentals, Travel and Outside purchases)
B6: On the estimator page enter the quantities of tubing, parts & accessories required in the green boxes (all other boxes are protected)
B7: Enter estimated Freight cost in the blue box provided at the bottom of the estimator page. (Freight estimate can be provided upon request)
B9: Distributor Name:
B11: Customer Name:
B13: Enter Labor Cost / Hour | C13: $
B15: Local Permits/Fees | C15: $
B17: Equipment Rental | C17: $
B19: Estimated Travel Expenses | C19: $
B21: The Parts Summary sheet will show a summarized bill of materials with only the list price computed. Not the labor hours or total job estimate including freight, permits, etc.
B22: The Misc tab will include a section for misc. items that can be included to figure the total estimate for a project. Total will add back into the Estimator total (not summary total)
B24: NOTE:
B25: Labor hours cannot be accuratly provided as there are many variables to consider. Job specifics, distributor's ability and competence will vary.
B26: Installation times vary greatly depending on experience, customer requirements, availability of lifts and equipment on site, and other factors.
B27: Contact Applied System Technologies for assistance at 704-947-6966
B29: NOTE:
B30: Labor hours cannot be accuratly provided as there are many variables to consider. Job specifics, distributor's ability and competence will vary.
B31: Installation times vary greatly depending on experience, customer requirements, availability of lifts and equipment on site, and other factors.
B32: Contact Applied System Technologies for assistance at 704-947-6966
B34: We recommend using the labor multiplier below to more accuratly account for ancilary time based on the difficulty of the installation:
B35: Choose the multiplier that best describes site conditions, then multiply the total labor hours advertised in this estimator by the appropriate multiplier.

Sheet Misc
A1: List of Non-Elevation Parts Below
C2: Total Misc Parts | D2: =SUM(D5:D100) -> 0
A4: Misc Parts | B4: Price | C4: Qty | D4: Total Price
D6: =SUM(B6*C6) -> 0
D7: =SUM(B7*C7) -> 0
D8: =SUM(B8*C8) -> 0
D9: =SUM(B9*C9) -> 0
D10: =SUM(B10*C10) -> 0
D11: =SUM(B11*C11) -> 0
D12: =SUM(B12*C12) -> 0
D13: =SUM(B13*C13) -> 0
D14: =SUM(B14*C14) -> 0
D15: =SUM(B15*C15) -> 0
D16: =SUM(B16*C16) -> 0
D17: =SUM(B17*C17) -> 0
... D43: =SUM(B43*C43) -> 0
D44: =IF(C44>0,B44*C44,"")
D45: =IF(C45>0,B45*C45,"")
D46: =IF(C46>0,B46*C46,"")
D47: =IF(C47>0,B47*C47,"")
D48: =IF(C48>0,B48*C48,"")
D49: =IF(C49>0,B49*C49,"")
D50: =IF(C50>0,B50*C50,"")
D51: =IF(C51>0,B51*C51,"")
D52: =IF(C52>0,B52*C52,"")
D53: =IF(C53>0,B53*C53,"")
D54: =IF(C54>0,B54*C54,"")

Sheet Estimator
B2: Customer: | C2: =(Data!D11) -> 0
B5: Parts | G5: Price | I5: Weight | K5: Labor
A6: 1 | C6: Description | D6: Part Number | E6: QTY | F6: BOX QTY | G6: LIST (ea) | H6: Total List | I6: UNIT (lbs) | J6: Total Weight | K6: Labor (mins) | L6: Labor Hours | M6: Total Labor Cost | N6: Total Parts & Labor
A7: =IF(E7>0,A6+1,A6) -> 1 | B7: **As of January 1st 2026, NO grooved tubing will be cut in half** | O7: Percent Full
A8: =IF(E8>0,A7+1,A7) -> 1 | B8: **Minimum Order - Total Dealer Net Must Be $150 or Above**
A9: =IF(E9>0,A7+1,A7) -> 1 | C9: 73mm - Tubing Blue (16ft Length) | D9: 10000-70-AIR-BLUE | F9: 9 | G9: 273.72 | H9: =G9*E9 -> 0 | I9: 12.3 | J9: =I9*E9 -> 0 | K9: 18 | L9: =(K9*E9)/60 -> 0 | M9: =L9*Data!$D$13 -> 0 | N9: =M9+H9 -> 0 | O9: =E9/F9 -> 0 | Q9: 168.78 | S9: =SUM(Q9*1.06) -> 178.9068
A10: =IF(E10>0,A9+1,A9) -> 1 | C10: 90mm - Tubing Blue (16ft Length) | D10: 10000-90-AIR-BLUE | F10: 5 | G10: 371.11 | H10: =G10*E10 -> 0 | I10: 16.77 | J10: =I10*E10 -> 0 | K10: 18 | L10: =(K10*E10)/60 -> 0 | M10: =L10*Data!$D$13 -> 0 | N10: =M10+H10 -> 0 | O10: =E10/F10 -> 0 | Q10: 228.84 | S10: =SUM(Q10*1.06) -> 242.5704
A11: =IF(E11>0,A10+1,A10) -> 1 | C11: 115mm - Tubing Blue (16ft Length) | D11: 10000-115-AIR-BLUE | F11: 4 | G11: 471.25 | H11: =G11*E11 -> 0 | I11: 21.66 | J11: =I11*E11 -> 0 | K11: 20 | L11: =(K11*E11)/60 -> 0 | M11: =L11*Data!$D$13 -> 0 | N11: =M11+H11 -> 0 | O11: =E11/F11 -> 0 | Q11: 287.9 | S11: =SUM(Q11*1.06) -> 305.174
A12: =IF(E12>0,A11+1,A11) -> 1 | C12: 168mm - Tubing Blue (16ft Length) | D12: 10000-168-AIR-BLUE | F12: 1 | G12: 990.86 | H12: =G12*E12 -> 0 | I12: 50 | J12: =I12*E12 -> 0 | K12: 20 | L12: =(K12*E12)/60 -> 0 | M12: =L12*Data!$D$13 -> 0 | N12: =M12+H12 -> 0 | O12: =E12/F12 -> 0 | Q12: 605.32 | S12: =SUM(Q12*1.06) -> 641.6392
A13: =IF(E13>0,A12+1,A12) -> 1 | C13: 220mm - Tubing Blue (16ft Length) | D13: 10000-220-AIR-BLUE | F13: 1 | G13: 1539.34 | H13: =G13*E13 -> 0 | I13: 73.92 | J13: =I13*E13 -> 0 | K13: 20 | L13: =(K13*E13)/60 -> 0 | M13: =L13*Data!$D$13 -> 0 | N13: =M13+H13 -> 0 | O13: =E13/F13 -> 0 | Q13: 940.39 | S13: =SUM(Q13*1.06) -> 996.8134
S14: =SUM(Q14*1.06) -> 0
A15: =IF(E15>0,A13+1,A13) -> 1 | C15: 73mm - Tubing Black (16ft Length) | D15: 10000-70-GAS-BLACK | F15: 9 | G15: 287.41 | H15: =G15*E15 -> 0 | I15: 12.3 | J15: =I15*E15 -> 0 | K15: 18 | L15: =(K15*E15)/60 -> 0 | M15: =L15*Data!$D$13 -> 0 | N15: =M15+H15 -> 0 | O15: =E15/F15 -> 0 | Q15: 168.78 | S15: =SUM(Q15*1.06) -> 178.9068
A16: =IF(E16>0,A15+1,A15) -> 1 | C16: 90mm - Tubing Black (16ft Length) | D16: 10000-90-GAS-BLACK | F16: 5 | G16: 389.66 | H16: =G16*E16 -> 0 | I16: 16.77 | J16: =I16*E16 -> 0 | K16: 18 | L16: =(K16*E16)/60 -> 0 | M16: =L16*Data!$D$13 -> 0 | N16: =M16+H16 -> 0 | O16: =E16/F16 -> 0 | Q16: 228.84 | S16: =SUM(Q16*1.06) -> 242.5704
A17: =IF(E17>0,A16+1,A16) -> 1 | C17: 115mm - Tubing Black (16ft Length) | D17: 10000-115-GAS-BLACK | F17: 4 | G17: 494.81 | H17: =G17*E17 -> 0 | I17: 21.66 | J17: =I17*E17 -> 0 | K17: 20 | L17: =(K17*E17)/60 -> 0 | M17: =L17*Data!$D$13 -> 0 | N17: =M17+H17 -> 0 | O17: =E17/F17 -> 0 | Q17: 287.9 | S17: =SUM(Q17*1.06) -> 305.174
A18: =IF(E18>0,A17+1,A17) -> 1 | C18: 168mm - Tubing Black (16ft Length) | D18: 10000-168-GAS-BLACK | F18: 1 | G18: 1065.17 | H18: =G18*E18 -> 0 | I18: 50 | J18: =I18*E18 -> 0 | K18: 20 | L18: =(K18*E18)/60 -> 0 | M18: =L18*Data!$D$13 -> 0 | N18: =M18+H18 -> 0 | O18: =E18/F18 -> 0 | Q18: 605.32 | S18: =SUM(Q18*1.06) -> 641.6392
A19: =IF(E19>0,A18+1,A18) -> 1 | C19: 220mm - Tubing Black (16ft Length) | D19: 10000-220-GAS-BLACK | F19: 1 | G19: 1654.79 | H19: =G19*E19 -> 0 | I19: 73.92 | J19: =I19*E19 -> 0 | K19: 20 | L19: =(K19*E19)/60 -> 0 | M19: =L19*Data!$D$13 -> 0 | N19: =M19+H19 -> 0 | O19: =E19/F19 -> 0 | Q19: 940.39 | S19: =SUM(Q19*1.06) -> 996.8134
S20: =SUM(Q20*1.06) -> 0
A21: =IF(E21>0,A19+1,A19) -> 1 | C21: 73mm - Tubing Grey (16ft Length) | D21: 10000-70-VAC-GREY | F21: 9 | G21: 287.41 | H21: =G21*E21 -> 0 | I21: 12.3 | J21: =I21*E21 -> 0 | K21: 18 | L21: =(K21*E21)/60 -> 0 | M21: =L21*Data!$D$13 -> 0 | N21: =M21+H21 -> 0 | O21: =E21/F21 -> 0 | Q21: 168.78 | S21: =SUM(Q21*1.06) -> 178.9068
A22: =IF(E22>0,A21+1,A21) -> 1 | C22: 90mm - Tubing Grey (16ft Length) | D22: 10000-90-VAC-GREY | F22: 5 | G22: 389.66 | H22: =G22*E22 -> 0 | I22: 16.77 | J22: =I22*E22 -> 0 | K22: 18 | L22: =(K22*E22)/60 -> 0 | M22: =L22*Data!$D$13 -> 0 | N22: =M22+H22 -> 0 | O22: =E22/F22 -> 0 | Q22: 228.84 | S22: =SUM(Q22*1.06) -> 242.5704
A23: =IF(E23>0,A22+1,A22) -> 1 | C23: 115mm - Tubing Grey (16ft Length) | D23: 10000-115-VAC-GREY | F23: 4 | G23: 494.81 | H23: =G23*E23 -> 0 | I23: 21.66 | J23: =I23*E23 -> 0 | K23: 20 | L23: =(K23*E23)/60 -> 0 | M23: =L23*Data!$D$13 -> 0 | N23: =M23+H23 -> 0 | O23: =E23/F23 -> 0 | Q23: 287.9 | S23: =SUM(Q23*1.06) -> 305.174
A24: =IF(E24>0,A23+1,A23) -> 1 | C24: 168mm - Tubing Grey (16ft Length) | D24: 10000-168-VAC-GREY | F24: 1 | G24: 1065.17 | H24: =G24*E24 -> 0 | I24: 50 | J24: =I24*E24 -> 0 | K24: 20 | L24: =(K24*E24)/60 -> 0 | M24: =L24*Data!$D$13 -> 0 | N24: =M24+H24 -> 0 | O24: =E24/F24 -> 0 | Q24: 605.32 | S24: =SUM(Q24*1.06) -> 641.6392
A25: =IF(E25>0,A24+1,A24) -> 1 | C25: 220mm - Tubing Grey (16ft Length) | D25: 10000-220-VAC-GREY | F25: 1 | G25: 1654.79 | H25: =G25*E25 -> 0 | I25: 73.92 | J25: =I25*E25 -> 0 | K25: 20 | L25: =(K25*E25)/60 -> 0 | M25: =L25*Data!$D$13 -> 0 | N25: =M25+H25 -> 0 | O25: =E25/F25 -> 0 | Q25: 940.39 | S25: =SUM(Q25*1.06) -> 996.8134
S26: =SUM(Q26*1.06) -> 0
A27: =IF(E27>0,A25+1,A25) -> 1 | C27: 73mm - Tubing Green (16ft Length) | D27: 10000-70-NITRO-GREEN | F27: 9 | G27: 287.41 | H27: =G27*E27 -> 0 | I27: 12.3 | J27: =I27*E27 -> 0 | K27: 18 | L27: =(K27*E27)/60 -> 0 | M27: =L27*Data!$D$13 -> 0 | N27: =M27+H27 -> 0 | O27: =E27/F27 -> 0 | Q27: 168.78 | S27: =SUM(Q27*1.06) -> 178.9068
A28: =IF(E28>0,A27+1,A27) -> 1 | C28: 90mm - Tubing Green (16ft Length) | D28: 10000-90-NITRO-GREEN | F28: 5 | G28: 389.66 | H28: =G28*E28 -> 0 | I28: 16.77 | J28: =I28*E28 -> 0 | K28: 18 | L28: =(K28*E28)/60 -> 0 | M28: =L28*Data!$D$13 -> 0 | N28: =M28+H28 -> 0 | O28: =E28/F28 -> 0 | Q28: 228.84 | S28: =SUM(Q28*1.06) -> 242.5704
A29: =IF(E29>0,A28+1,A28) -> 1 | C29: 115mm - Tubing Green (16ft Length) | D29: 10000-115-NITRO-GREEN | F29: 4 | G29: 494.81 | H29: =G29*E29 -> 0 | I29: 21.66 | J29: =I29*E29 -> 0 | K29: 20 | L29: =(K29*E29)/60 -> 0 | M29: =L29*Data!$D$13 -> 0 | N29: =M29+H29 -> 0 | O29: =E29/F29 -> 0 | Q29: 287.9 | S29: =SUM(Q29*1.06) -> 305.174
A30: =IF(E30>0,A29+1,A29) -> 1 | C30: 168mm - Tubing Green (16ft Length) | D30: 10000-168-NITRO-GREEN | F30: 1 | G30: 1065.17 | H30: =G30*E30 -> 0 | I30: 50 | J30: =I30*E30 -> 0 | K30: 20 | L30: =(K30*E30)/60 -> 0 | M30: =L30*Data!$D$13 -> 0 | N30: =M30+H30 -> 0 | O30: =E30/F30 -> 0 | Q30: 605.32 | S30: =SUM(Q30*1.06) -> 641.6392
A31: =IF(E31>0,A30+1,A30) -> 1 | C31: 220mm - Tubing Green (16ft Length) | D31: 10000-220-NITRO-GREEN | F31: 1 | G31: 1654.79 | H31: =G31*E31 -> 0 | I31: 73.92 | J31: =I31*E31 -> 0 | K31: 20 | L31: =(K31*E31)/60 -> 0 | M31: =L31*Data!$D$13 -> 0 | N31: =M31+H31 -> 0 | O31: =E31/F31 -> 0 | Q31: 940.39 | S31: =SUM(Q31*1.06) -> 996.8134
S32: =SUM(Q32*1.06) -> 0
A33: =IF(E33>0,A31+1,A31) -> 1 | C33: 73mm - ELEVATION Tubing Blue INKED | D33: 10000-70 -AIR-BLUE-INK | F33: 9 | G33: 301.78 | H33: =G33*E33 -> 0 | I33: 12.3 | J33: =I33*E33 -> 0 | K33: 18 | L33: =(K33*E33)/60 -> 0 | M33: =L33*Data!$D$13 -> 0 | N33: =M33+H33 -> 0 | O33: =E33/F33 -> 0 | Q33: 173.85 | S33: =SUM(Q33*1.06) -> 184.281
A34: =IF(E34>0,A33+1,A33) -> 1 | C34: 90mm - ELEVATION Tubing Blue INKED | D34: 10000-90 -AIR-BLUE-INK | F34: 5 | G34: 409.14 | H34: =G34*E34 -> 0 | I34: 16.77 | J34: =I34*E34 -> 0 | K34: 18 | L34: =(K34*E34)/60 -> 0 | M34: =L34*Data!$D$13 -> 0 | N34: =M34+H34 -> 0 | O34: =E34/F34 -> 0 | Q34: 235.71 | S34: =SUM(Q34*1.06) -> 249.8526
A35: =IF(E35>0,A34+1,A34) -> 1 | C35: 115mm - ELEVATION Tubing Blue INKED | D35: 10000-115-AIR-BLUE-INK | F35: 4 | G35: 519.55 | H35: =G35*E35 -> 0 | I35: 21.66 | J35: =I35*E35 -> 0 | K35: 20 | L35: =(K35*E35)/60 -> 0 | M35: =L35*Data!$D$13 -> 0 | N35: =M35+H35 -> 0 | O35: =E35/F35 -> 0 | Q35: 296.53 | S35: =SUM(Q35*1.06) -> 314.3218
A36: =IF(E36>0,A35+1,A35) -> 1 | C36: 168mm -ELEVATION Tubing Blue INKED | D36: 10000-168-AIR-BLUE-INK | F36: 1 | G36: 1118.43 | H36: =G36*E36 -> 0 | I36: 50 | J36: =I36*E36 -> 0 | K36: 20 | L36: =(K36*E36)/60 -> 0 | M36: =L36*Data!$D$13 -> 0 | N36: =M36+H36 -> 0 | O36: =E36/F36 -> 0 | Q36: 623.48 | S36: =SUM(Q36*1.06) -> 660.8888
A37: =IF(E37>0,A36+1,A36) -> 1 | C37: 220mm - ELEVATION Tubing Blue INKED | D37: 10000-220-AIR-BLUE-INK | F37: 1 | G37: 1737.52 | H37: =G37*E37 -> 0 | I37: 73.92 | J37: =I37*E37 -> 0 | K37: 20 | L37: =(K37*E37)/60 -> 0 | M37: =L37*Data!$D$13 -> 0 | N37: =M37+H37 -> 0 | O37: =E37/F37 -> 0 | Q37: 968.6 | S37: =SUM(Q37*1.06) -> 1026.716
A39: =IF(E39>0,A37+1,A37) -> 1 | C39: Adapter, 73mm TUBE to 1 1/2" NPT male | D39: 100011-70-24 | G39: 176.0059 | H39: =G39*E39 -> 0 | I39: 1.3 | J39: =I39*E39 -> 0 | K39: 7 | L39: =(K39*E39)/60 -> 0 | M39: =L39*Data!$D$13 -> 0 | N39: =M39+H39 -> 0 | Q39: 78.66 | S39: =SUM(Q39*1.06) -> 83.3796
A40: =IF(E40>0,A39+1,A39) -> 1 | C40: Adapter, 73mm TUBE to 2" NPT male | D40: 100011-70-32 | G40: 176.0059 | H40: =G40*E40 -> 0 | I40: 1.4 | J40: =I40*E40 -> 0 | K40: 7 | L40: =(K40*E40)/60 -> 0 | M40: =L40*Data!$D$13 -> 0 | N40: =M40+H40 -> 0 | Q40: 78.66 | S40: =SUM(Q40*1.06) -> 83.3796
A41: =IF(E41>0,A40+1,A40) -> 1 | C41: Adapter, 73mm TUBE to 2 1/2" NPT male | D41: 100011-70-40 | G41: 80.4921 | H41: =G41*E41 -> 0 | I41: 1.6 | J41: =I41*E41 -> 0 | K41: 7 | L41: =(K41*E41)/60 -> 0 | M41: =L41*Data!$D$13 -> 0 | N41: =M41+H41 -> 0 | Q41: 35.91 | S41: =SUM(Q41*1.06) -> 38.0646
A42: =IF(E42>0,A41+1,A41) -> 1 | C42: Adapter, 73mm TUBE to 2 1/2" NPT female | D42: 100011-70-40-F | G42: 241.012 | H42: =G42*E42 -> 0 | I42: 2 | J42: =I42*E42 -> 0 | K42: 7 | L42: =(K42*E42)/60 -> 0 | M42: =L42*Data!$D$13 -> 0 | N42: =M42+H42 -> 0 | Q42: 107.72 | S42: =SUM(Q42*1.06) -> 114.1832
A43: =IF(E43>0,A42+1,A42) -> 1 | C43: Adapter, 90mm Tube to 1 1/2" NPT male | D43: 100011-90-24 | G43: 176.03103 | H43: =G43*E43 -> 0 | I43: 1.5 | J43: =I43*E43 -> 0 | K43: 7 | L43: =(K43*E43)/60 -> 0 | M43: =L43*Data!$D$13 -> 0 | N43: =M43+H43 -> 0 | Q43: 78.68 | S43: =SUM(Q43*1.06) -> 83.4008
A44: =IF(E44>0,A43+1,A43) -> 1 | C44: Adapter, 90mm Tube to 2" NPT male | D44: 100011-90-32 | G44: 176.03103 | H44: =G44*E44 -> 0 | I44: 1.5 | J44: =I44*E44 -> 0 | K44: 7 | L44: =(K44*E44)/60 -> 0 | M44: =L44*Data!$D$13 -> 0 | N44: =M44+H44 -> 0 | Q44: 78.68 | S44: =SUM(Q44*1.06) -> 83.4008
...

Sheet Parts Summary
C2: Summary of Elevation Materials | H2: Tube & Fittings | L2: =SUM(L9:M100) -> 0
K3: Packaging Included | L3: =SUM(Estimator!N220) -> 0
K4: Total | L4: =SUM(L2:M3) -> 0
C5: Distributor : | D5: =(Data!D9) -> 0 | E5: Customer: | F5: =Data!D11 -> 0
C7: Description | E7: Part Number | G7: Price (List) | J7: QTY | L7: Total Price
A8: 1 | C8: =IF(ISERROR(VLOOKUP($A8,Estimator!$A$9:$G$210,3,FALSE)),"",VLOOKUP($A8,Estimator!$A$9:$G$210,3,FALSE)) -> 73mm - Tubing Blue (16ft Length) | E8: =IF(ISERROR(VLOOKUP($A8,Estimator!$A$9:$G$210,4,FALSE)),"",VLOOKUP($A8,Estimator!$A$9:$G$210,4,FALSE)) -> 10000-70-AIR-BLUE | G8: =IF(ISERROR(VLOOKUP($A8,Estimator!$A$9:$G$210,7,FALSE)),"",VLOOKUP($A8,Estimator!$A$9:$G$210,7,FALSE)) -> 273.72 | J8: =IF(ISERROR(VLOOKUP($A8,Estimator!$A$9:$G$210,5,FALSE)),"",VLOOKUP($A8,Estimator!$A$9:$G$210,5,FALSE)) -> 0 | L8: =IF(ISERROR(VLOOKUP($A8,Estimator!$A$9:$H$210,8,FALSE)),"",VLOOKUP($A8,Estimator!$A$9:$H$210,8,FALSE)) -> 0
A9: 2 | C9: =IF(ISERROR(VLOOKUP($A9,Estimator!$A$9:$G$210,3,FALSE)),"",VLOOKUP($A9,Estimator!$A$9:$G$210,3,FALSE)) | E9: =IF(ISERROR(VLOOKUP($A9,Estimator!$A$9:$G$210,4,FALSE)),"",VLOOKUP($A9,Estimator!$A$9:$G$210,4,FALSE)) | G9: =IF(ISERROR(VLOOKUP($A9,Estimator!$A$9:$G$210,7,FALSE)),"",VLOOKUP($A9,Estimator!$A$9:$G$210,7,FALSE)) | J9: =IF(ISERROR(VLOOKUP($A9,Estimator!$A$9:$G$210,5,FALSE)),"",VLOOKUP($A9,Estimator!$A$9:$G$210,5,FALSE)) | L9: =IF(ISERROR(VLOOKUP($A9,Estimator!$A$9:$H$210,8,FALSE)),"",VLOOKUP($A9,Estimator!$A$9:$H$210,8,FALSE))
A10: 3 | C10: =IF(ISERROR(VLOOKUP($A10,Estimator!$A$9:$G$210,3,FALSE)),"",VLOOKUP($A10,Estimator!$A$9:$G$210,3,FALSE)) | E10: =IF(ISERROR(VLOOKUP($A10,Estimator!$A$9:$G$210,4,FALSE)),"",VLOOKUP($A10,Estimator!$A$9:$G$210,4,FALSE)) | G10: =IF(ISERROR(VLOOKUP($A10,Estimator!$A$9:$G$210,7,FALSE)),"",VLOOKUP($A10,Estimator!$A$9:$G$210,7,FALSE)) | J10: =IF(ISERROR(VLOOKUP($A10,Estimator!$A$9:$G$210,5,FALSE)),"",VLOOKUP($A10,Estimator!$A$9:$G$210,5,FALSE)) | L10: =IF(ISERROR(VLOOKUP($A10,Estimator!$A$9:$H$210,8,FALSE)),"",VLOOKUP($A10,Estimator!$A$9:$H$210,8,FALSE))
A11: 4 | C11: =IF(ISERROR(VLOOKUP($A11,Estimator!$A$9:$G$210,3,FALSE)),"",VLOOKUP($A11,Estimator!$A$9:$G$210,3,FALSE)) | E11: =IF(ISERROR(VLOOKUP($A11,Estimator!$A$9:$G$210,4,FALSE)),"",VLOOKUP($A11,Estimator!$A$9:$G$210,4,FALSE)) | G11: =IF(ISERROR(VLOOKUP($A11,Estimator!$A$9:$G$210,7,FALSE)),"",VLOOKUP($A11,Estimator!$A$9:$G$210,7,FALSE)) | J11: =IF(ISERROR(VLOOKUP($A11,Estimator!$A$9:$G$210,5,FALSE)),"",VLOOKUP($A11,Estimator!$A$9:$G$210,5,FALSE)) | L11: =IF(ISERROR(VLOOKUP($A11,Estimator!$A$9:$H$210,8,FALSE)),"",VLOOKUP($A11,Estimator!$A$9:$H$210,8,FALSE))
A12: 5 | C12: =IF(ISERROR(VLOOKUP($A12,Estimator!$A$9:$G$210,3,FALSE)),"",VLOOKUP($A12,Estimator!$A$9:$G$210,3,FALSE)) | E12: =IF(ISERROR(VLOOKUP($A12,Estimator!$A$9:$G$210,4,FALSE)),"",VLOOKUP($A12,Estimator!$A$9:$G$210,4,FALSE)) | G12: =IF(ISERROR(VLOOKUP($A12,Estimator!$A$9:$G$210,7,FALSE)),"",VLOOKUP($A12,Estimator!$A$9:$G$210,7,FALSE)) | J12: =IF(ISERROR(VLOOKUP($A12,Estimator!$A$9:$G$210,5,FALSE)),"",VLOOKUP($A12,Estimator!$A$9:$G$210,5,FALSE)) | L12: =IF(ISERROR(VLOOKUP($A12,Estimator!$A$9:$H$210,8,FALSE)),"",VLOOKUP($A12,Estimator!$A$9:$H$210,8,FALSE))
A13: 6 | C13: =IF(ISERROR(VLOOKUP($A13,Estimator!$A$9:$G$210,3,FALSE)),"",VLOOKUP($A13,Estimator!$A$9:$G$210,3,FALSE)) | E13: =IF(ISERROR(VLOOKUP($A13,Estimator!$A$9:$G$210,4,FALSE)),"",VLOOKUP($A13,Estimator!$A$9:$G$210,4,FALSE)) | G13: =IF(ISERROR(VLOOKUP($A13,Estimator!$A$9:$G$210,7,FALSE)),"",VLOOKUP($A13,Estimator!$A$9:$G$210,7,FALSE)) | J13: =IF(ISERROR(VLOOKUP($A13,Estimator!$A$9:$G$210,5,FALSE)),"",VLOOKUP($A13,Estimator!$A$9:$G$210,5,FALSE)) | L13: =IF(ISERROR(VLOOKUP($A13,Estimator!$A$9:$H$210,8,FALSE)),"",VLOOKUP($A13,Estimator!$A$9:$H$210,8,FALSE))
A14: 7 | C14: =IF(ISERROR(VLOOKUP($A14,Estimator!$A$9:$G$210,3,FALSE)),"",VLOOKUP($A14,Estimator!$A$9:$G$210,3,FALSE)) | E14: =IF(ISERROR(VLOOKUP($A14,Estimator!$A$9:$G$210,4,FALSE)),"",VLOOKUP($A14,Estimator!$A$9:$G$210,4,FALSE)) | G14: =IF(ISERROR(VLOOKUP($A14,Estimator!$A$9:$G$210,7,FALSE)),"",VLOOKUP($A14,Estimator!$A$9:$G$210,7,FALSE)) | J14: =IF(ISERROR(VLOOKUP($A14,Estimator!$A$9:$G$210,5,FALSE)),"",VLOOKUP($A14,Estimator!$A$9:$G$210,5,FALSE)) | L14: =IF(ISERROR(VLOOKUP($A14,Estimator!$A$9:$H$210,8,FALSE)),"",VLOOKUP($A14,Estimator!$A$9:$H$210,8,FALSE))
A15: 8 | C15: =IF(ISERROR(VLOOKUP($A15,Estimator!$A$9:$G$210,3,FALSE)),"",VLOOKUP($A15,Estimator!$A$9:$G$210,3,FALSE)) | E15: =IF(ISERROR(VLOOKUP($A15,Estimator!$A$9:$G$210,4,FALSE)),"",VLOOKUP($A15,Estimator!$A$9:$G$210,4,FALSE)) | G15: =IF(ISERROR(VLOOKUP($A15,Estimator!$A$9:$G$210,7,FALSE)),"",VLOOKUP($A15,Estimator!$A$9:$G$210,7,FALSE)) | J15: =IF(ISERROR(VLOOKUP($A15,Estimator!$A$9:$G$210,5,FALSE)),"",VLOOKUP($A15,Estimator!$A$9:$G$210,5,FALSE)) | L15: =IF(ISERROR(VLOOKUP($A15,Estimator!$A$9:$H$210,8,FALSE)),"",VLOOKUP($A15,Estimator!$A$9:$H$210,8,FALSE))
A16: 9 | C16: =IF(ISERROR(VLOOKUP($A16,Estimator!$A$9:$G$210,3,FALSE)),"",VLOOKUP($A16,Estimator!$A$9:$G$210,3,FALSE)) | E16: =IF(ISERROR(VLOOKUP($A16,Estimator!$A$9:$G$210,4,FALSE)),"",VLOOKUP($A16,Estimator!$A$9:$G$210,4,FALSE)) | G16: =IF(ISERROR(VLOOKUP($A16,Estimator!$A$9:$G$210,7,FALSE)),"",VLOOKUP($A16,Estimator!$A$9:$G$210,7,FALSE)) | J16: =IF(ISERROR(VLOOKUP($A16,Estimator!$A$9:$G$210,5,FALSE)),"",VLOOKUP($A16,Estimator!$A$9:$G$210,5,FALSE)) | L16: =IF(ISERROR(VLOOKUP($A16,Estimator!$A$9:$H$210,8,FALSE)),"",VLOOKUP($A16,Estimator!$A$9:$H$210,8,FALSE))
A17: 10 | C17: =IF(ISERROR(VLOOKUP($A17,Estimator!$A$9:$G$210,3,FALSE)),"",VLOOKUP($A17,Estimator!$A$9:$G$210,3,FALSE)) | E17: =IF(ISERROR(VLOOKUP($A17,Estimator!$A$9:$G$210,4,FALSE)),"",VLOOKUP($A17,Estimator!$A$9:$G$210,4,FALSE)) | G17: =IF(ISERROR(VLOOKUP($A17,Estimator!$A$9:$G$210,7,FALSE)),"",VLOOKUP($A17,Estimator!$A$9:$G$210,7,FALSE)) | J17: =IF(ISERROR(VLOOKUP($A17,Estimator!$A$9:$G$210,5,FALSE)),"",VLOOKUP($A17,Estimator!$A$9:$G$210,5,FALSE)) | L17: =IF(ISERROR(VLOOKUP($A17,Estimator!$A$9:$H$210,8,FALSE)),"",VLOOKUP($A17,Estimator!$A$9:$H$210,8,FALSE))
A18: 11 | C18: =IF(ISERROR(VLOOKUP($A18,Estimator!$A$9:$G$210,3,FALSE)),"",VLOOKUP($A18,Estimator!$A$9:$G$210,3,FALSE)) | E18: =IF(ISERROR(VLOOKUP($A18,Estimator!$A$9:$G$210,4,FALSE)),"",VLOOKUP($A18,Estimator!$A$9:$G$210,4,FALSE)) | G18: =IF(ISERROR(VLOOKUP($A18,Estimator!$A$9:$G$210,7,FALSE)),"",VLOOKUP($A18,Estimator!$A$9:$G$210,7,FALSE)) | J18: =IF(ISERROR(VLOOKUP($A18,Estimator!$A$9:$G$210,5,FALSE)),"",VLOOKUP($A18,Estimator!$A$9:$G$210,5,FALSE)) | L18: =IF(ISERROR(VLOOKUP($A18,Estimator!$A$9:$H$210,8,FALSE)),"",VLOOKUP($A18,Estimator!$A$9:$H$210,8,FALSE))
A19: 12 | C19: =IF(ISERROR(VLOOKUP($A19,Estimator!$A$9:$G$210,3,FALSE)),"",VLOOKUP($A19,Estimator!$A$9:$G$210,3,FALSE)) | E19: =IF(ISERROR(VLOOKUP($A19,Estimator!$A$9:$G$210,4,FALSE)),"",VLOOKUP($A19,Estimator!$A$9:$G$210,4,FALSE)) | G19: =IF(ISERROR(VLOOKUP($A19,Estimator!$A$9:$G$210,7,FALSE)),"",VLOOKUP($A19,Estimator!$A$9:$G$210,7,FALSE)) | J19: =IF(ISERROR(VLOOKUP($A19,Estimator!$A$9:$G$210,5,FALSE)),"",VLOOKUP($A19,Estimator!$A$9:$G$210,5,FALSE)) | L19: =IF(ISERROR(VLOOKUP($A19,Estimator!$A$9:$H$210,8,FALSE)),"",VLOOKUP($A19,Estimator!$A$9:$H$210,8,FALSE))
... A28: 21 | C28: =IF(ISERROR(VLOOKUP($A28,Estimator!$A$9:$G$210,3,FALSE)),"",VLOOKUP($A28,Estimator!$A$9:$G$210,3,FALSE)) | E28: =IF(ISERROR(VLOOKUP($A28,Estimator!$A$9:$G$210,4,FALSE)),"",VLOOKUP($A28,Estimator!$A$9:$G$210,4,FALSE)) | G28: =IF(ISERROR(VLOOKUP($A28,Estimator!$A$9:$G$210,7,FALSE)),"",VLOOKUP($A28,Estimator!$A$9:$G$210,7,FALSE)) | J28: =IF(ISERROR(VLOOKUP($A28,Estimator!$A$9:$G$210,5,FALSE)),"",VLOOKUP($A28,Estimator!$A$9:$G$210,5,FALSE)) | L28: =IF(ISERROR(VLOOKUP($A28,Estimator!$A$9:$H$210,8,FALSE)),"",VLOOKUP($A28,Estimator!$A$9:$H$210,8,FALSE))
A29: =1+A28 -> 22 | C29: =IF(ISERROR(VLOOKUP($A29,Estimator!$A$9:$G$210,3,FALSE)),"",VLOOKUP($A29,Estimator!$A$9:$G$210,3,FALSE)) | E29: =IF(ISERROR(VLOOKUP($A29,Estimator!$A$9:$G$210,4,FALSE)),"",VLOOKUP($A29,Estimator!$A$9:$G$210,4,FALSE)) | G29: =IF(ISERROR(VLOOKUP($A29,Estimator!$A$9:$G$210,7,FALSE)),"",VLOOKUP($A29,Estimator!$A$9:$G$210,7,FALSE)) | J29: =IF(ISERROR(VLOOKUP($A29,Estimator!$A$9:$G$210,5,FALSE)),"",VLOOKUP($A29,Estimator!$A$9:$G$210,5,FALSE)) | L29: =IF(ISERROR(VLOOKUP($A29,Estimator!$A$9:$H$210,8,FALSE)),"",VLOOKUP($A29,Estimator!$A$9:$H$210,8,FALSE))
A30: =1+A29 -> 23 | C30: =IF(ISERROR(VLOOKUP($A30,Estimator!$A$9:$G$210,3,FALSE)),"",VLOOKUP($A30,Estimator!$A$9:$G$210,3,FALSE)) | E30: =IF(ISERROR(VLOOKUP($A30,Estimator!$A$9:$G$210,4,FALSE)),"",VLOOKUP($A30,Estimator!$A$9:$G$210,4,FALSE)) | G30: =IF(ISERROR(VLOOKUP($A30,Estimator!$A$9:$G$210,7,FALSE)),"",VLOOKUP($A30,Estimator!$A$9:$G$210,7,FALSE)) | J30: =IF(ISERROR(VLOOKUP($A30,Estimator!$A$9:$G$210,5,FALSE)),"",VLOOKUP($A30,Estimator!$A$9:$G$210,5,FALSE)) | L30: =IF(ISERROR(VLOOKUP($A30,Estimator!$A$9:$H$210,8,FALSE)),"",VLOOKUP($A30,Estimator!$A$9:$H$210,8,FALSE))
A31: =1+A30 -> 24 | C31: =IF(ISERROR(VLOOKUP($A31,Estimator!$A$9:$G$210,3,FALSE)),"",VLOOKUP($A31,Estimator!$A$9:$G$210,3,FALSE)) | E31: =IF(ISERROR(VLOOKUP($A31,Estimator!$A$9:$G$210,4,FALSE)),"",VLOOKUP($A31,Estimator!$A$9:$G$210,4,FALSE)) | G31: =IF(ISERROR(VLOOKUP($A31,Estimator!$A$9:$G$210,7,FALSE)),"",VLOOKUP($A31,Estimator!$A$9:$G$210,7,FALSE)) | J31: =IF(ISERROR(VLOOKUP($A31,Estimator!$A$9:$G$210,5,FALSE)),"",VLOOKUP($A31,Estimator!$A$9:$G$210,5,FALSE)) | L31: =IF(ISERROR(VLOOKUP($A31,Estimator!$A$9:$H$210,8,FALSE)),"",VLOOKUP($A31,Estimator!$A$9:$H$210,8,FALSE))
A32: =1+A31 -> 25 | C32: =IF(ISERROR(VLOOKUP($A32,Estimator!$A$9:$G$210,3,FALSE)),"",VLOOKUP($A32,Estimator!$A$9:$G$210,3,FALSE)) | E32: =IF(ISERROR(VLOOKUP($A32,Estimator!$A$9:$G$210,4,FALSE)),"",VLOOKUP($A32,Estimator!$A$9:$G$210,4,FALSE)) | G32: =IF(ISERROR(VLOOKUP($A32,Estimator!$A$9:$G$210,7,FALSE)),"",VLOOKUP($A32,Estimator!$A$9:$G$210,7,FALSE)) | J32: =IF(ISERROR(VLOOKUP($A32,Estimator!$A$9:$G$210,5,FALSE)),"",VLOOKUP($A32,Estimator!$A$9:$G$210,5,FALSE)) | L32: =IF(ISERROR(VLOOKUP($A32,Estimator!$A$9:$H$210,8,FALSE)),"",VLOOKUP($A32,Estimator!$A$9:$H$210,8,FALSE))
A33: =1+A32 -> 26 | C33: =IF(ISERROR(VLOOKUP($A33,Estimator!$A$9:$G$210,3,FALSE)),"",VLOOKUP($A33,Estimator!$A$9:$G$210,3,FALSE)) | E33: =IF(ISERROR(VLOOKUP($A33,Estimator!$A$9:$G$210,4,FALSE)),"",VLOOKUP($A33,Estimator!$A$9:$G$210,4,FALSE)) | G33: =IF(ISERROR(VLOOKUP($A33,Estimator!$A$9:$G$210,7,FALSE)),"",VLOOKUP($A33,Estimator!$A$9:$G$210,7,FALSE)) | J33: =IF(ISERROR(VLOOKUP($A33,Estimator!$A$9:$G$210,5,FALSE)),"",VLOOKUP($A33,Estimator!$A$9:$G$210,5,FALSE)) | L33: =IF(ISERROR(VLOOKUP($A33,Estimator!$A$9:$H$210,8,FALSE)),"",VLOOKUP($A33,Estimator!$A$9:$H$210,8,FALSE))
A34: =1+A33 -> 27 | C34: =IF(ISERROR(VLOOKUP($A34,Estimator!$A$9:$G$210,3,FALSE)),"",VLOOKUP($A34,Estimator!$A$9:$G$210,3,FALSE)) | E34: =IF(ISERROR(VLOOKUP($A34,Estimator!$A$9:$G$210,4,FALSE)),"",VLOOKUP($A34,Estimator!$A$9:$G$210,4,FALSE)) | G34: =IF(ISERROR(VLOOKUP($A34,Estimator!$A$9:$G$210,7,FALSE)),"",VLOOKUP($A34,Estimator!$A$9:$G$210,7,FALSE)) | J34: =IF(ISERROR(VLOOKUP($A34,Estimator!$A$9:$G$210,5,FALSE)),"",VLOOKUP($A34,Estimator!$A$9:$G$210,5,FALSE)) | L34: =IF(ISERROR(VLOOKUP($A34,Estimator!$A$9:$H$210,8,FALSE)),"",VLOOKUP($A34,Estimator!$A$9:$H$210,8,FALSE))
A35: =1+A34 -> 28 | C35: =IF(ISERROR(VLOOKUP($A35,Estimator!$A$9:$G$210,3,FALSE)),"",VLOOKUP($A35,Estimator!$A$9:$G$210,3,FALSE)) | E35: =IF(ISERROR(VLOOKUP($A35,Estimator!$A$9:$G$210,4,FALSE)),"",VLOOKUP($A35,Estimator!$A$9:$G$210,4,FALSE)) | G35: =IF(ISERROR(VLOOKUP($A35,Estimator!$A$9:$G$210,7,FALSE)),"",VLOOKUP($A35,Estimator!$A$9:$G$210,7,FALSE)) | J35: =IF(ISERROR(VLOOKUP($A35,Estimator!$A$9:$G$210,5,FALSE)),"",VLOOKUP($A35,Estimator!$A$9:$G$210,5,FALSE)) | L35: =IF(ISERROR(VLOOKUP($A35,Estimator!$A$9:$H$210,8,FALSE)),"",VLOOKUP($A35,Estimator!$A$9:$H$210,8,FALSE))
A36: =1+A35 -> 29 | C36: =IF(ISERROR(VLOOKUP($A36,Estimator!$A$9:$G$210,3,FALSE)),"",VLOOKUP($A36,Estimator!$A$9:$G$210,3,FALSE)) | E36: =IF(ISERROR(VLOOKUP($A36,Estimator!$A$9:$G$210,4,FALSE)),"",VLOOKUP($A36,Estimator!$A$9:$G$210,4,FALSE)) | G36: =IF(ISERROR(VLOOKUP($A36,Estimator!$A$9:$G$210,7,FALSE)),"",VLOOKUP($A36,Estimator!$A$9:$G$210,7,FALSE)) | J36: =IF(ISERROR(VLOOKUP($A36,Estimator!$A$9:$G$210,5,FALSE)),"",VLOOKUP($A36,Estimator!$A$9:$G$210,5,FALSE)) | L36: =IF(ISERROR(VLOOKUP($A36,Estimator!$A$9:$H$210,8,FALSE)),"",VLOOKUP($A36,Estimator!$A$9:$H$210,8,FALSE))
A37: =1+A36 -> 30 | C37: =IF(ISERROR(VLOOKUP($A37,Estimator!$A$9:$G$210,3,FALSE)),"",VLOOKUP($A37,Estimator!$A$9:$G$210,3,FALSE)) | E37: =IF(ISERROR(VLOOKUP($A37,Estimator!$A$9:$G$210,4,FALSE)),"",VLOOKUP($A37,Estimator!$A$9:$G$210,4,FALSE)) | G37: =IF(ISERROR(VLOOKUP($A37,Estimator!$A$9:$G$210,7,FALSE)),"",VLOOKUP($A37,Estimator!$A$9:$G$210,7,FALSE)) | J37: =IF(ISERROR(VLOOKUP($A37,Estimator!$A$9:$G$210,5,FALSE)),"",VLOOKUP($A37,Estimator!$A$9:$G$210,5,FALSE)) | L37: =IF(ISERROR(VLOOKUP($A37,Estimator!$A$9:$H$210,8,FALSE)),"",VLOOKUP($A37,Estimator!$A$9:$H$210,8,FALSE))
A38: =1+A37 -> 31 | C38: =IF(ISERROR(VLOOKUP($A38,Estimator!$A$9:$G$210,3,FALSE)),"",VLOOKUP($A38,Estimator!$A$9:$G$210,3,FALSE)) | E38: =IF(ISERROR(VLOOKUP($A38,Estimator!$A$9:$G$210,4,FALSE)),"",VLOOKUP($A38,Estimator!$A$9:$G$210,4,FALSE)) | G38: =IF(ISERROR(VLOOKUP($A38,Estimator!$A$9:$G$210,7,FALSE)),"",VLOOKUP($A38,Estimator!$A$9:$G$210,7,FALSE)) | J38: =IF(ISERROR(VLOOKUP($A38,Estimator!$A$9:$G$210,5,FALSE)),"",VLOOKUP($A38,Estimator!$A$9:$G$210,5,FALSE)) | L38: =IF(ISERROR(VLOOKUP($A38,Estimator!$A$9:$H$210,8,FALSE)),"",VLOOKUP($A38,Estimator!$A$9:$H$210,8,FALSE))
A39: =1+A38 -> 32 | C39: =IF(ISERROR(VLOOKUP($A39,Estimator!$A$9:$G$210,3,FALSE)),"",VLOOKUP($A39,Estimator!$A$9:$G$210,3,FALSE)) | E39: =IF(ISERROR(VLOOKUP($A39,Estimator!$A$9:$G$210,4,FALSE)),"",VLOOKUP($A39,Estimator!$A$9:$G$210,4,FALSE)) | G39: =IF(ISERROR(VLOOKUP($A39,Estimator!$A$9:$G$210,7,FALSE)),"",VLOOKUP($A39,Estimator!$A$9:$G$210,7,FALSE)) | J39: =IF(ISERROR(VLOOKUP($A39,Estimator!$A$9:$G$210,5,FALSE)),"",VLOOKUP($A39,Estimator!$A$9:$G$210,5,FALSE)) | L39: =IF(ISERROR(VLOOKUP($A39,Estimator!$A$9:$H$210,8,FALSE)),"",VLOOKUP($A39,Estimator!$A$9:$H$210,8,FALSE))
A40: =1+A39 -> 33 | C40: =IF(ISERROR(VLOOKUP($A40,Estimator!$A$9:$G$210,3,FALSE)),"",VLOOKUP($A40,Estimator!$A$9:$G$210,3,FALSE)) | E40: =IF(ISERROR(VLOOKUP($A40,Estimator!$A$9:$G$210,4,FALSE)),"",VLOOKUP($A40,Estimator!$A$9:$G$210,4,FALSE)) | G40: =IF(ISERROR(VLOOKUP($A40,Estimator!$A$9:$G$210,7,FALSE)),"",VLOOKUP($A40,Estimator!$A$9:$G$210,7,FALSE)) | J40: =IF(ISERROR(VLOOKUP($A40,Estimator!$A$9:$G$210,5,FALSE)),"",VLOOKUP($A40,Estimator!$A$9:$G$210,5,FALSE)) | L40: =IF(ISERROR(VLOOKUP($A40,Estimator!$A$9:$H$210,8,FALSE)),"",VLOOKUP($A40,Estimator!$A$9:$H$210,8,FALSE))
... A65: =1+A64 -> 58 | C65: =IF(ISERROR(VLOOKUP($A65,Estimator!$A$9:$G$210,3,FALSE)),"",VLOOKUP($A65,Estimator!$A$9:$G$210,3,FALSE)) | E65: =IF(ISERROR(VLOOKUP($A65,Estimator!$A$9:$G$210,4,FALSE)),"",VLOOKUP($A65,Estimator!$A$9:$G$210,4,FALSE)) | G65: =IF(ISERROR(VLOOKUP($A65,Estimator!$A$9:$G$210,7,FALSE)),"",VLOOKUP($A65,Estimator!$A$9:$G$210,7,FALSE)) | J65: =IF(ISERROR(VLOOKUP($A65,Estimator!$A$9:$G$210,5,FALSE)),"",VLOOKUP($A65,Estimator!$A$9:$G$210,5,FALSE)) | L65: =IF(ISERROR(VLOOKUP($A65,Estimator!$A$9:$H$210,8,FALSE)),"",VLOOKUP($A65,Estimator!$A$9:$H$210,8,FALSE))
A66: =1+A65 -> 59 | C66: =IF(ISERROR(VLOOKUP($A66,Estimator!$A$9:$G$210,3,FALSE)),"",VLOOKUP($A66,Estimator!$A$9:$G$210,3,FALSE)) | E66: =IF(ISERROR(VLOOKUP($A66,Estimator!$A$9:$G$210,4,FALSE)),"",VLOOKUP($A66,Estimator!$A$9:$G$210,4,FALSE)) | G66: =IF(ISERROR(VLOOKUP($A66,Estimator!$A$9:$G$210,7,FALSE)),"",VLOOKUP($A66,Estimator!$A$9:$G$210,7,FALSE)) | L66: =IF(ISERROR(VLOOKUP($A66,Estimator!$A$9:$H$210,8,FALSE)),"",VLOOKUP($A66,Estimator!$A$9:$H$210,8,FALSE))
A67: =1+A66 -> 60 | C67: =IF(ISERROR(VLOOKUP($A67,Estimator!$A$9:$G$210,3,FALSE)),"",VLOOKUP($A67,Estimator!$A$9:$G$210,3,FALSE)) | E67: =IF(ISERROR(VLOOKUP($A67,Estimator!$A$9:$G$210,4,FALSE)),"",VLOOKUP($A67,Estimator!$A$9:$G$210,4,FALSE)) | G67: =IF(ISERROR(VLOOKUP($A67,Estimator!$A$9:$G$210,7,FALSE)),"",VLOOKUP($A67,Estimator!$A$9:$G$210,7,FALSE)) | L67: =IF(ISERROR(VLOOKUP($A67,Estimator!$A$9:$H$210,8,FALSE)),"",VLOOKUP($A67,Estimator!$A$9:$H$210,8,FALSE))
A68: =1+A67 -> 61
A69: =1+A68 -> 62
A70: =1+A69 -> 63
A71: =1+A70 -> 64
A72: =1+A71 -> 65
A73: =1+A72 -> 66
A74: =1+A73 -> 67
...
