Workbook

Sheet Data
B2: Instructions
B4: Enter distributor and customer information in the grey boxes below
B5: Enter all information applicable to your project in the blue boxes below ( Labor, Permits, Rentals, Travel and Outside purchases)
B6: On the estimator page enter the quantities of tubing, parts & accessories required in the green boxes (all other boxes are protected)
B7: Enter estimated Freight cost in the blue box provided at the bottom of the estimator page. (Freight estimate can be provided upon request)
B9: Distributor Name:
B11: Customer Name:
B13: Enter Labor Cost / Hour | C13: $
B15: Local Permits/Fees | C15: $
B17: Equipment Rental | C17: $
B19: Estimated Travel Expenses | C19: $
B21: The Parts Summary sheet will show a summarized bill of materials with only the list price computed. Not the labor hours or total job estimate including freight, permits, etc.
B22: The Misc tab will include a section for misc. items that can be included to figure the total estimate for a project. Total will add back into the Estimator total (not summary total)
B24: NOTE:
B25: Labor hours cannot be accuratly provided as there are many variables to consider. Job specifics, distributor's ability and competence will vary.
B26: Installation times vary greatly depending on experience, customer requirements, availability of lifts and equipment on site, and other factors.
B27: Contact Applied System Technologies for assistance at 704-947-6966
B29: NOTE:
B30: Labor hours cannot be accuratly provided as there are many variables to consider. Job specifics, distributor's ability and competence will vary.
B31: Installation times vary greatly depending on experience, customer requirements, availability of lifts and equipment on site, and other factors.
B32: Contact Applied System Technologies for assistance at 704-947-6966
B34: We recommend using the labor multiplier below to more accuratly account for ancilary time based on the difficulty of the installation:
B35: Choose the multiplier that best describes site conditions, then multiply the total labor hours advertised in this estimator by the appropriate multiplier.

Sheet Misc
A1: List of Non-Elevation Parts Below
C2: Total Misc Parts | D2: =SUM(D5:D100) -> 0
A4: Misc Parts | B4: Price | C4: Qty | D4: Total Price
D6: =SUM(B6*C6) -> 0
D7: =SUM(B7*C7) -> 0
D8: =SUM(B8*C8) -> 0
D9: =SUM(B9*C9) -> 0
D10: =SUM(B10*C10) -> 0
D11: =SUM(B11*C11) -> 0
D12: =SUM(B12*C12) -> 0
D13: =SUM(B13*C13) -> 0
D14: =SUM(B14*C14) -> 0
D15: =SUM(B15*C15) -> 0
D16: =SUM(B16*C16) -> 0
D17: =SUM(B17*C17) -> 0
... D43: =SUM(B43*C43) -> 0
D44: =IF(C44>0,B44*C44,"")
D45: =IF(C45>0,B45*C45,"")
D46: =IF(C46>0,B46*C46,"")
D47: =IF(C47>0,B47*C47,"")
D48: =IF(C48>0,B48*C48,"")
D49: =IF(C49>0,B49*C49,"")
D50: =IF(C50>0,B50*C50,"")
D51: =IF(C51>0,B51*C51,"")
D52: =IF(C52>0,B52*C52,"")
D53: =IF(C53>0,B53*C53,"")
D54: =IF(C54>0,B54*C54,"")

Sheet Estimator
B2: Customer: | C2: =(Data!D11) -> 0
B5: Parts | G5: Price | I5: Weight | K5: Labor
A6: 1 | C6: Description | D6: Part Number | E6: QTY | F6: BOX QTY | G6: LIST (ea) | H6: Total List | I6: UNIT (lbs) | J6: Total Weight | K6: Labor (mins) | L6: Labor Hours | M6: Total Labor Cost | N6: Total Parts & Labor
A7: =IF(E7>0,A6+1,A6) -> 1 | B7: **As of January 1st 2026, NO grooved tubing will be cut in half** | O7: Percent Full
A8: =IF(E8>0,A7+1,A7) -> 1 | B8: **Minimum Order - Total Dealer Net Must Be $150 or Above**
A9: =IF(E9>0,A7+1,A7) -> 1 | C9: 73mm - Tubing Blue (16ft Length) | D9: 10000-70-AIR-BLUE | F9: 9 | G9: 273.72 | H9: =G9*E9 -> 0 | I9: 12.3 | J9: =I9*E9 -> 0 | K9: 18 | L9: =(K9*E9)/60 -> 0 | M9: =L9*Data!$D$13 -> 0 | N9: =M9+H9 -> 0 | O9: =E9/F9 -> 0 | Q9: 168.78 | S9: =SUM(Q9*1.06) -> 178.9068
A10: =IF(E10>0,A9+1,A9) -> 1 | C10: 90mm - Tubing Blue (16ft Length) | D10: 10000-90-AIR-BLUE | F10: 5 | G10: 371.11 | H10: =G10*E10 -> 0 | I10: 16.77 | J10: =I10*E10 -> 0 | K10: 18 | L10: =(K10*E10)/60 -> 0 | M10: =L10*Data!$D$13 -> 0 | N10: =M10+H10 -> 0 | O10: =E10/F10 -> 0 | Q10: 228.84 | S10: =SUM(Q10*1.06) -> 242.5704
A11: =IF(E11>0,A10+1,A10) -> 1 | C11: 115mm - Tubing Blue (16ft Length) | D11: 10000-115-AIR-BLUE | F11: 4 | G11: 471.25 | H11: =G11*E11 -> 0 | I11: 21.66 | J11: =I11*E11 -> 0 | K11: 20 | L11: =(K11*E11)/60 -> 0 | M11: =L11*Data!$D$13 -> 0 | N11: =M11+H11 -> 0 | O11: =E11/F11 -> 0 | Q11: 287.9 | S11: =SUM(Q11*1.06) -> 305.174
A12: =IF(E12>0,A11+1,A11) -> 1 | C12: 168mm - Tubing Blue (16ft Length) | D12: 10000-168-AIR-BLUE | F12: 1 | G12: 990.86 | H12: =G12*E12 -> 0 | I12: 50 | J12: =I12*E12 -> 0 | K12: 20 | L12: =(K12*E12)/60 -> 0 | M12: =L12*Data!$D$13 -> 0 | N12: =M12+H12 -> 0 | O12: =E12/F12 -> 0 | Q12: 605.32 | S12: =SUM(Q12*1.06) -> 641.6392
A13: =IF(E13>0,A12+1,A12) -> 1 | C13: 220mm - Tubing Blue (16ft Length) | D13: 10000-220-AIR-BLUE | F13: 1 | G13: 1539.34 | H13: =G13*E13 -> 0 | I13: 73.92 | J13: =I13*E13 -> 0 | K13: 20 | L13: =(K13*E13)/60 -> 0 | M13: =L13*Data!$D$13 -> 0 | N13: =M13+H13 -> 0 | O13: =E13/F13 -> 0 | Q13: 940.39 | S13: =SUM(Q13*1.06) -> 996.8134
S14: =SUM(Q14*1.06) -> 0
A15: =IF(E15>0,A13+1,A13) -> 1 | C15: 73mm - Tubing Black (16ft Length) | D15: 10000-70-GAS-BLACK | F15: 9 | G15: 287.41 | H15: =G15*E15 -> 0 | I15: 12.3 | J15: =I15*E15 -> 0 | K15: 18 | L15: =(K15*E15)/60 -> 0 | M15: =L15*Data!$D$13 -> 0 | N15: =M15+H15 -> 0 | O15: =E15/F15 -> 0 | Q15: 168.78 | S15: =SUM(Q15*1.06) -> 178.9068
A16: =IF(E16>0,A15+1,A15) -> 1 | C16: 90mm - Tubing Black (16ft Length) | D16: 10000-90-GAS-BLACK | F16: 5 | G16: 389.66 | H16: =G16*E16 -> 0 | I16: 16.77 | J16: =I16*E16 -> 0 | K16: 18 | L16: =(K16*E16)/60 -> 0 | M16: =L16*Data!$D$13 -> 0 | N16: =M16+H16 -> 0 | O16: =E16/F16 -> 0 | Q16: 228.84 | S16: =SUM(Q16*1.06) -> 242.5704
A17: =IF(E17>0,A16+1,A16) -> 1 | C17: 115mm - Tubing Black (16ft Length) | D17: 10000-115-GAS-BLACK | F17: 4 | G17: 494.81 | H17: =G17*E17 -> 0 | I17: 21.66 | J17: =I17*E17 -> 0 | K17: 20 | L17: =(K17*E17)/60 -> 0 | M17: =L17*Data!$D$13 -> 0 | N17: =M17+H17 -> 0 | O17: =E17/F17 -> 0 | Q17: 287.9 | S17: =SUM(Q17*1.06) -> 305.174
A18: =IF(E18>0,A17+1,A17) -> 1 | C18: 168mm - Tubing Black (16ft Length) | D18: 10000-168-GAS-BLACK | F18: 1 | G18: 1065.17 | H18: =G18*E18 -> 0 | I18: 50 | J18: =I18*E18 -> 0 | K18: 20 | L18: =(K18*E18)/60 -> 0 | M18: =L18*Data!$D$13 -> 0 | N18: =M18+H18 -> 0 | O18: =E18/F18 -> 0 | Q18: 605.32 | S18: =SUM(Q18*1.06) -> 641.6392
A19: =IF(E19>0,A18+1,A18) -> 1 | C19: 220mm - Tubing Black (16ft Length) | D19: 10000-220-GAS-BLACK | F19: 1 | G19: 1654.79 | H19: =G19*E19 -> 0 | I19: 73.92 | J19: =I19*E19 -> 0 | K19: 20 | L19: =(K19*E19)/60 -> 0 | M19: =L19*Data!$D$13 -> 0 | N19: =M19+H19 -> 0 | O19: =E19/F19 -> 0 | Q19: 940.39 | S19: =SUM(Q19*1.06) -> 996.8134
S20: =SUM(Q20*1.06) -> 0
A21: =IF(E21>0,A19+1,A19) -> 1 | C21: 73mm - Tubing Grey (16ft Length) | D21: 10000-70-VAC-GREY | F21: 9 | G21: 287.41 | H21: =G21*E21 -> 0 | I21: 12.3 | J21: =I21*E21 -> 0 | K21: 18 | L21: =(K21*E21)/60 -> 0 | M21: =L21*Data!$D$13 -> 0 | N21: =M21+H21 -> 0 | O21: =E21/F21 -> 0 | Q21: 168.78 | S21: =SUM(Q21*1.06) -> 178.9068
A22: =IF(E22>0,A21+1,A21) -> 1 | C22: 90mm - Tubing Grey (16ft Length) | D22: 10000-90-VAC-GREY | F22: 5 | G22: 389.66 | H22: =G22*E22 -> 0 | I22: 16.77 | J22: =I22*E22 -> 0 | K22: 18 | L22: =(K22*E22)/60 -> 0 | M22: =L22*Data!$D$13 -> 0 | N22: =M22+H22 -> 0 | O22: =E22/F22 -> 0 | Q22: 228.84 | S22: =SUM(Q22*1.06) -> 242.5704
A23: =IF(E23>0,A22+1,A22) -> 1 | C23: 115mm - Tubing Grey (16ft Length) | D23: 10000-115-VAC-GREY | F23: 4 | G23: 494.81 | H23: =G23*E23 -> 0 | I23: 21.66 | J23: =I23*E23 -> 0 | K23: 20 | L23: =(K23*E23)/60 -> 0 | M23: =L23*Data!$D$13 -> 0 | N23: =M23+H23 -> 0 | O23: =E23/F23 -> 0 | Q23: 287.9 | S23: =SUM(Q23*1.06) -> 305.174
A24: =IF(E24>0,A23+1,A23) -> 1 | C24: 168mm - Tubing Grey (16ft Length) | D24: 10000-168-VAC-GREY | F24: 1 | G24: 1065.17 | H24: =G24*E24 -> 0 | I24: 50 | J24: =I24*E24 -> 0 | K24: 20 | L24: =(K24*E24)/60 -> 0 | M24: =L24*Data!$D$13 -> 0 | N24: =M24+H24 -> 0 | O24: =E24/F24 -> 0 | Q24: 605.32 | S24: =SUM(Q24*1.06) -> 641.6392
A25: =IF(E25>0,A24+1,A24) -> 1 | C25: 220mm - Tubing Grey (16ft Length) | D25: 10000-220-VAC-GREY | F25: 1 | G25: 1654.79 | H25: =G25*E25 -> 0 | I25: 73.92 | J25: =I25*E25 -> 0 | K25: 20 | L25: =(K25*E25)/60 -> 0 | M25: =L25*Data!$D$13 -> 0 | N25: =M25+H25 -> 0 | O25: =E25/F25 -> 0 | Q25: 940.39 | S25: =SUM(Q25*1.06) -> 996.8134
S26: =SUM(Q26*1.06) -> 0
A27: =IF(E27>0,A25+1,A25) -> 1 | C27: 73mm - Tubing Green (16ft Length) | D27: 10000-70-NITRO-GREEN | F27: 9 | G27: 287.41 | H27: =G27*E27 -> 0 | I27: 12.3 | J27: =I27*E27 -> 0 | K27: 18 | L27: =(K27*E27)/60 -> 0 | M27: =L27*Data!$D$13 -> 0 | N27: =M27+H27 -> 0 | O27: =E27/F27 -> 0 | Q27: 168.78 | S27: =SUM(Q27*1.06) -> 178.9068
A28: =IF(E28>0,A27+1,A27) -> 1 | C28: 90mm - Tubing Green (16ft Length) | D28: 10000-90-NITRO-GREEN | F28: 5 | G28: 389.66 | H28: =G28*E28 -> 0 | I28: 16.77 | J28: =I28*E28 -> 0 | K28: 18 | L28: =(K28*E28)/60 -> 0 | M28: =L28*Data!$D$13 -> 0 | N28: =M28+H28 -> 0 | O28: =E28/F28 -> 0 | Q28: 228.84 | S28: =SUM(Q28*1.06) -> 242.5704
A29: =IF(E29>0,A28+1,A28) -> 1 | C29: 115mm - Tubing Green (16ft Length) | D29: 10000-115-NITRO-GREEN | F29: 4 | G29: 494.81 | H29: =G29*E29 -> 0 | I29: 21.66 | J29: =I29*E29 -> 0 | K29: 20 | L29: =(K29*E29)/60 -> 0 | M29: =L29*Data!$D$13 -> 0 | N29: =M29+H29 -> 0 | O29: =E29/F29 -> 0 | Q29: 287.9 | S29: =SUM(Q29*1.06) -> 305.174
A30: =IF(E30>0,A29+1,A29) -> 1 | C30: 168mm - Tubing Green (16ft Length) | D30: 10000-168-NITRO-GREEN | F30: 1 | G30: 1065.17 | H30: =G30*E30 -> 0 | I30: 50 | J30: =I30*E30 -> 0 | K30: 20 | L30: =(K30*E30)/60 -> 0 | M30: =L30*Data!$D$13 -> 0 | N30: =M30+H30 -> 0 | O30: =E30/F30 -> 0 | Q30: 605.32 | S30: =SUM(Q30*1.06) -> 641.6392
A31: =IF(E31>0,A30+1,A30) -> 1 | C31: 220mm - Tubing Green (16ft Length) | D31: 10000-220-NITRO-GREEN | F31: 1 | G31: 1654.79 | H31: =G31*E31 -> 0 | I31: 73.92 | J31: =I31*E31 -> 0 | K31: 20 | L31: =(K31*E31)/60 -> 0 | M31: =L31*Data!$D$13 -> 0 | N31: =M31+H31 -> 0 | O31: =E31/F31 -> 0 | Q31: 940.39 | S31: =SUM(Q31*1.06) -> 996.8134
S32: =SUM(Q32*1.06) -> 0
A33: =IF(E33>0,A31+1,A31) -> 1 | C33: 73mm - ELEVATION Tubing Blue INKED | D33: 10000-70 -AIR-BLUE-INK | F33: 9 | G33: 301.78 | H33: =G33*E33 -> 0 | I33: 12.3 | J33: =I33*E33 -> 0 | K33: 18 | L33: =(K33*E33)/60 -> 0 | M33: =L33*Data!$D$13 -> 0 | N33: =M33+H33 -> 0 | O33: =E33/F33 -> 0 | Q33: 173.85 | S33: =SUM(Q33*1.06) -> 184.281
A34: =IF(E34>0,A33+1,A33) -> 1 | C34: 90mm - ELEVATION Tubing Blue INKED | D34: 10000-90 -AIR-BLUE-INK | F34: 5 | G34: 409.14 | H34: =G34*E34 -> 0 | I34: 16.77 | J34: =I34*E34 -> 0 | K34: 18 | L34: =(K34*E34)/60 -> 0 | M34: =L34*Data!$D$13 -> 0 | N34: =M34+H34 -> 0 | O34: =E34/F34 -> 0 | Q34: 235.71 | S34: =SUM(Q34*1.06) -> 249.8526
A35: =IF(E35>0,A34+1,A34) -> 1 | C35: 115mm - ELEVATION Tubing Blue INKED | D35: 10000-115-AIR-BLUE-INK | F35: 4 | G35: 519.55 | H35: =G35*E35 -> 0 | I35: 21.66 | J35: =I35*E35 -> 0 | K35: 20 | L35: =(K35*E35)/60 -> 0 | M35: =L35*Data!$D$13 -> 0 | N35: =M35+H35 -> 0 | O35: =E35/F35 -> 0 | Q35: 296.53 | S35: =SUM(Q35*1.06) -> 314.3218
A36: =IF(E36>0,A35+1,A35) -> 1 | C36: 168mm -ELEVATION Tubing Blue INKED | D36: 10000-168-AIR-BLUE-INK | F36: 1 | G36: 1118.43 | H36: =G36*E36 -> 0 | I36: 50 | J36: =I36*E36 -> 0 | K36: 20 | L36: =(K36*E36)/60 -> 0 | M36: =L36*Data!$D$13 -> 0 | N36: =M36+H36 -> 0 | O36: =E36/F36 -> 0 | Q36: 623.48 | S36: =SUM(Q36*1.06) -> 660.8888
A37: =IF(E37>0,A36+1,A36) -> 1 | C37: 220mm - ELEVATION Tubing Blue INKED | D37: 10000-220-AIR-BLUE-INK | F37: 1 | G37: 1737.52 | H37: =G37*E37 -> 0 | I37: 73.92 | J37: =I37*E37 -> 0 | K37: 20 | L37: =(K37*E37)/60 -> 0 | M37: =L37*Data!$D$13 -> 0 | N37: =M37+H37 -> 0 | O37: =E37/F37 -> 0 | Q37: 968.6 | S37: =SUM(Q37*1.06) -> 1026.716
A39: =IF(E39>0,A37+1,A37) -> 1 | C39: Adapter, 73mm TUBE to 1 1/2" NPT male | D39: 100011-70-24 | G39: 176.0059 | H39: =G39*E39 -> 0 | I39: 1.3 | J39: =I39*E39 -> 0 | K39: 7 | L39: =(K39*E39)/60 -> 0 | M39: =L39*Data!$D$13 -> 0 | N39: =M39+H39 -> 0 | Q39: 78.66 | S39: =SUM(Q39*1.06) -> 83.3796
A40: =IF(E40>0,A39+1,A39) -> 1 | C40: Adapter, 73mm TUBE to 2" NPT male | D40: 100011-70-32 | G40: 176.0059 | H40: =G40*E40 -> 0 | I40: 1.4 | J40: =I40*E40 -> 0 | K40: 7 | L40: =(K40*E40)/60 -> 0 | M40: =L40*Data!$D$13 -> 0 | N40: =M40+H40 -> 0 | Q40: 78.66 | S40: =SUM(Q40*1.06) -> 83.3796
A41: =IF(E41>0,A40+1,A40) -> 1 | C41: Adapter, 73mm TUBE to 2 1/2" NPT male | D41: 100011-70-40 | G41: 80.4921 | H41: =G41*E41 -> 0 | I41: 1.6 | J41: =I41*E41 -> 0 | K41: 7 | L41: =(K41*E41)/60 -> 0 | M41: =L41*Data!$D$13 -> 0 | N41: =M41+H41 -> 0 | Q41: 35.91 | S41: =SUM(Q41*1.06) -> 38.0646
A42: =IF(E42>0,A41+1,A41) -> 1 | C42: Adapter, 73mm TUBE to 2 1/2" NPT female | D42: 100011-70-40-F | G42: 241.012 | H42: =G42*E42 -> 0 | I42: 2 | J42: =I42*E42 -> 0 | K42: 7 | L42: =(K42*E42)/60 -> 0 | M42: =L42*Data!$D$13 -> 0 | N42: =M42+H42 -> 0 | Q42: 107.72 | S42: =SUM(Q42*1.06) -> 114.1832
A43: =IF(E43>0,A42+1,A42) -> 1 | C43: Adapter, 90mm Tube to 1 1/2" NPT male | D43: 100011-90-24 | G43: 176.03103 | H43: =G43*E43 -> 0 | I43: 1.5 | J43: =I43*E43 -> 0 | K43: 7 | L43: =(K43*E43)/60 -> 0 | M43: =L43*Data!$D$13 -> 0 | N43: =M43+H43 -> 0 | Q43: 78.68 | S43: =SUM(Q43*1.06) -> 83.4008
A44: =IF(E44>0,A43+1,A43) -> 1 | C44: Adapter, 90mm Tube to 2" NPT male | D44: 100011-90-32 | G44: 176.03103 | H44: =G44*E44 -> 0 | I44: 1.5 | J44: =I44*E44 -> 0 | K44: 7 | L44: =(K44*E44)/60 -> 0 | M44: =L44*Data!$D$13 -> 0 | N44: =M44+H44 -> 0 | Q44: 78.68 | S44: =SUM(Q44*1.06) -> 83.4008
A45: =IF(E45>0,A44+1,A44) -> 1 | C45: Adapter, 90mm Tube to 2 1/2" NPT male | D45: 100011-90-40 | G45: 209.72628 | H45: =G45*E45 -> 0 | I45: 1.7 | J45: =I45*E45 -> 0 | K45: 7 | L45: =(K45*E45)/60 -> 0 | M45: =L45*Data!$D$13 -> 0 | N45: =M45+H45 -> 0 | Q45: 93.74 | S45: =SUM(Q45*1.06) -> 99.3644
A46: =IF(E46>0,A45+1,A45) -> 1 | C46: Adapter, 90mm Tube to 3" NPT male | D46: 100011-90-48 | G46: 82.38709 | H46: =G46*E46 -> 0 | I46: 1.5 | J46: =I46*E46 -> 0 | K46: 7 | L46: =(K46*E46)/60 -> 0 | M46: =L46*Data!$D$13 -> 0 | N46: =M46+H46 -> 0 | Q46: 36.82 | S46: =SUM(Q46*1.06) -> 39.0292
A47: =IF(E47>0,A46+1,A46) -> 1 | C47: Adapter, 90mm Tube to 3" NPT female | D47: 100011-90-48-F | G47: 312.15524 | H47: =G47*E47 -> 0 | I47: 2.9 | J47: =I47*E47 -> 0 | K47: 7 | L47: =(K47*E47)/60 -> 0 | M47: =L47*Data!$D$13 -> 0 | N47: =M47+H47 -> 0 | Q47: 112.15 | S47: =SUM(Q47*1.06) -> 118.879
A48: =IF(E48>0,A47+1,A47) -> 1 | C48: Adapter, 115mm Tube to 2" NPT male | D48: 100011-115-32 | G48: 213.46602 | H48: =G48*E48 -> 0 | I48: 2.6 | J48: =I48*E48 -> 0 | K48: 10 | L48: =(K48*E48)/60 -> 0 | M48: =L48*Data!$D$13 -> 0 | N48: =M48+H48 -> 0 | Q48: 95.41 | S48: =SUM(Q48*1.06) -> 101.1346
A49: =IF(E49>0,A48+1,A48) -> 1 | C49: Adapter, 115mm Tube to 2 1/2" NPT male | D49: 100011-115-40 | G49: 220.98313 | H49: =G49*E49 -> 0 | I49: 2.6 | J49: =I49*E49 -> 0 | K49: 10 | L49: =(K49*E49)/60 -> 0 | M49: =L49*Data!$D$13 -> 0 | N49: =M49+H49 -> 0 | Q49: 98.76 | S49: =SUM(Q49*1.06) -> 104.6856
A50: =IF(E50>0,A49+1,A49) -> 1 | C50: Adapter, 115mm Tube to 3" NPT male | D50: 100011-115-48 | G50: 235.94207 | H50: =G50*E50 -> 0 | I50: 2.5 | J50: =I50*E50 -> 0 | K50: 10 | L50: =(K50*E50)/60 -> 0 | M50: =L50*Data!$D$13 -> 0 | N50: =M50+H50 -> 0 | Q50: 105.45 | S50: =SUM(Q50*1.06) -> 111.777
A51: =IF(E51>0,A50+1,A50) -> 1 | C51: Adapter, 115mm Tube to 4" NPT male | D51: 100011-115-64 | G51: 172.40167 | H51: =G51*E51 -> 0 | I51: 3 | J51: =I51*E51 -> 0 | K51: 10 | L51: =(K51*E51)/60 -> 0 | M51: =L51*Data!$D$13 -> 0 | N51: =M51+H51 -> 0 | Q51: 61.94 | S51: =SUM(Q51*1.06) -> 65.6564
A52: =IF(E52>0,A51+1,A51) -> 1 | C52: Adapter, 115mm Tube to 4" NPT female | D52: 100011-115-64-F | G52: 389.52215 | H52: =G52*E52 -> 0 | I52: 4.5 | J52: =I52*E52 -> 0 | K52: 10 | L52: =(K52*E52)/60 -> 0 | M52: =L52*Data!$D$13 -> 0 | N52: =M52+H52 -> 0 | Q52: 174.09 | S52: =SUM(Q52*1.06) -> 184.5354
A54: =IF(E54>0,A52+1,A52) -> 1 | C54: Flange, 73mm Tube To ANSI 2.5", 150 Flange | D54: 100012-40 | G54: 529.79504 | H54: =G54*E54 -> 0 | I54: 5.3 | J54: =I54*E54 -> 0 | K54: 15 | L54: =(K54*E54)/60 -> 0 | M54: =L54*Data!$D$13 -> 0 | N54: =M54+H54 -> 0 | Q54: 295.84 | S54: =SUM(Q54*1.06) -> 313.5904
A55: =IF(E55>0,A54+1,A54) -> 1 | C55: Flange, 90mm Tube To ANSI 3", 150 Flange | D55: 100012-48 | G55: 608.02107 | H55: =G55*E55 -> 0 | I55: 5.3 | J55: =I55*E55 -> 0 | K55: 15 | L55: =(K55*E55)/60 -> 0 | M55: =L55*Data!$D$13 -> 0 | N55: =M55+H55 -> 0 | Q55: 257.78 | S55: =SUM(Q55*1.06) -> 273.2468
A56: =IF(E56>0,A55+1,A55) -> 1 | C56: Flange, 115mm Tube To ANSI 4", 150 Flange | D56: 100012-64 | G56: 708.70467 | H56: =G56*E56 -> 0 | I56: 7.4 | J56: =I56*E56 -> 0 | K56: 20 | L56: =(K56*E56)/60 -> 0 | M56: =L56*Data!$D$13 -> 0 | N56: =M56+H56 -> 0 | Q56: 344.83 | S56: =SUM(Q56*1.06) -> 365.5198
A57: =IF(E57>0,A56+1,A56) -> 1 | C57: Flange, 168mm Tube To ANSI 6", 150 Flange | D57: 100012-96 | G57: 1224.7377 | H57: =G57*E57 -> 0 | I57: 9.6 | J57: =I57*E57 -> 0 | K57: 20 | L57: =(K57*E57)/60 -> 0 | M57: =L57*Data!$D$13 -> 0 | N57: =M57+H57 -> 0 | Q57: 595.91 | S57: =SUM(Q57*1.06) -> 631.6646
A58: =IF(E58>0,A57+1,A57) -> 1 | C58: Flange, 220mm Tube To ANSI 8", 150 Flange | D58: 100012-128 | G58: 1408.2231 | H58: =G58*E58 -> 0 | I58: 16.2 | J58: =I58*E58 -> 0 | K58: 20 | L58: =(K58*E58)/60 -> 0 | M58: =L58*Data!$D$13 -> 0 | N58: =M58+H58 -> 0 | Q58: 685.19 | S58: =SUM(Q58*1.06) -> 726.3014
A60: =IF(E60>0,A58+1,A58) -> 1 | C60: High-Temp Flange, 73mm Tube To ANSI 2.5", 150 Flange | D60: 100012-40-O | G60: 1508.1293 | H60: =G60*E60 -> 0 | I60: 5.3 | J60: =I60*E60 -> 0 | K60: 15 | L60: =(K60*E60)/60 -> 0 | M60: =L60*Data!$D$13 -> 0 | N60: =M60+H60 -> 0 | Q60: 733.8 | S60: =SUM(Q60*1.06) -> 777.828
A61: =IF(E61>0,A60+1,A60) -> 1 | C61: High-Temp Flange, 90mm Tube To ANSI 3", 150 Flange | D61: 100012-48-O | G61: 1640.7518 | H61: =G61*E61 -> 0 | I61: 5.3 | J61: =I61*E61 -> 0 | K61: 15 | L61: =(K61*E61)/60 -> 0 | M61: =L61*Data!$D$13 -> 0 | N61: =M61+H61 -> 0 | Q61: 798.33 | S61: =SUM(Q61*1.06) -> 846.2298
A62: =IF(E62>0,A61+1,A61) -> 1 | C62: High-Temp Flange, 115mm Tube To ANSI 4", 150 Flange | D62: 100012-64-O | G62: 1819.6692 | H62: =G62*E62 -> 0 | I62: 7.4 | J62: =I62*E62 -> 0 | K62: 20 | L62: =(K62*E62)/60 -> 0 | M62: =L62*Data!$D$13 -> 0 | N62: =M62+H62 -> 0 | Q62: 885.39 | S62: =SUM(Q62*1.06) -> 938.5134
A63: =IF(E63>0,A62+1,A62) -> 1 | C63: High-Temp Flange, 168mm Tube To ANSI 6", 150 Flange | D63: 100012-96-O | G63: 2357.7391 | H63: =G63*E63 -> 0 | I63: 9.6 | J63: =I63*E63 -> 0 | K63: 20 | L63: =(K63*E63)/60 -> 0 | M63: =L63*Data!$D$13 -> 0 | N63: =M63+H63 -> 0 | Q63: 1147.19 | S63: =SUM(Q63*1.06) -> 1216.0214
A64: =IF(E64>0,A63+1,A63) -> 1 | C64: High-Temp Flange, 220mm Tube To ANSI 8", 150 Flange | D64: 100012-128-O | G64: 3271.1377 | H64: =G64*E64 -> 0 | I64: 16.2 | J64: =I64*E64 -> 0 | K64: 20 | L64: =(K64*E64)/60 -> 0 | M64: =L64*Data!$D$13 -> 0 | N64: =M64+H64 -> 0 | Q64: 1591.62 | S64: =SUM(Q64*1.06) -> 1687.1172
A66: =IF(E66>0,A64+1,A64) -> 1 | C66: Reducer, 90mm TUBE to 73mm Tube | D66: 100014-90-70 | G66: 195.01834 | H66: =G66*E66 -> 0 | I66: 1.8 | J66: =I66*E66 -> 0 | K66: 20 | L66: =(K66*E66)/60 -> 0 | M66: =L66*Data!$D$13 -> 0 | N66: =M66+H66 -> 0 | Q66: 87.16 | S66: =SUM(Q66*1.06) -> 92.3896
A67: =IF(E67>0,A66+1,A66) -> 1 | C67: Reducer, 115mm TUBE to 73mm Tube | D67: 100014-115-70 | G67: 239.02923 | H67: =G67*E67 -> 0 | I67: 2.7 | J67: =I67*E67 -> 0 | K67: 20 | L67: =(K67*E67)/60 -> 0 | M67: =L67*Data!$D$13 -> 0 | N67: =M67+H67 -> 0 | Q67: 106.83 | S67: =SUM(Q67*1.06) -> 113.2398
A68: =IF(E68>0,A67+1,A67) -> 1 | C68: Reducer, 115mm Tube To 90mm Tube | D68: 100014-115-90 | G68: 202.22172 | H68: =G68*E68 -> 0 | I68: 2.5 | J68: =I68*E68 -> 0 | K68: 20 | L68: =(K68*E68)/60 -> 0 | M68: =L68*Data!$D$13 -> 0 | N68: =M68+H68 -> 0 | Q68: 90.39 | S68: =SUM(Q68*1.06) -> 95.8134
A69: =IF(E69>0,A68+1,A68) -> 1 | C69: Reducer, 168mm Tube To 90mm Tube | D69: 100014-96-48 | G69: 516.83624 | H69: =G69*E69 -> 0 | I69: 6 | J69: =I69*E69 -> 0 | K69: 20 | L69: =(K69*E69)/60 -> 0 | M69: =L69*Data!$D$13 -> 0 | N69: =M69+H69 -> 0 | Q69: 231 | S69: =SUM(Q69*1.06) -> 244.86
A70: =IF(E70>0,A69+1,A69) -> 1 | C70: Reducer, 168mm Tube To 115mm Tube | D70: 100014-96-64 | G70: 468.1444 | H70: =G70*E70 -> 0 | I70: 6.7 | J70: =I70*E70 -> 0 | K70: 20 | L70: =(K70*E70)/60 -> 0 | M70: =L70*Data!$D$13 -> 0 | N70: =M70+H70 -> 0 | Q70: 209.24 | S70: =SUM(Q70*1.06) -> 221.7944
A71: =IF(E71>0,A70+1,A70) -> 1 | C71: Reducer, 220mm Tube To 90mm Tube | D71: 100014-220-90 | G71: 815.04864 | H71: =G71*E71 -> 0 | I71: 22 | J71: =I71*E71 -> 0 | K71: 20 | L71: =(K71*E71)/60 -> 0 | M71: =L71*Data!$D$13 -> 0 | N71: =M71+H71 -> 0 | Q71: 364.28 | S71: =SUM(Q71*1.06) -> 386.1368
A72: =IF(E72>0,A71+1,A71) -> 1 | C72: Reducer, 220mm Tube To 115mm Tube | D72: 100014-220-115 | G72: 837.08546 | H72: =G72*E72 -> 0 | I72: 23 | J72: =I72*E72 -> 0 | K72: 20 | L72: =(K72*E72)/60 -> 0 | M72: =L72*Data!$D$13 -> 0 | N72: =M72+H72 -> 0 | Q72: 366.52 | S72: =SUM(Q72*1.06) -> 388.5112
A73: =IF(E73>0,A72+1,A72) -> 1 | C73: Reducer, 220mm Tube To 168mm Tube | D73: 100014-220-168 | G73: 1041.7418 | H73: =G73*E73 -> 0 | I73: 25 | J73: =I73*E73 -> 0 | K73: 20 | L73: =(K73*E73)/60 -> 0 | M73: =L73*Data!$D$13 -> 0 | N73: =M73+H73 -> 0 | Q73: 465.6 | S73: =SUM(Q73*1.06) -> 493.536
A75: =IF(E75>0,A73+1,A73) -> 1 | C75: Straight Union Coupling 73mm,Rigid | D75: 100040-70-R | G75: 136.33714 | H75: =G75*E75 -> 0 | I75: 2.4 | J75: =I75*E75 -> 0 | K75: 5 | L75: =(K75*E75)/60 -> 0 | M75: =L75*Data!$D$13 -> 0 | N75: =M75+H75 -> 0 | Q75: 60.93 | S75: =SUM(Q75*1.06) -> 64.5858
A76: =IF(E76>0,A75+1,A75) -> 1 | C76: Straight Union Coupling 73mm,Flexible | D76: 100040-70-F | G76: 165.5146 | H76: =G76*E76 -> 0 | I76: 2 | J76: =I76*E76 -> 0 | K76: 5 | L76: =(K76*E76)/60 -> 0 | M76: =L76*Data!$D$13 -> 0 | N76: =M76+H76 -> 0 | Q76: 73.98 | S76: =SUM(Q76*1.06) -> 78.4188
A77: =IF(E77>0,A76+1,A76) -> 1 | C77: Straight Union Coupling 90mm, Rigid | D77: 100040-90-R | G77: 138.58349 | H77: =G77*E77 -> 0 | I77: 3 | J77: =I77*E77 -> 0 | K77: 5 | L77: =(K77*E77)/60 -> 0 | M77: =L77*Data!$D$13 -> 0 | N77: =M77+H77 -> 0 | Q77: 61.94 | S77: =SUM(Q77*1.06) -> 65.6564
A78: =IF(E78>0,A77+1,A77) -> 1 | C78: Straight Union Coupling 90mm, Flexible | D78: 100040-90-F | G78: 190.98997 | H78: =G78*E78 -> 0 | I78: 2 | J78: =I78*E78 -> 0 | K78: 5 | L78: =(K78*E78)/60 -> 0 | M78: =L78*Data!$D$13 -> 0 | N78: =M78+H78 -> 0 | Q78: 85.36 | S78: =SUM(Q78*1.06) -> 90.4816
A79: =IF(E79>0,A78+1,A78) -> 1 | C79: Straight Union Coupling 115mm, Rigid | D79: 100040-115-R | G79: 198.49453 | H79: =G79*E79 -> 0 | I79: 5.2 | J79: =I79*E79 -> 0 | K79: 5 | L79: =(K79*E79)/60 -> 0 | M79: =L79*Data!$D$13 -> 0 | N79: =M79+H79 -> 0 | Q79: 88.72 | S79: =SUM(Q79*1.06) -> 94.0432
A80: =IF(E80>0,A79+1,A79) -> 1 | C80: Straight Union Coupling 115mm, Flexible | D80: 100040-115-F | G80: 299.60539 | H80: =G80*E80 -> 0 | I80: 3 | J80: =I80*E80 -> 0 | K80: 5 | L80: =(K80*E80)/60 -> 0 | M80: =L80*Data!$D$13 -> 0 | N80: =M80+H80 -> 0 | Q80: 133.91 | S80: =SUM(Q80*1.06) -> 141.9446
A81: =IF(E81>0,A80+1,A80) -> 1 | C81: Straight Union Coupling 168mm, Rigid | D81: 100040-168-R | G81: 381.16422 | H81: =G81*E81 -> 0 | I81: 6.95 | J81: =I81*E81 -> 0 | K81: 5 | L81: =(K81*E81)/60 -> 0 | M81: =L81*Data!$D$13 -> 0 | N81: =M81+H81 -> 0 | Q81: 170.36 | S81: =SUM(Q81*1.06) -> 180.5816
A82: =IF(E82>0,A81+1,A81) -> 1 | C82: Straight Union Coupling 168mm, Flexible | D82: 100040-168-F | G82: 480.34246 | H82: =G82*E82 -> 0 | I82: 12 | J82: =I82*E82 -> 0 | K82: 5 | L82: =(K82*E82)/60 -> 0 | M82: =L82*Data!$D$13 -> 0 | N82: =M82+H82 -> 0 | Q82: 214.69 | S82: =SUM(Q82*1.06) -> 227.5714
A83: =IF(E83>0,A82+1,A82) -> 1 | C83: Straight Union Coupling 220mm, Rigid | D83: 100040-220-R | G83: 643.35972 | H83: =G83*E83 -> 0 | I83: 10.5 | J83: =I83*E83 -> 0 | K83: 5 | L83: =(K83*E83)/60 -> 0 | M83: =L83*Data!$D$13 -> 0 | N83: =M83+H83 -> 0 | Q83: 287.55 | S83: =SUM(Q83*1.06) -> 304.803
A84: =IF(E84>0,A83+1,A83) -> 1 | C84: Straight Union Coupling 220mm, Flexible | D84: 100040-220-F | G84: 810.04141 | H84: =G84*E84 -> 0 | I84: 20 | J84: =I84*E84 -> 0 | K84: 5 | L84: =(K84*E84)/60 -> 0 | M84: =L84*Data!$D$13 -> 0 | N84: =M84+H84 -> 0 | Q84: 362.05 | S84: =SUM(Q84*1.06) -> 383.773
A86: =IF(E86>0,A84+1,A84) -> 1 | C86: Reducer Union Coupling, 90mm to 73mm | D86: 100620-90-70 | G86: 205.04534 | H86: =G86*E86 -> 0 | I86: 3.8 | J86: =I86*E86 -> 0 | K86: 5 | L86: =(K86*E86)/60 -> 0 | M86: =L86*Data!$D$13 -> 0 | N86: =M86+H86 -> 0 | Q86: 91.64 | S86: =SUM(Q86*1.06) -> 97.1384
A87: =IF(E87>0,A86+1,A86) -> 1 | C87: Reducer Union Coupling, 115mm to 73mm | D87: 100620-115-70 | G87: 347.53171 | H87: =G87*E87 -> 0 | I87: 8.15 | J87: =I87*E87 -> 0 | K87: 5 | L87: =(K87*E87)/60 -> 0 | M87: =L87*Data!$D$13 -> 0 | N87: =M87+H87 -> 0 | Q87: 155.33 | S87: =SUM(Q87*1.06) -> 164.6498
A88: =IF(E88>0,A87+1,A87) -> 1 | C88: Reducer Union Coupling, 115mm to 90mm | D88: 100620-115-90 | G88: 318.71819 | H88: =G88*E88 -> 0 | I88: 6.7 | J88: =I88*E88 -> 0 | K88: 5 | L88: =(K88*E88)/60 -> 0 | M88: =L88*Data!$D$13 -> 0 | N88: =M88+H88 -> 0 | Q88: 142.45 | S88: =SUM(Q88*1.06) -> 150.997
A89: =IF(E89>0,A88+1,A88) -> 1 | C89: Reducer Union Coupling, 168mm to 115mm | D89: 100620-168-115 | G89: 631.78913 | H89: =G89*E89 -> 0 | I89: 16.55 | J89: =I89*E89 -> 0 | K89: 5 | L89: =(K89*E89)/60 -> 0 | M89: =L89*Data!$D$13 -> 0 | N89: =M89+H89 -> 0 | Q89: 282.38 | S89: =SUM(Q89*1.06) -> 299.3228
A90: =IF(E90>0,A89+1,A89) -> 1 | C90: Reducer Union Coupling, 220mm to 168mm | D90: 100620-220-168 | G90: 998.38345 | H90: =G90*E90 -> 0 | I90: 22.3 | J90: =I90*E90 -> 0 | K90: 5 | L90: =(K90*E90)/60 -> 0 | M90: =L90*Data!$D$13 -> 0 | N90: =M90+H90 -> 0 | Q90: 446.23 | S90: =SUM(Q90*1.06) -> 473.0038
A92: =IF(E92>0,A90+1,A90) -> 1 | C92: Union Elbow 73mm w/couplings | D92: 100130-70 | G92: 382.33132 | H92: =G92*E92 -> 0 | I92: 7.8 | J92: =I92*E92 -> 0 | K92: 12 | L92: =(K92*E92)/60 -> 0 | M92: =L92*Data!$D$13 -> 0 | N92: =M92+H92 -> 0 | Q92: 170.88 | S92: =SUM(Q92*1.06) -> 181.1328
A93: =IF(E93>0,A92+1,A92) -> 1 | C93: Union Elbow 90mm w/couplings | D93: 100130-90 | G93: 569.26781 | H93: =G93*E93 -> 0 | I93: 10 | J93: =I93*E93 -> 0 | K93: 12 | L93: =(K93*E93)/60 -> 0 | M93: =L93*Data!$D$13 -> 0 | N93: =M93+H93 -> 0 | Q93: 254.43 | S93: =SUM(Q93*1.06) -> 269.6958
A94: =IF(E94>0,A93+1,A93) -> 1 | C94: Union Elbow 115mm w/couplings | D94: 100130-115 | G94: 767.76234 | H94: =G94*E94 -> 0 | I94: 13.6 | J94: =I94*E94 -> 0 | K94: 15 | L94: =(K94*E94)/60 -> 0 | M94: =L94*Data!$D$13 -> 0 | N94: =M94+H94 -> 0 | Q94: 343.15 | S94: =SUM(Q94*1.06) -> 363.739
A95: =IF(E95>0,A94+1,A94) -> 1 | C95: Union Elbow 168mm w/couplings | D95: 100130-168 | G95: 1725.6111 | H95: =G95*E95 -> 0 | I95: 21 | J95: =I95*E95 -> 0 | K95: 15 | L95: =(K95*E95)/60 -> 0 | M95: =L95*Data!$D$13 -> 0 | N95: =M95+H95 -> 0 | Q95: 771.25 | S95: =SUM(Q95*1.06) -> 817.525
A96: =IF(E96>0,A95+1,A95) -> 1 | C96: Union Elbow 220mm w/couplings | D96: 100130-220 | G96: 3370.2155 | H96: =G96*E96 -> 0 | I96: 33.25 | J96: =I96*E96 -> 0 | K96: 15 | L96: =(K96*E96)/60 -> 0 | M96: =L96*Data!$D$13 -> 0 | N96: =M96+H96 -> 0 | Q96: 1506.31 | S96: =SUM(Q96*1.06) -> 1596.6886
A98: =IF(E98>0,A96+1,A96) -> 1 | C98: Union Elbow 45 deg. 73mm w/couplings | D98: 100140-70 | G98: 391.15357 | H98: =G98*E98 -> 0 | I98: 7.8 | J98: =I98*E98 -> 0 | K98: 12 | L98: =(K98*E98)/60 -> 0 | M98: =L98*Data!$D$13 -> 0 | N98: =M98+H98 -> 0 | Q98: 174.83 | S98: =SUM(Q98*1.06) -> 185.3198
A99: =IF(E99>0,A98+1,A98) -> 1 | C99: Union Elbow 45 deg. 90mm w/couplings | D99: 100140-90 | G99: 569.26781 | H99: =G99*E99 -> 0 | I99: 8 | J99: =I99*E99 -> 0 | K99: 12 | L99: =(K99*E99)/60 -> 0 | M99: =L99*Data!$D$13 -> 0 | N99: =M99+H99 -> 0 | Q99: 254.43 | S99: =SUM(Q99*1.06) -> 269.6958
A100: =IF(E100>0,A99+1,A99) -> 1 | C100: Union Elbow 45 deg. 115mm w/couplings | D100: 100140-115 | G100: 767.76234 | H100: =G100*E100 -> 0 | I100: 12.75 | J100: =I100*E100 -> 0 | K100: 15 | L100: =(K100*E100)/60 -> 0 | M100: =L100*Data!$D$13 -> 0 | N100: =M100+H100 -> 0 | Q100: 343.15 | S100: =SUM(Q100*1.06) -> 363.739
A101: =IF(E101>0,A100+1,A100) -> 1 | C101: Union Elbow 45 deg. 168mm w/couplings | D101: 100140-168 | G101: 1725.6111 | H101: =G101*E101 -> 0 | I101: 19.5 | J101: =I101*E101 -> 0 | K101: 15 | L101: =(K101*E101)/60 -> 0 | M101: =L101*Data!$D$13 -> 0 | N101: =M101+H101 -> 0 | Q101: 771.25 | S101: =SUM(Q101*1.06) -> 817.525
A102: =IF(E102>0,A101+1,A101) -> 1 | C102: Union Elbow 45 deg. 220mm w/couplings | D102: 100140-220 | G102: 3462.8179 | H102: =G102*E102 -> 0 | I102: 28.7 | J102: =I102*E102 -> 0 | K102: 15 | L102: =(K102*E102)/60 -> 0 | M102: =L102*Data!$D$13 -> 0 | N102: =M102+H102 -> 0 | Q102: 1547.7 | S102: =SUM(Q102*1.06) -> 1640.562
A104: =IF(E104>0,A102+1,A102) -> 1 | C104: Junction Tee 73mm w/couplings | D104: 100230-70 | G104: 543.37831 | H104: =G104*E104 -> 0 | I104: 11.8 | J104: =I104*E104 -> 0 | K104: 20 | L104: =(K104*E104)/60 -> 0 | M104: =L104*Data!$D$13 -> 0 | N104: =M104+H104 -> 0 | Q104: 242.86 | S104: =SUM(Q104*1.06) -> 257.4316
A105: =IF(E105>0,A104+1,A104) -> 1 | C105: Junction Tee 90mm w/couplings | D105: 100230-90 | G105: 767.76234 | H105: =G105*E105 -> 0 | I105: 12 | J105: =I105*E105 -> 0 | K105: 20 | L105: =(K105*E105)/60 -> 0 | M105: =L105*Data!$D$13 -> 0 | N105: =M105+H105 -> 0 | Q105: 343.15 | S105: =SUM(Q105*1.06) -> 363.739
A106: =IF(E106>0,A105+1,A105) -> 1 | C106: Junction Tee 115mm w/couplings | D106: 100230-115 | G106: 1134.7708 | H106: =G106*E106 -> 0 | I106: 20 | J106: =I106*E106 -> 0 | K106: 20 | L106: =(K106*E106)/60 -> 0 | M106: =L106*Data!$D$13 -> 0 | N106: =M106+H106 -> 0 | Q106: 507.19 | S106: =SUM(Q106*1.06) -> 537.6214
A107: =IF(E107>0,A106+1,A106) -> 1 | C107: Junction Tee 168mm w/couplings | D107: 100230-168 | G107: 2807.1722 | H107: =G107*E107 -> 0 | I107: 31 | J107: =I107*E107 -> 0 | K107: 20 | L107: =(K107*E107)/60 -> 0 | M107: =L107*Data!$D$13 -> 0 | N107: =M107+H107 -> 0 | Q107: 1254.66 | S107: =SUM(Q107*1.06) -> 1329.9396
A108: =IF(E108>0,A107+1,A107) -> 1 | C108: Junction Tee 220mm w/couplings | D108: 100230-220 | G108: 5541.4448 | H108: =G108*E108 -> 0 | I108: 40.9 | J108: =I108*E108 -> 0 | K108: 20 | L108: =(K108*E108)/60 -> 0 | M108: =L108*Data!$D$13 -> 0 | N108: =M108+H108 -> 0 | Q108: 2476.74 | S108: =SUM(Q108*1.06) -> 2625.3444
S109: =SUM(Q109*1.04) -> 0
A110: =IF(E110>0,A108+1,A108) -> 1 | C110: Outlet, Saddle Clamp Reducer 73mm X 1/2" NPT female | D110: 100234-70-08 | G110: 134.88141 | H110: =G110*E110 -> 0 | I110: 3 | J110: =I110*E110 -> 0 | K110: 15 | L110: =(K110*E110)/60 -> 0 | M110: =L110*Data!$D$13 -> 0 | N110: =M110+H110 -> 0 | Q110: 60.28 | S110: =SUM(Q110*1.06) -> 63.8968
A111: =IF(E111>0,A110+1,A110) -> 1 | C111: Outlet, Saddle Clamp Reducer 73mm X 3/4" NPT female | D111: 100234-70-12 | G111: 134.88141 | H111: =G111*E111 -> 0 | I111: 3 | J111: =I111*E111 -> 0 | K111: 15 | L111: =(K111*E111)/60 -> 0 | M111: =L111*Data!$D$13 -> 0 | N111: =M111+H111 -> 0 | Q111: 60.28 | S111: =SUM(Q111*1.06) -> 63.8968
A112: =IF(E112>0,A111+1,A111) -> 1 | C112: Outlet, Saddle Clamp Reducer 73mm X 1" NPT female | D112: 100234-70-16 | G112: 134.88141 | H112: =G112*E112 -> 0 | I112: 2.9 | J112: =I112*E112 -> 0 | K112: 15 | L112: =(K112*E112)/60 -> 0 | M112: =L112*Data!$D$13 -> 0 | N112: =M112+H112 -> 0 | Q112: 60.28 | S112: =SUM(Q112*1.06) -> 63.8968
...

Sheet Parts Summary
C2: Summary of Elevation Materials | H2: Tube & Fittings | L2: =SUM(L9:M100) -> 0
K3: Packaging Included | L3: =SUM(Estimator!N220) -> 0
K4: Total | L4: =SUM(L2:M3) -> 0
C5: Distributor : | D5: =(Data!D9) -> 0 | E5: Customer: | F5: =Data!D11 -> 0
C7: Description | E7: Part Number | G7: Price (List) | J7: QTY | L7: Total Price
A8: 1 | C8: =IF(ISERROR(VLOOKUP($A8,Estimator!$A$9:$G$210,3,FALSE)),"",VLOOKUP($A8,Estimator!$A$9:$G$210,3,FALSE)) -> 73mm - Tubing Blue (16ft Length) | E8: =IF(ISERROR(VLOOKUP($A8,Estimator!$A$9:$G$210,4,FALSE)),"",VLOOKUP($A8,Estimator!$A$9:$G$210,4,FALSE)) -> 10000-70-AIR-BLUE | G8: =IF(ISERROR(VLOOKUP($A8,Estimator!$A$9:$G$210,7,FALSE)),"",VLOOKUP($A8,Estimator!$A$9:$G$210,7,FALSE)) -> 273.72 | J8: =IF(ISERROR(VLOOKUP($A8,Estimator!$A$9:$G$210,5,FALSE)),"",VLOOKUP($A8,Estimator!$A$9:$G$210,5,FALSE)) -> 0 | L8: =IF(ISERROR(VLOOKUP($A8,Estimator!$A$9:$H$210,8,FALSE)),"",VLOOKUP($A8,Estimator!$A$9:$H$210,8,FALSE)) -> 0
A9: 2 | C9: =IF(ISERROR(VLOOKUP($A9,Estimator!$A$9:$G$210,3,FALSE)),"",VLOOKUP($A9,Estimator!$A$9:$G$210,3,FALSE)) | E9: =IF(ISERROR(VLOOKUP($A9,Estimator!$A$9:$G$210,4,FALSE)),"",VLOOKUP($A9,Estimator!$A$9:$G$210,4,FALSE)) | G9: =IF(ISERROR(VLOOKUP($A9,Estimator!$A$9:$G$210,7,FALSE)),"",VLOOKUP($A9,Estimator!$A$9:$G$210,7,FALSE)) | J9: =IF(ISERROR(VLOOKUP($A9,Estimator!$A$9:$G$210,5,FALSE)),"",VLOOKUP($A9,Estimator!$A$9:$G$210,5,FALSE)) | L9: =IF(ISERROR(VLOOKUP($A9,Estimator!$A$9:$H$210,8,FALSE)),"",VLOOKUP($A9,Estimator!$A$9:$H$210,8,FALSE))
A10: 3 | C10: =IF(ISERROR(VLOOKUP($A10,Estimator!$A$9:$G$210,3,FALSE)),"",VLOOKUP($A10,Estimator!$A$9:$G$210,3,FALSE)) | E10: =IF(ISERROR(VLOOKUP($A10,Estimator!$A$9:$G$210,4,FALSE)),"",VLOOKUP($A10,Estimator!$A$9:$G$210,4,FALSE)) | G10: =IF(ISERROR(VLOOKUP($A10,Estimator!$A$9:$G$210,7,FALSE)),"",VLOOKUP($A10,Estimator!$A$9:$G$210,7,FALSE)) | J10: =IF(ISERROR(VLOOKUP($A10,Estimator!$A$9:$G$210,5,FALSE)),"",VLOOKUP($A10,Estimator!$A$9:$G$210,5,FALSE)) | L10: =IF(ISERROR(VLOOKUP($A10,Estimator!$A$9:$H$210,8,FALSE)),"",VLOOKUP($A10,Estimator!$A$9:$H$210,8,FALSE))
A11: 4 | C11: =IF(ISERROR(VLOOKUP($A11,Estimator!$A$9:$G$210,3,FALSE)),"",VLOOKUP($A11,Estimator!$A$9:$G$210,3,FALSE)) | E11: =IF(ISERROR(VLOOKUP($A11,Estimator!$A$9:$G$210,4,FALSE)),"",VLOOKUP($A11,Estimator!$A$9:$G$210,4,FALSE)) | G11: =IF(ISERROR(VLOOKUP($A11,Estimator!$A$9:$G$210,7,FALSE)),"",VLOOKUP($A11,Estimator!$A$9:$G$210,7,FALSE)) | J11: =IF(ISERROR(VLOOKUP($A11,Estimator!$A$9:$G$210,5,FALSE)),"",VLOOKUP($A11,Estimator!$A$9:$G$210,5,FALSE)) | L11: =IF(ISERROR(VLOOKUP($A11,Estimator!$A$9:$H$210,8,FALSE)),"",VLOOKUP($A11,Estimator!$A$9:$H$210,8,FALSE))
A12: 5 | C12: =IF(ISERROR(VLOOKUP($A12,Estimator!$A$9:$G$210,3,FALSE)),"",VLOOKUP($A12,Estimator!$A$9:$G$210,3,FALSE)) | E12: =IF(ISERROR(VLOOKUP($A12,Estimator!$A$9:$G$210,4,FALSE)),"",VLOOKUP($A12,Estimator!$A$9:$G$210,4,FALSE)) | G12: =IF(ISERROR(VLOOKUP($A12,Estimator!$A$9:$G$210,7,FALSE)),"",VLOOKUP($A12,Estimator!$A$9:$G$210,7,FALSE)) | J12: =IF(ISERROR(VLOOKUP($A12,Estimator!$A$9:$G$210,5,FALSE)),"",VLOOKUP($A12,Estimator!$A$9:$G$210,5,FALSE)) | L12: =IF(ISERROR(VLOOKUP($A12,Estimator!$A$9:$H$210,8,FALSE)),"",VLOOKUP($A12,Estimator!$A$9:$H$210,8,FALSE))
A13: 6 | C13: =IF(ISERROR(VLOOKUP($A13,Estimator!$A$9:$G$210,3,FALSE)),"",VLOOKUP($A13,Estimator!$A$9:$G$210,3,FALSE)) | E13: =IF(ISERROR(VLOOKUP($A13,Estimator!$A$9:$G$210,4,FALSE)),"",VLOOKUP($A13,Estimator!$A$9:$G$210,4,FALSE)) | G13: =IF(ISERROR(VLOOKUP($A13,Estimator!$A$9:$G$210,7,FALSE)),"",VLOOKUP($A13,Estimator!$A$9:$G$210,7,FALSE)) | J13: =IF(ISERROR(VLOOKUP($A13,Estimator!$A$9:$G$210,5,FALSE)),"",VLOOKUP($A13,Estimator!$A$9:$G$210,5,FALSE)) | L13: =IF(ISERROR(VLOOKUP($A13,Estimator!$A$9:$H$210,8,FALSE)),"",VLOOKUP($A13,Estimator!$A$9:$H$210,8,FALSE))
A14: 7 | C14: =IF(ISERROR(VLOOKUP($A14,Estimator!$A$9:$G$210,3,FALSE)),"",VLOOKUP($A14,Estimator!$A$9:$G$210,3,FALSE)) | E14: =IF(ISERROR(VLOOKUP($A14,Estimator!$A$9:$G$210,4,FALSE)),"",VLOOKUP($A14,Estimator!$A$9:$G$210,4,FALSE)) | G14: =IF(ISERROR(VLOOKUP($A14,Estimator!$A$9:$G$210,7,FALSE)),"",VLOOKUP($A14,Estimator!$A$9:$G$210,7,FALSE)) | J14: =IF(ISERROR(VLOOKUP($A14,Estimator!$A$9:$G$210,5,FALSE)),"",VLOOKUP($A14,Estimator!$A$9:$G$210,5,FALSE)) | L14: =IF(ISERROR(VLOOKUP($A14,Estimator!$A$9:$H$210,8,FALSE)),"",VLOOKUP($A14,Estimator!$A$9:$H$210,8,FALSE))
A15: 8 | C15: =IF(ISERROR(VLOOKUP($A15,Estimator!$A$9:$G$210,3,FALSE)),"",VLOOKUP($A15,Estimator!$A$9:$G$210,3,FALSE)) | E15: =IF(ISERROR(VLOOKUP($A15,Estimator!$A$9:$G$210,4,FALSE)),"",VLOOKUP($A15,Estimator!$A$9:$G$210,4,FALSE)) | G15: =IF(ISERROR(VLOOKUP($A15,Estimator!$A$9:$G$210,7,FALSE)),"",VLOOKUP($A15,Estimator!$A$9:$G$210,7,FALSE)) | J15: =IF(ISERROR(VLOOKUP($A15,Estimator!$A$9:$G$210,5,FALSE)),"",VLOOKUP($A15,Estimator!$A$9:$G$210,5,FALSE)) | L15: =IF(ISERROR(VLOOKUP($A15,Estimator!$A$9:$H$210,8,FALSE)),"",VLOOKUP($A15,Estimator!$A$9:$H$210,8,FALSE))
A16: 9 | C16: =IF(ISERROR(VLOOKUP($A16,Estimator!$A$9:$G$210,3,FALSE)),"",VLOOKUP($A16,Estimator!$A$9:$G$210,3,FALSE)) | E16: =IF(ISERROR(VLOOKUP($A16,Estimator!$A$9:$G$210,4,FALSE)),"",VLOOKUP($A16,Estimator!$A$9:$G$210,4,FALSE)) | G16: =IF(ISERROR(VLOOKUP($A16,Estimator!$A$9:$G$210,7,FALSE)),"",VLOOKUP($A16,Estimator!$A$9:$G$210,7,FALSE)) | J16: =IF(ISERROR(VLOOKUP($A16,Estimator!$A$9:$G$210,5,FALSE)),"",VLOOKUP($A16,Estimator!$A$9:$G$210,5,FALSE)) | L16: =IF(ISERROR(VLOOKUP($A16,Estimator!$A$9:$H$210,8,FALSE)),"",VLOOKUP($A16,Estimator!$A$9:$H$210,8,FALSE))
A17: 10 | C17: =IF(ISERROR(VLOOKUP($A17,Estimator!$A$9:$G$210,3,FALSE)),"",VLOOKUP($A17,Estimator!$A$9:$G$210,3,FALSE)) | E17: =IF(ISERROR(VLOOKUP($A17,Estimator!$A$9:$G$210,4,FALSE)),"",VLOOKUP($A17,Estimator!$A$9:$G$210,4,FALSE)) | G17: =IF(ISERROR(VLOOKUP($A17,Estimator!$A$9:$G$210,7,FALSE)),"",VLOOKUP($A17,Estimator!$A$9:$G$210,7,FALSE)) | J17: =IF(ISERROR(VLOOKUP($A17,Estimator!$A$9:$G$210,5,FALSE)),"",VLOOKUP($A17,Estimator!$A$9:$G$210,5,FALSE)) | L17: =IF(ISERROR(VLOOKUP($A17,Estimator!$A$9:$H$210,8,FALSE)),"",VLOOKUP($A17,Estimator!$A$9:$H$210,8,FALSE))
A18: 11 | C18: =IF(ISERROR(VLOOKUP($A18,Estimator!$A$9:$G$210,3,FALSE)),"",VLOOKUP($A18,Estimator!$A$9:$G$210,3,FALSE)) | E18: =IF(ISERROR(VLOOKUP($A18,Estimator!$A$9:$G$210,4,FALSE)),"",VLOOKUP($A18,Estimator!$A$9:$G$210,4,FALSE)) | G18: =IF(ISERROR(VLOOKUP($A18,Estimator!$A$9:$G$210,7,FALSE)),"",VLOOKUP($A18,Estimator!$A$9:$G$210,7,FALSE)) | J18: =IF(ISERROR(VLOOKUP($A18,Estimator!$A$9:$G$210,5,FALSE)),"",VLOOKUP($A18,Estimator!$A$9:$G$210,5,FALSE)) | L18: =IF(ISERROR(VLOOKUP($A18,Estimator!$A$9:$H$210,8,FALSE)),"",VLOOKUP($A18,Estimator!$A$9:$H$210,8,FALSE))
A19: 12 | C19: =IF(ISERROR(VLOOKUP($A19,Estimator!$A$9:$G$210,3,FALSE)),"",VLOOKUP($A19,Estimator!$A$9:$G$210,3,FALSE)) | E19: =IF(ISERROR(VLOOKUP($A19,Estimator!$A$9:$G$210,4,FALSE)),"",VLOOKUP($A19,Estimator!$A$9:$G$210,4,FALSE)) | G19: =IF(ISERROR(VLOOKUP($A19,Estimator!$A$9:$G$210,7,FALSE)),"",VLOOKUP($A19,Estimator!$A$9:$G$210,7,FALSE)) | J19: =IF(ISERROR(VLOOKUP($A19,Estimator!$A$9:$G$210,5,FALSE)),"",VLOOKUP($A19,Estimator!$A$9:$G$210,5,FALSE)) | L19: =IF(ISERROR(VLOOKUP($A19,Estimator!$A$9:$H$210,8,FALSE)),"",VLOOKUP($A19,Estimator!$A$9:$H$210,8,FALSE))
... A28: 21 | C28: =IF(ISERROR(VLOOKUP($A28,Estimator!$A$9:$G$210,3,FALSE)),"",VLOOKUP($A28,Estimator!$A$9:$G$210,3,FALSE)) | E28: =IF(ISERROR(VLOOKUP($A28,Estimator!$A$9:$G$210,4,FALSE)),"",VLOOKUP($A28,Estimator!$A$9:$G$210,4,FALSE)) | G28: =IF(ISERROR(VLOOKUP($A28,Estimator!$A$9:$G$210,7,FALSE)),"",VLOOKUP($A28,Estimator!$A$9:$G$210,7,FALSE)) | J28: =IF(ISERROR(VLOOKUP($A28,Estimator!$A$9:$G$210,5,FALSE)),"",VLOOKUP($A28,Estimator!$A$9:$G$210,5,FALSE)) | L28: =IF(ISERROR(VLOOKUP($A28,Estimator!$A$9:$H$210,8,FALSE)),"",VLOOKUP($A28,Estimator!$A$9:$H$210,8,FALSE))
A29: =1+A28 -> 22 | C29: =IF(ISERROR(VLOOKUP($A29,Estimator!$A$9:$G$210,3,FALSE)),"",VLOOKUP($A29,Estimator!$A$9:$G$210,3,FALSE)) | E29: =IF(ISERROR(VLOOKUP($A29,Estimator!$A$9:$G$210,4,FALSE)),"",VLOOKUP($A29,Estimator!$A$9:$G$210,4,FALSE)) | G29: =IF(ISERROR(VLOOKUP($A29,Estimator!$A$9:$G$210,7,FALSE)),"",VLOOKUP($A29,Estimator!$A$9:$G$210,7,FALSE)) | J29: =IF(ISERROR(VLOOKUP($A29,Estimator!$A$9:$G$210,5,FALSE)),"",VLOOKUP($A29,Estimator!$A$9:$G$210,5,FALSE)) | L29: =IF(ISERROR(VLOOKUP($A29,Estimator!$A$9:$H$210,8,FALSE)),"",VLOOKUP($A29,Estimator!$A$9:$H$210,8,FALSE))
A30: =1+A29 -> 23 | C30: =IF(ISERROR(VLOOKUP($A30,Estimator!$A$9:$G$210,3,FALSE)),"",VLOOKUP($A30,Estimator!$A$9:$G$210,3,FALSE)) | E30: =IF(ISERROR(VLOOKUP($A30,Estimator!$A$9:$G$210,4,FALSE)),"",VLOOKUP($A30,Estimator!$A$9:$G$210,4,FALSE)) | G30: =IF(ISERROR(VLOOKUP($A30,Estimator!$A$9:$G$210,7,FALSE)),"",VLOOKUP($A30,Estimator!$A$9:$G$210,7,FALSE)) | J30: =IF(ISERROR(VLOOKUP($A30,Estimator!$A$9:$G$210,5,FALSE)),"",VLOOKUP($A30,Estimator!$A$9:$G$210,5,FALSE)) | L30: =IF(ISERROR(VLOOKUP($A30,Estimator!$A$9:$H$210,8,FALSE)),"",VLOOKUP($A30,Estimator!$A$9:$H$210,8,FALSE))
A31: =1+A30 -> 24 | C31: =IF(ISERROR(VLOOKUP($A31,Estimator!$A$9:$G$210,3,FALSE)),"",VLOOKUP($A31,Estimator!$A$9:$G$210,3,FALSE)) | E31: =IF(ISERROR(VLOOKUP($A31,Estimator!$A$9:$G$210,4,FALSE)),"",VLOOKUP($A31,Estimator!$A$9:$G$210,4,FALSE)) | G31: =IF(ISERROR(VLOOKUP($A31,Estimator!$A$9:$G$210,7,FALSE)),"",VLOOKUP($A31,Estimator!$A$9:$G$210,7,FALSE)) | J31: =IF(ISERROR(VLOOKUP($A31,Estimator!$A$9:$G$210,5,FALSE)),"",VLOOKUP($A31,Estimator!$A$9:$G$210,5,FALSE)) | L31: =IF(ISERROR(VLOOKUP($A31,Estimator!$A$9:$H$210,8,FALSE)),"",VLOOKUP($A31,Estimator!$A$9:$H$210,8,FALSE))
A32: =1+A31 -> 25 | C32: =IF(ISERROR(VLOOKUP($A32,Estimator!$A$9:$G$210,3,FALSE)),"",VLOOKUP($A32,Estimator!$A$9:$G$210,3,FALSE)) | E32: =IF(ISERROR(VLOOKUP($A32,Estimator!$A$9:$G$210,4,FALSE)),"",VLOOKUP($A32,Estimator!$A$9:$G$210,4,FALSE)) | G32: =IF(ISERROR(VLOOKUP($A32,Estimator!$A$9:$G$210,7,FALSE)),"",VLOOKUP($A32,Estimator!$A$9:$G$210,7,FALSE)) | J32: =IF(ISERROR(VLOOKUP($A32,Estimator!$A$9:$G$210,5,FALSE)),"",VLOOKUP($A32,Estimator!$A$9:$G$210,5,FALSE)) | L32: =IF(ISERROR(VLOOKUP($A32,Estimator!$A$9:$H$210,8,FALSE)),"",VLOOKUP($A32,Estimator!$A$9:$H$210,8,FALSE))
A33: =1+A32 -> 26 | C33: =IF(ISERROR(VLOOKUP($A33,Estimator!$A$9:$G$210,3,FALSE)),"",VLOOKUP($A33,Estimator!$A$9:$G$210,3,FALSE)) | E33: =IF(ISERROR(VLOOKUP($A33,Estimator!$A$9:$G$210,4,FALSE)),"",VLOOKUP($A33,Estimator!$A$9:$G$210,4,FALSE)) | G33: =IF(ISERROR(VLOOKUP($A33,Estimator!$A$9:$G$210,7,FALSE)),"",VLOOKUP($A33,Estimator!$A$9:$G$210,7,FALSE)) | J33: =IF(ISERROR(VLOOKUP($A33,Estimator!$A$9:$G$210,5,FALSE)),"",VLOOKUP($A33,Estimator!$A$9:$G$210,5,FALSE)) | L33: =IF(ISERROR(VLOOKUP($A33,Estimator!$A$9:$H$210,8,FALSE)),"",VLOOKUP($A33,Estimator!$A$9:$H$210,8,FALSE))
A34: =1+A33 -> 27 | C34: =IF(ISERROR(VLOOKUP($A34,Estimator!$A$9:$G$210,3,FALSE)),"",VLOOKUP($A34,Estimator!$A$9:$G$210,3,FALSE)) | E34: =IF(ISERROR(VLOOKUP($A34,Estimator!$A$9:$G$210,4,FALSE)),"",VLOOKUP($A34,Estimator!$A$9:$G$210,4,FALSE)) | G34: =IF(ISERROR(VLOOKUP($A34,Estimator!$A$9:$G$210,7,FALSE)),"",VLOOKUP($A34,Estimator!$A$9:$G$210,7,FALSE)) | J34: =IF(ISERROR(VLOOKUP($A34,Estimator!$A$9:$G$210,5,FALSE)),"",VLOOKUP($A34,Estimator!$A$9:$G$210,5,FALSE)) | L34: =IF(ISERROR(VLOOKUP($A34,Estimator!$A$9:$H$210,8,FALSE)),"",VLOOKUP($A34,Estimator!$A$9:$H$210,8,FALSE))
A35: =1+A34 -> 28 | C35: =IF(ISERROR(VLOOKUP($A35,Estimator!$A$9:$G$210,3,FALSE)),"",VLOOKUP($A35,Estimator!$A$9:$G$210,3,FALSE)) | E35: =IF(ISERROR(VLOOKUP($A35,Estimator!$A$9:$G$210,4,FALSE)),"",VLOOKUP($A35,Estimator!$A$9:$G$210,4,FALSE)) | G35: =IF(ISERROR(VLOOKUP($A35,Estimator!$A$9:$G$210,7,FALSE)),"",VLOOKUP($A35,Estimator!$A$9:$G$210,7,FALSE)) | J35: =IF(ISERROR(VLOOKUP($A35,Estimator!$A$9:$G$210,5,FALSE)),"",VLOOKUP($A35,Estimator!$A$9:$G$210,5,FALSE)) | L35: =IF(ISERROR(VLOOKUP($A35,Estimator!$A$9:$H$210,8,FALSE)),"",VLOOKUP($A35,Estimator!$A$9:$H$210,8,FALSE))
A36: =1+A35 -> 29 | C36: =IF(ISERROR(VLOOKUP($A36,Estimator!$A$9:$G$210,3,FALSE)),"",VLOOKUP($A36,Estimator!$A$9:$G$210,3,FALSE)) | E36: =IF(ISERROR(VLOOKUP($A36,Estimator!$A$9:$G$210,4,FALSE)),"",VLOOKUP($A36,Estimator!$A$9:$G$210,4,FALSE)) | G36: =IF(ISERROR(VLOOKUP($A36,Estimator!$A$9:$G$210,7,FALSE)),"",VLOOKUP($A36,Estimator!$A$9:$G$210,7,FALSE)) | J36: =IF(ISERROR(VLOOKUP($A36,Estimator!$A$9:$G$210,5,FALSE)),"",VLOOKUP($A36,Estimator!$A$9:$G$210,5,FALSE)) | L36: =IF(ISERROR(VLOOKUP($A36,Estimator!$A$9:$H$210,8,FALSE)),"",VLOOKUP($A36,Estimator!$A$9:$H$210,8,FALSE))
A37: =1+A36 -> 30 | C37: =IF(ISERROR(VLOOKUP($A37,Estimator!$A$9:$G$210,3,FALSE)),"",VLOOKUP($A37,Estimator!$A$9:$G$210,3,FALSE)) | E37: =IF(ISERROR(VLOOKUP($A37,Estimator!$A$9:$G$210,4,FALSE)),"",VLOOKUP($A37,Estimator!$A$9:$G$210,4,FALSE)) | G37: =IF(ISERROR(VLOOKUP($A37,Estimator!$A$9:$G$210,7,FALSE)),"",VLOOKUP($A37,Estimator!$A$9:$G$210,7,FALSE)) | J37: =IF(ISERROR(VLOOKUP($A37,Estimator!$A$9:$G$210,5,FALSE)),"",VLOOKUP($A37,Estimator!$A$9:$G$210,5,FALSE)) | L37: =IF(ISERROR(VLOOKUP($A37,Estimator!$A$9:$H$210,8,FALSE)),"",VLOOKUP($A37,Estimator!$A$9:$H$210,8,FALSE))
A38: =1+A37 -> 31 | C38: =IF(ISERROR(VLOOKUP($A38,Estimator!$A$9:$G$210,3,FALSE)),"",VLOOKUP($A38,Estimator!$A$9:$G$210,3,FALSE)) | E38: =IF(ISERROR(VLOOKUP($A38,Estimator!$A$9:$G$210,4,FALSE)),"",VLOOKUP($A38,Estimator!$A$9:$G$210,4,FALSE)) | G38: =IF(ISERROR(VLOOKUP($A38,Estimator!$A$9:$G$210,7,FALSE)),"",VLOOKUP($A38,Estimator!$A$9:$G$210,7,FALSE)) | J38: =IF(ISERROR(VLOOKUP($A38,Estimator!$A$9:$G$210,5,FALSE)),"",VLOOKUP($A38,Estimator!$A$9:$G$210,5,FALSE)) | L38: =IF(ISERROR(VLOOKUP($A38,Estimator!$A$9:$H$210,8,FALSE)),"",VLOOKUP($A38,Estimator!$A$9:$H$210,8,FALSE))
A39: =1+A38 -> 32 | C39: =IF(ISERROR(VLOOKUP($A39,Estimator!$A$9:$G$210,3,FALSE)),"",VLOOKUP($A39,Estimator!$A$9:$G$210,3,FALSE)) | E39: =IF(ISERROR(VLOOKUP($A39,Estimator!$A$9:$G$210,4,FALSE)),"",VLOOKUP($A39,Estimator!$A$9:$G$210,4,FALSE)) | G39: =IF(ISERROR(VLOOKUP($A39,Estimator!$A$9:$G$210,7,FALSE)),"",VLOOKUP($A39,Estimator!$A$9:$G$210,7,FALSE)) | J39: =IF(ISERROR(VLOOKUP($A39,Estimator!$A$9:$G$210,5,FALSE)),"",VLOOKUP($A39,Estimator!$A$9:$G$210,5,FALSE)) | L39: =IF(ISERROR(VLOOKUP($A39,Estimator!$A$9:$H$210,8,FALSE)),"",VLOOKUP($A39,Estimator!$A$9:$H$210,8,FALSE))
A40: =1+A39 -> 33 | C40: =IF(ISERROR(VLOOKUP($A40,Estimator!$A$9:$G$210,3,FALSE)),"",VLOOKUP($A40,Estimator!$A$9:$G$210,3,FALSE)) | E40: =IF(ISERROR(VLOOKUP($A40,Estimator!$A$9:$G$210,4,FALSE)),"",VLOOKUP($A40,Estimator!$A$9:$G$210,4,FALSE)) | G40: =IF(ISERROR(VLOOKUP($A40,Estimator!$A$9:$G$210,7,FALSE)),"",VLOOKUP($A40,Estimator!$A$9:$G$210,7,FALSE)) | J40: =IF(ISERROR(VLOOKUP($A40,Estimator!$A$9:$G$210,5,FALSE)),"",VLOOKUP($A40,Estimator!$A$9:$G$210,5,FALSE)) | L40: =IF(ISERROR(VLOOKUP($A40,Estimator!$A$9:$H$210,8,FALSE)),"",VLOOKUP($A40,Estimator!$A$9:$H$210,8,FALSE))
... A65: =1+A64 -> 58 | C65: =IF(ISERROR(VLOOKUP($A65,Estimator!$A$9:$G$210,3,FALSE)),"",VLOOKUP($A65,Estimator!$A$9:$G$210,3,FALSE)) | E65: =IF(ISERROR(VLOOKUP($A65,Estimator!$A$9:$G$210,4,FALSE)),"",VLOOKUP($A65,Estimator!$A$9:$G$210,4,FALSE)) | G65: =IF(ISERROR(VLOOKUP($A65,Estimator!$A$9:$G$210,7,FALSE)),"",VLOOKUP($A65,Estimator!$A$9:$G$210,7,FALSE)) | J65: =IF(ISERROR(VLOOKUP($A65,Estimator!$A$9:$G$210,5,FALSE)),"",VLOOKUP($A65,Estimator!$A$9:$G$210,5,FALSE)) | L65: =IF(ISERROR(VLOOKUP($A65,Estimator!$A$9:$H$210,8,FALSE)),"",VLOOKUP($A65,Estimator!$A$9:$H$210,8,FALSE))
A66: =1+A65 -> 59 | C66: =IF(ISERROR(VLOOKUP($A66,Estimator!$A$9:$G$210,3,FALSE)),"",VLOOKUP($A66,Estimator!$A$9:$G$210,3,FALSE)) | E66: =IF(ISERROR(VLOOKUP($A66,Estimator!$A$9:$G$210,4,FALSE)),"",VLOOKUP($A66,Estimator!$A$9:$G$210,4,FALSE)) | G66: =IF(ISERROR(VLOOKUP($A66,Estimator!$A$9:$G$210,7,FALSE)),"",VLOOKUP($A66,Estimator!$A$9:$G$210,7,FALSE)) | L66: =IF(ISERROR(VLOOKUP($A66,Estimator!$A$9:$H$210,8,FALSE)),"",VLOOKUP($A66,Estimator!$A$9:$H$210,8,FALSE))
A67: =1+A66 -> 60 | C67: =IF(ISERROR(VLOOKUP($A67,Estimator!$A$9:$G$210,3,FALSE)),"",VLOOKUP($A67,Estimator!$A$9:$G$210,3,FALSE)) | E67: =IF(ISERROR(VLOOKUP($A67,Estimator!$A$9:$G$210,4,FALSE)),"",VLOOKUP($A67,Estimator!$A$9:$G$210,4,FALSE)) | G67: =IF(ISERROR(VLOOKUP($A67,Estimator!$A$9:$G$210,7,FALSE)),"",VLOOKUP($A67,Estimator!$A$9:$G$210,7,FALSE)) | L67: =IF(ISERROR(VLOOKUP($A67,Estimator!$A$9:$H$210,8,FALSE)),"",VLOOKUP($A67,Estimator!$A$9:$H$210,8,FALSE))
A68: =1+A67 -> 61
A69: =1+A68 -> 62
A70: =1+A69 -> 63
A71: =1+A70 -> 64
A72: =1+A71 -> 65
A73: =1+A72 -> 66
A74: =1+A73 -> 67
A75: =1+A74 -> 68
A76: =1+A75 -> 69
A77: =1+A76 -> 70
A78: =1+A77 -> 71
A79: =1+A78 -> 72
... A107: =1+A106 -> 100
O275: =IF(Estimator!E255>0,1,"")
O276: =IF(Estimator!E256>0,1,"")
O277: =IF(Estimator!E257>0,1,"")
O278: =IF(Estimator!E258>0,1,"")
O279: =IF(Estimator!E259>0,1,"")
O280: =IF(Estimator!E260>0,1,"")
O281: =IF(Estimator!E261>0,1,"")
O282: =IF(Estimator!E262>0,1,"")
O283: =IF(Estimator!E263>0,1,"")
O284: =IF(Estimator!E264>0,1,"")
O285: =IF(Estimator!E265>0,1,"")
O286: =IF(Estimator!E266>0,1,"")
... O303: =IF(Estimator!E283>0,1,"")
