Workbook
Name a: 'TruPress Price File'!$1:$1048576

Sheet TruPress Price File
C1: #VALUE!
C5: Item No. | D5: Description | E5: Per | F5: TruPress List Price | G5: TruPress List Price Per Meter | H5: Quantity | I5: Total | J5: TruPress DN
A6: 1 | B6: Non-Annealed 316 Stainless Steel Piping 6m Length
A7: =IF(IFERROR(H7*1,0)>0,A6+1,A6) -> 1 | B7: #VALUE! | C7: TS1-15-316-NA | D7: 15mm Pipe 316L Non-Annealed | E7: Length | F7: =G7*6 -> 159.54 | G7: 26.59 | I7: =(F7*H7) -> 0 | J7: =SUM(F7*0.5)*H7 -> 0
A8: =IF(IFERROR(H8*1,0)>0,A7+1,A7) -> 1 | C8: TS1-22-316-NA | D8: 22mm Pipe 316L Non-Annealed | E8: Length | F8: =G8*6 -> 253.02 | G8: 42.17 | I8: =(F8*H8) -> 0 | J8: =SUM(F8*0.5)*H8 -> 0
A9: =IF(IFERROR(H9*1,0)>0,A8+1,A8) -> 1 | C9: TS1-28-316-NA | D9: 28mm Pipe 316L Non-Annealed | E9: Length | F9: =G9*6 -> 303.54 | G9: 50.59 | I9: =(F9*H9) -> 0 | J9: =SUM(F9*0.5)*H9 -> 0
A10: =IF(IFERROR(H10*1,0)>0,A9+1,A9) -> 1 | C10: TS1-42-316-NA | D10: 42mm Pipe 316L Non-Annealed | E10: Length | F10: =G10*6 -> 544.62 | G10: 90.77 | I10: =(F10*H10) -> 0 | J10: =SUM(F10*0.5)*H10 -> 0
A11: =IF(IFERROR(H11*1,0)>0,A10+1,A10) -> 1 | C11: TS1-54-316-NA | D11: 54mm Pipe 316L Non-Annealed | E11: Length | F11: =G11*6 -> 698.64 | G11: 116.44 | I11: =(F11*H11) -> 0 | J11: =SUM(F11*0.5)*H11 -> 0
A12: =IF(IFERROR(H12*1,0)>0,A11+1,A11) -> 1 | C12: TS1-76-316-NA | D12: 76mm Pipe 316L Non-Annealed | E12: Length | F12: =G12*6 -> 1256.1 | G12: 209.35 | I12: =(F12*H12) -> 0 | J12: =SUM(F12*0.5)*H12 -> 0
A13: =IF(IFERROR(H13*1,0)>0,A12+1,A12) -> 1 | C13: TS1-88-316-NA | D13: 88mm Pipe 316L Non-Annealed | E13: Length | F13: =G13*6 -> 1463.82 | G13: 243.97 | I13: =(F13*H13) -> 0 | J13: =SUM(F13*0.5)*H13 -> 0
A14: =IF(IFERROR(H14*1,0)>0,A13+1,A13) -> 1 | C14: TS1-108-316-NA | D14: 108mm Pipe 316L Non-Annealed | E14: Length | F14: =G14*6 -> 1778.94 | G14: 296.49 | I14: =(F14*H14) -> 0 | J14: =SUM(F14*0.5)*H14 -> 0
A15: =IF(IFERROR(H15*1,0)>0,A14+1,A14) -> 1 | C15: TS1-168-316-NA | D15: 168mm Pipe 316L Non-Annealed | E15: Length | F15: =G15*6 -> 3177.36 | G15: 529.56 | I15: =(F15*H15) -> 0 | J15: =SUM(F15*0.5)*H15 -> 0
A16: =IF(IFERROR(H16*1,0)>0,A15+1,A15) -> 1 | B16: Annealed 316 Stainless Steel Piping 6m Length
A17: =IF(IFERROR(H17*1,0)>0,A16+1,A16) -> 1 | B17: #VALUE! | C17: TS1-15-316 | D17: 15mm Pipe 316L Annealed | E17: Length | F17: =G17*6 -> 235.08 | G17: 39.18 | I17: =(F17*H17) -> 0 | J17: =(F17*0.5)*H17 -> 0
A18: =IF(IFERROR(H18*1,0)>0,A17+1,A17) -> 1 | C18: TS1-22-316 | D18: 22mm Pipe 316L Annealed | E18: Length | F18: =G18*6 -> 321.42 | G18: 53.57 | I18: =(F18*H18) -> 0 | J18: =(F18*0.5)*H18 -> 0
A19: =IF(IFERROR(H19*1,0)>0,A18+1,A18) -> 1 | C19: TS1-28-316 | D19: 28mm Pipe 316L Annealed | E19: Length | F19: =G19*6 -> 409.2 | G19: 68.2 | I19: =(F19*H19) -> 0 | J19: =(F19*0.5)*H19 -> 0
A20: =IF(IFERROR(H20*1,0)>0,A19+1,A19) -> 1 | C20: TS1-42-316 | D20: 42mm Pipe 316L Annealed | E20: Length | F20: =G20*6 -> 719.16 | G20: 119.86 | I20: =(F20*H20) -> 0 | J20: =(F20*0.5)*H20 -> 0
A21: =IF(IFERROR(H21*1,0)>0,A20+1,A20) -> 1 | C21: TS1-54-316 | D21: 54mm Pipe 316L Annealed | E21: Length | F21: =G21*6 -> 890.88 | G21: 148.48 | I21: =(F21*H21) -> 0 | J21: =(F21*0.5)*H21 -> 0
A22: =IF(IFERROR(H22*1,0)>0,A21+1,A21) -> 1 | C22: TS1-76-316 | D22: 76mm Pipe 316L Annealed | E22: Length | F22: =G22*6 -> 1456.44 | G22: 242.74 | I22: =(F22*H22) -> 0 | J22: =(F22*0.5)*H22 -> 0
A23: =IF(IFERROR(H23*1,0)>0,A22+1,A22) -> 1 | C23: TS1-88-316 | D23: 88mm Pipe 316L Annealed | E23: Length | F23: =G23*6 -> 1768.26 | G23: 294.71 | I23: =(F23*H23) -> 0 | J23: =(F23*0.5)*H23 -> 0
A24: =IF(IFERROR(H24*1,0)>0,A23+1,A23) -> 1 | C24: TS1-108-316 | D24: 108mm Pipe 316L Annealed | E24: Length | F24: =G24*6 -> 2117.82 | G24: 352.97 | I24: =(F24*H24) -> 0 | J24: =(F24*0.5)*H24 -> 0
A25: =IF(IFERROR(H25*1,0)>0,A24+1,A24) -> 1 | B25: Annealed 304 Stainless Steel Piping 6m Length
A26: =IF(IFERROR(H26*1,0)>0,A25+1,A25) -> 1 | B26: #VALUE! | C26: TS1-15-304 | D26: 15mm Pipe 304L **Stock** | E26: Length | F26: =(G26*6) -> 119.22 | G26: 19.87 | I26: =(F26*H26) -> 0 | J26: =(F26*0.5)*H26 -> 0
A27: =IF(IFERROR(H27*1,0)>0,A26+1,A26) -> 1 | C27: TS1-22-304 | D27: 22mm Pipe 304L **Stock** | E27: Length | F27: =(G27*6) -> 161.64 | G27: 26.94 | I27: =(F27*H27) -> 0 | J27: =(F27*0.5)*H27 -> 0
A28: =IF(IFERROR(H28*1,0)>0,A27+1,A27) -> 1 | C28: TS1-28-304 | D28: 28mm Pipe 304L **Stock** | E28: Length | F28: =(G28*6) -> 191.82 | G28: 31.97 | I28: =(F28*H28) -> 0 | J28: =(F28*0.5)*H28 -> 0
A29: =IF(IFERROR(H29*1,0)>0,A28+1,A28) -> 1 | C29: TS1-43-304 | D29: 42mm Pipe 304L **Stock** | E29: Length | F29: =(G29*6) -> 356.34 | G29: 59.39 | I29: =(F29*H29) -> 0 | J29: =(F29*0.5)*H29 -> 0
A30: =IF(IFERROR(H30*1,0)>0,A29+1,A29) -> 1 | C30: TS1-54-304 | D30: 54mm Pipe 304L **Stock** | E30: Length | F30: =(G30*6) -> 472.92 | G30: 78.82 | I30: =(F30*H30) -> 0 | J30: =(F30*0.5)*H30 -> 0
A31: =IF(IFERROR(H31*1,0)>0,A30+1,A30) -> 1 | C31: TS1-76-304 | D31: 76mm Pipe 304L | E31: Length | F31: =(G31*6) -> 893.46 | G31: 148.91 | I31: =(F31*H31) -> 0 | J31: =(F31*0.5)*H31 -> 0
A32: =IF(IFERROR(H32*1,0)>0,A31+1,A31) -> 1 | C32: TS1-88-304 | D32: 88mm Pipe 304L | E32: Length | F32: =(G32*6) -> 970.62 | G32: 161.77 | I32: =(F32*H32) -> 0 | J32: =(F32*0.5)*H32 -> 0
A33: =IF(IFERROR(H33*1,0)>0,A32+1,A32) -> 1 | C33: TS1-108-304 | D33: 108mm Pipe 304L | E33: Length | F33: =(G33*6) -> 1047.84 | G33: 174.64 | I33: =(F33*H33) -> 0 | J33: =(F33*0.5)*H33 -> 0
A34: =IF(IFERROR(H34*1,0)>0,A33+1,A33) -> 1 | C34: TS1-168-304 | D34: 168mm Pipe 304L | E34: Length | F34: =(G34*6) -> 1765.56 | G34: 294.26 | I34: =(F34*H34) -> 0 | J34: =(F34*0.5)*H34 -> 0
A35: =IF(IFERROR(H35*1,0)>0,A34+1,A34) -> 1 | B35: 15 Degree Elbows
A36: =IF(IFERROR(H36*1,0)>0,A35+1,A35) -> 1 | C36: TS5-15 | D36: 15mm 15° Elbow | E36: Each | F36: 65.79 | G36: 0 | I36: =(F36*H36) -> 0 | J36: =(F36*0.5)*H36 -> 0
A37: =IF(IFERROR(H37*1,0)>0,A36+1,A36) -> 1 | B37: #VALUE! | C37: TS5-22 | D37: 22mm 15° Elbow | E37: Each | F37: 70.35 | G37: 0 | I37: =(F37*H37) -> 0 | J37: =(F37*0.5)*H37 -> 0
A38: =IF(IFERROR(H38*1,0)>0,A37+1,A37) -> 1 | C38: TS5-28 | D38: 28mm 15° Elbow | E38: Each | F38: 83.09 | G38: 0 | I38: =(F38*H38) -> 0 | J38: =(F38*0.5)*H38 -> 0
A39: =IF(IFERROR(H39*1,0)>0,A38+1,A38) -> 1 | C39: TS5-42 | D39: 42mm 15° Elbow | E39: Each | F39: 141.04 | G39: 0 | I39: =(F39*H39) -> 0 | J39: =(F39*0.5)*H39 -> 0
A40: =IF(IFERROR(H40*1,0)>0,A39+1,A39) -> 1 | C40: TS5-54 | D40: 54mm 15° Elbow | E40: Each | F40: 181.13 | G40: 0 | I40: =(F40*H40) -> 0 | J40: =(F40*0.5)*H40 -> 0
A41: =IF(IFERROR(H41*1,0)>0,A40+1,A40) -> 1 | C41: TS5-76 | D41: 76mm 15° Elbow | E41: Each | F41: 330.26 | G41: 0 | I41: =(F41*H41) -> 0 | J41: =(F41*0.5)*H41 -> 0
A42: =IF(IFERROR(H42*1,0)>0,A41+1,A41) -> 1 | C42: TS5-88 | D42: 88mm 15° Elbow | E42: Each | F42: 393.52 | G42: 0 | I42: =(F42*H42) -> 0 | J42: =(F42*0.5)*H42 -> 0
A43: =IF(IFERROR(H43*1,0)>0,A42+1,A42) -> 1 | C43: TS5-108 | D43: 108mm 15° Elbow | E43: Each | F43: 536.56 | G43: 0 | I43: =(F43*H43) -> 0 | J43: =(F43*0.5)*H43 -> 0
...

Sheet Summary
B1: #VALUE! | G1: List Total: | H1: =SUM(F6:F800) -> 0
G2: Final Cost: | H2: =SUM(G6:G800)+O4 -> 0
G3: Discount:
G4: Amount Saved: | H4: =SUM(H1-H2) -> 0
A5: ROW | B5: Description | C5: TruPress PN | D5: List Cost | E5: Quantity | F5: Total Price | G5: Discounted Price | H5: NOTES
A6: 2 | B6: =IFERROR(VLOOKUP($A6,'TruPress Price File'!$A$7:$J$460,4,0),"") | C6: =IFERROR(VLOOKUP($A6,'TruPress Price File'!$A$7:$J$460,3,0),"") | D6: =IFERROR(VLOOKUP($A6,'TruPress Price File'!$A$7:$J$460,6,0),"") | E6: =IFERROR(VLOOKUP($A6,'TruPress Price File'!$A$7:$J$460,8,0),"") | F6: =IFERROR(VLOOKUP($A6,'TruPress Price File'!$A$7:$J$460,9,0),"") | G6: =IFERROR(F6-(F6*$H$3%),"")
A7: 3 | B7: =IFERROR(VLOOKUP($A7,'TruPress Price File'!$A$7:$J$460,4,0),"") | C7: =IFERROR(VLOOKUP($A7,'TruPress Price File'!$A$7:$J$460,3,0),"") | D7: =IFERROR(VLOOKUP($A7,'TruPress Price File'!$A$7:$J$460,6,0),"") | E7: =IFERROR(VLOOKUP($A7,'TruPress Price File'!$A$7:$J$460,8,0),"") | F7: =IFERROR(VLOOKUP($A7,'TruPress Price File'!$A$7:$J$460,9,0),"") | G7: =IFERROR(F7-(F7*$H$3%),"")
A8: 4 | B8: =IFERROR(VLOOKUP($A8,'TruPress Price File'!$A$7:$J$460,4,0),"") | C8: =IFERROR(VLOOKUP($A8,'TruPress Price File'!$A$7:$J$460,3,0),"") | D8: =IFERROR(VLOOKUP($A8,'TruPress Price File'!$A$7:$J$460,6,0),"") | E8: =IFERROR(VLOOKUP($A8,'TruPress Price File'!$A$7:$J$460,8,0),"") | F8: =IFERROR(VLOOKUP($A8,'TruPress Price File'!$A$7:$J$460,9,0),"") | G8: =IFERROR(F8-(F8*$H$3%),"")
A9: 5 | B9: =IFERROR(VLOOKUP($A9,'TruPress Price File'!$A$7:$J$460,4,0),"") | C9: =IFERROR(VLOOKUP($A9,'TruPress Price File'!$A$7:$J$460,3,0),"") | D9: =IFERROR(VLOOKUP($A9,'TruPress Price File'!$A$7:$J$460,6,0),"") | E9: =IFERROR(VLOOKUP($A9,'TruPress Price File'!$A$7:$J$460,8,0),"") | F9: =IFERROR(VLOOKUP($A9,'TruPress Price File'!$A$7:$J$460,9,0),"") | G9: =IFERROR(F9-(F9*$H$3%),"")
A10: 6 | B10: =IFERROR(VLOOKUP($A10,'TruPress Price File'!$A$7:$J$460,4,0),"") | C10: =IFERROR(VLOOKUP($A10,'TruPress Price File'!$A$7:$J$460,3,0),"") | D10: =IFERROR(VLOOKUP($A10,'TruPress Price File'!$A$7:$J$460,6,0),"") | E10: =IFERROR(VLOOKUP($A10,'TruPress Price File'!$A$7:$J$460,8,0),"") | F10: =IFERROR(VLOOKUP($A10,'TruPress Price File'!$A$7:$J$460,9,0),"") | G10: =IFERROR(F10-(F10*$H$3%),"")
A11: 7 | B11: =IFERROR(VLOOKUP($A11,'TruPress Price File'!$A$7:$J$460,4,0),"") | C11: =IFERROR(VLOOKUP($A11,'TruPress Price File'!$A$7:$J$460,3,0),"") | D11: =IFERROR(VLOOKUP($A11,'TruPress Price File'!$A$7:$J$460,6,0),"") | E11: =IFERROR(VLOOKUP($A11,'TruPress Price File'!$A$7:$J$460,8,0),"") | F11: =IFERROR(VLOOKUP($A11,'TruPress Price File'!$A$7:$J$460,9,0),"") | G11: =IFERROR(F11-(F11*$H$3%),"")
A12: 8 | B12: =IFERROR(VLOOKUP($A12,'TruPress Price File'!$A$7:$J$460,4,0),"") | C12: =IFERROR(VLOOKUP($A12,'TruPress Price File'!$A$7:$J$460,3,0),"") | D12: =IFERROR(VLOOKUP($A12,'TruPress Price File'!$A$7:$J$460,6,0),"") | E12: =IFERROR(VLOOKUP($A12,'TruPress Price File'!$A$7:$J$460,8,0),"") | F12: =IFERROR(VLOOKUP($A12,'TruPress Price File'!$A$7:$J$460,9,0),"") | G12: =IFERROR(F12-(F12*$H$3%),"")
A13: 9 | B13: =IFERROR(VLOOKUP($A13,'TruPress Price File'!$A$7:$J$460,4,0),"") | C13: =IFERROR(VLOOKUP($A13,'TruPress Price File'!$A$7:$J$460,3,0),"") | D13: =IFERROR(VLOOKUP($A13,'TruPress Price File'!$A$7:$J$460,6,0),"") | E13: =IFERROR(VLOOKUP($A13,'TruPress Price File'!$A$7:$J$460,8,0),"") | F13: =IFERROR(VLOOKUP($A13,'TruPress Price File'!$A$7:$J$460,9,0),"") | G13: =IFERROR(F13-(F13*$H$3%),"")
A14: 10 | B14: =IFERROR(VLOOKUP($A14,'TruPress Price File'!$A$7:$J$460,4,0),"") | C14: =IFERROR(VLOOKUP($A14,'TruPress Price File'!$A$7:$J$460,3,0),"") | D14: =IFERROR(VLOOKUP($A14,'TruPress Price File'!$A$7:$J$460,6,0),"") | E14: =IFERROR(VLOOKUP($A14,'TruPress Price File'!$A$7:$J$460,8,0),"") | F14: =IFERROR(VLOOKUP($A14,'TruPress Price File'!$A$7:$J$460,9,0),"") | G14: =IFERROR(F14-(F14*$H$3%),"")
A15: 11 | B15: =IFERROR(VLOOKUP($A15,'TruPress Price File'!$A$7:$J$460,4,0),"") | C15: =IFERROR(VLOOKUP($A15,'TruPress Price File'!$A$7:$J$460,3,0),"") | D15: =IFERROR(VLOOKUP($A15,'TruPress Price File'!$A$7:$J$460,6,0),"") | E15: =IFERROR(VLOOKUP($A15,'TruPress Price File'!$A$7:$J$460,8,0),"") | F15: =IFERROR(VLOOKUP($A15,'TruPress Price File'!$A$7:$J$460,9,0),"") | G15: =IFERROR(F15-(F15*$H$3%),"")
A16: 12 | B16: =IFERROR(VLOOKUP($A16,'TruPress Price File'!$A$7:$J$460,4,0),"") | C16: =IFERROR(VLOOKUP($A16,'TruPress Price File'!$A$7:$J$460,3,0),"") | D16: =IFERROR(VLOOKUP($A16,'TruPress Price File'!$A$7:$J$460,6,0),"") | E16: =IFERROR(VLOOKUP($A16,'TruPress Price File'!$A$7:$J$460,8,0),"") | F16: =IFERROR(VLOOKUP($A16,'TruPress Price File'!$A$7:$J$460,9,0),"") | G16: =IFERROR(F16-(F16*$H$3%),"")
A17: 13 | B17: =IFERROR(VLOOKUP($A17,'TruPress Price File'!$A$7:$J$460,4,0),"") | C17: =IFERROR(VLOOKUP($A17,'TruPress Price File'!$A$7:$J$460,3,0),"") | D17: =IFERROR(VLOOKUP($A17,'TruPress Price File'!$A$7:$J$460,6,0),"") | E17: =IFERROR(VLOOKUP($A17,'TruPress Price File'!$A$7:$J$460,8,0),"") | F17: =IFERROR(VLOOKUP($A17,'TruPress Price File'!$A$7:$J$460,9,0),"") | G17: =IFERROR(F17-(F17*$H$3%),"")
... A423: 414 | B423: =IFERROR(VLOOKUP($A423,'TruPress Price File'!$A$7:$J$460,4,0),"") | C423: =IFERROR(VLOOKUP($A423,'TruPress Price File'!$A$7:$J$460,3,0),"") | D423: =IFERROR(VLOOKUP($A423,'TruPress Price File'!$A$7:$J$460,6,0),"") | E423: =IFERROR(VLOOKUP($A423,'TruPress Price File'!$A$7:$J$460,8,0),"") | F423: =IFERROR(VLOOKUP($A423,'TruPress Price File'!$A$7:$J$460,9,0),"") | G423: =IFERROR(F423-(F423*$H$3%),"")
A424: 414 | B424: =IFERROR(VLOOKUP($A424,'TruPress Price File'!$A$7:$J$460,4,0),"") | C424: =IFERROR(VLOOKUP($A424,'TruPress Price File'!$A$7:$J$460,2,0),"") | D424: =IFERROR(VLOOKUP($A424,'TruPress Price File'!$A$7:$J$460,6,0),"") | E424: =IFERROR(VLOOKUP($A424,'TruPress Price File'!$A$7:$J$460,8,0),"") | F424: =IFERROR(VLOOKUP($A424,'TruPress Price File'!$A$7:$J$460,9,0),"") | G424: =IFERROR(F424-(F424*$H$3%),"")
A425: 414 | B425: =IFERROR(VLOOKUP($A425,'TruPress Price File'!$A$7:$J$460,4,0),"") | C425: =IFERROR(VLOOKUP($A425,'TruPress Price File'!$A$7:$J$460,2,0),"") | D425: =IFERROR(VLOOKUP($A425,'TruPress Price File'!$A$7:$J$460,6,0),"") | E425: =IFERROR(VLOOKUP($A425,'TruPress Price File'!$A$7:$J$460,8,0),"") | F425: =IFERROR(VLOOKUP($A425,'TruPress Price File'!$A$7:$J$460,9,0),"") | G425: =IFERROR(F425-(F425*$H$3%),"")
A426: 414 | B426: =IFERROR(VLOOKUP($A426,'TruPress Price File'!$A$7:$J$460,4,0),"") | C426: =IFERROR(VLOOKUP($A426,'TruPress Price File'!$A$7:$J$460,2,0),"") | D426: =IFERROR(VLOOKUP($A426,'TruPress Price File'!$A$7:$J$460,6,0),"") | E426: =IFERROR(VLOOKUP($A426,'TruPress Price File'!$A$7:$J$460,8,0),"") | F426: =IFERROR(VLOOKUP($A426,'TruPress Price File'!$A$7:$J$460,9,0),"") | G426: =IFERROR(F426-(F426*$H$3%),"")
A427: 414 | B427: =IFERROR(VLOOKUP($A427,'TruPress Price File'!$A$7:$J$460,4,0),"") | C427: =IFERROR(VLOOKUP($A427,'TruPress Price File'!$A$7:$J$460,2,0),"") | D427: =IFERROR(VLOOKUP($A427,'TruPress Price File'!$A$7:$J$460,6,0),"") | E427: =IFERROR(VLOOKUP($A427,'TruPress Price File'!$A$7:$J$460,8,0),"") | F427: =IFERROR(VLOOKUP($A427,'TruPress Price File'!$A$7:$J$460,9,0),"") | G427: =IFERROR(F427-(F427*$H$3%),"")
A428: 414 | B428: =IFERROR(VLOOKUP($A428,'TruPress Price File'!$A$7:$J$460,4,0),"") | C428: =IFERROR(VLOOKUP($A428,'TruPress Price File'!$A$7:$J$460,2,0),"") | D428: =IFERROR(VLOOKUP($A428,'TruPress Price File'!$A$7:$J$460,6,0),"") | E428: =IFERROR(VLOOKUP($A428,'TruPress Price File'!$A$7:$J$460,8,0),"") | F428: =IFERROR(VLOOKUP($A428,'TruPress Price File'!$A$7:$J$460,9,0),"") | G428: =IFERROR(F428-(F428*$H$3%),"")
A429: 414 | B429: =IFERROR(VLOOKUP($A429,'TruPress Price File'!$A$7:$J$460,4,0),"") | C429: =IFERROR(VLOOKUP($A429,'TruPress Price File'!$A$7:$J$460,2,0),"") | D429: =IFERROR(VLOOKUP($A429,'TruPress Price File'!$A$7:$J$460,6,0),"") | E429: =IFERROR(VLOOKUP($A429,'TruPress Price File'!$A$7:$J$460,8,0),"") | F429: =IFERROR(VLOOKUP($A429,'TruPress Price File'!$A$7:$J$460,9,0),"") | G429: =IFERROR(F429-(F429*$H$3%),"")
A430: 414 | B430: =IFERROR(VLOOKUP($A430,'TruPress Price File'!$A$7:$J$460,4,0),"") | C430: =IFERROR(VLOOKUP($A430,'TruPress Price File'!$A$7:$J$460,2,0),"") | D430: =IFERROR(VLOOKUP($A430,'TruPress Price File'!$A$7:$J$460,6,0),"") | E430: =IFERROR(VLOOKUP($A430,'TruPress Price File'!$A$7:$J$460,8,0),"") | F430: =IFERROR(VLOOKUP($A430,'TruPress Price File'!$A$7:$J$460,9,0),"") | G430: =IFERROR(F430-(F430*$H$3%),"")
A431: 414 | B431: =IFERROR(VLOOKUP($A431,'TruPress Price File'!$A$7:$J$460,4,0),"") | C431: =IFERROR(VLOOKUP($A431,'TruPress Price File'!$A$7:$J$460,2,0),"") | D431: =IFERROR(VLOOKUP($A431,'TruPress Price File'!$A$7:$J$460,6,0),"") | E431: =IFERROR(VLOOKUP($A431,'TruPress Price File'!$A$7:$J$460,8,0),"") | F431: =IFERROR(VLOOKUP($A431,'TruPress Price File'!$A$7:$J$460,9,0),"") | G431: =IFERROR(F431-(F431*$H$3%),"")
A432: 414 | B432: =IFERROR(VLOOKUP($A432,'TruPress Price File'!$A$7:$J$460,4,0),"") | C432: =IFERROR(VLOOKUP($A432,'TruPress Price File'!$A$7:$J$460,2,0),"") | D432: =IFERROR(VLOOKUP($A432,'TruPress Price File'!$A$7:$J$460,6,0),"") | E432: =IFERROR(VLOOKUP($A432,'TruPress Price File'!$A$7:$J$460,8,0),"") | F432: =IFERROR(VLOOKUP($A432,'TruPress Price File'!$A$7:$J$460,9,0),"") | G432: =IFERROR(F432-(F432*$H$3%),"")
A433: 414 | B433: =IFERROR(VLOOKUP($A433,'TruPress Price File'!$A$7:$J$460,4,0),"") | C433: =IFERROR(VLOOKUP($A433,'TruPress Price File'!$A$7:$J$460,2,0),"") | D433: =IFERROR(VLOOKUP($A433,'TruPress Price File'!$A$7:$J$460,6,0),"") | E433: =IFERROR(VLOOKUP($A433,'TruPress Price File'!$A$7:$J$460,8,0),"") | F433: =IFERROR(VLOOKUP($A433,'TruPress Price File'!$A$7:$J$460,9,0),"") | G433: =IFERROR(F433-(F433*$H$3%),"")
A434: 414 | B434: =IFERROR(VLOOKUP($A434,'TruPress Price File'!$A$7:$J$460,4,0),"") | C434: =IFERROR(VLOOKUP($A434,'TruPress Price File'!$A$7:$J$460,2,0),"") | D434: =IFERROR(VLOOKUP($A434,'TruPress Price File'!$A$7:$J$460,6,0),"") | E434: =IFERROR(VLOOKUP($A434,'TruPress Price File'!$A$7:$J$460,8,0),"") | F434: =IFERROR(VLOOKUP($A434,'TruPress Price File'!$A$7:$J$460,9,0),"") | G434: =IFERROR(F434-(F434*$H$3%),"")
A435: 414 | B435: =IFERROR(VLOOKUP($A435,'TruPress Price File'!$A$7:$J$460,4,0),"") | C435: =IFERROR(VLOOKUP($A435,'TruPress Price File'!$A$7:$J$460,2,0),"") | D435: =IFERROR(VLOOKUP($A435,'TruPress Price File'!$A$7:$J$460,6,0),"") | E435: =IFERROR(VLOOKUP($A435,'TruPress Price File'!$A$7:$J$460,8,0),"") | F435: =IFERROR(VLOOKUP($A435,'TruPress Price File'!$A$7:$J$460,9,0),"") | G435: =IFERROR(F435-(F435*$H$3%),"")
... A593: 414 | B593: =IFERROR(VLOOKUP($A593,'TruPress Price File'!$A$7:$J$460,4,0),"") | C593: =IFERROR(VLOOKUP($A593,'TruPress Price File'!$A$7:$J$460,2,0),"") | D593: =IFERROR(VLOOKUP($A593,'TruPress Price File'!$A$7:$J$460,6,0),"") | E593: =IFERROR(VLOOKUP($A593,'TruPress Price File'!$A$7:$J$460,8,0),"") | F593: =IFERROR(VLOOKUP($A593,'TruPress Price File'!$A$7:$J$460,9,0),"") | G593: =IFERROR(F593-(F593*$H$3%),"")
