Workbook
Name a: 'TruPress Price File'!$1:$1048576

Sheet TruPress Price File
C1: #VALUE!
C5: Item No. | D5: Description | E5: Per | F5: TruPress List Price | G5: TruPress List Price Per Meter | H5: Quantity | I5: Total | J5: TruPress DN
A6: 1 | B6: Non-Annealed 316 Stainless Steel Piping 6m Length
A7: =IF(IFERROR(H7*1,0)>0,A6+1,A6) -> 1 | B7: #VALUE! | C7: TS1-15-316-NA | D7: 15mm Pipe 316L Non-Annealed | E7: Length | F7: =G7*6 -> 159.54 | G7: 26.59 | I7: =(F7*H7) -> 0 | J7: =SUM(F7*0.5)*H7 -> 0
A8: =IF(IFERROR(H8*1,0)>0,A7+1,A7) -> 1 | C8: TS1-22-316-NA | D8: 22mm Pipe 316L Non-Annealed | E8: Length | F8: =G8*6 -> 253.02 | G8: 42.17 | I8: =(F8*H8) -> 0 | J8: =SUM(F8*0.5)*H8 -> 0
A9: =IF(IFERROR(H9*1,0)>0,A8+1,A8) -> 1 | C9: TS1-28-316-NA | D9: 28mm Pipe 316L Non-Annealed | E9: Length | F9: =G9*6 -> 303.54 | G9: 50.59 | I9: =(F9*H9) -> 0 | J9: =SUM(F9*0.5)*H9 -> 0
A10: =IF(IFERROR(H10*1,0)>0,A9+1,A9) -> 1 | C10: TS1-42-316-NA | D10: 42mm Pipe 316L Non-Annealed | E10: Length | F10: =G10*6 -> 544.62 | G10: 90.77 | I10: =(F10*H10) -> 0 | J10: =SUM(F10*0.5)*H10 -> 0
A11: =IF(IFERROR(H11*1,0)>0,A10+1,A10) -> 1 | C11: TS1-54-316-NA | D11: 54mm Pipe 316L Non-Annealed | E11: Length | F11: =G11*6 -> 698.64 | G11: 116.44 | I11: =(F11*H11) -> 0 | J11: =SUM(F11*0.5)*H11 -> 0
A12: =IF(IFERROR(H12*1,0)>0,A11+1,A11) -> 1 | C12: TS1-76-316-NA | D12: 76mm Pipe 316L Non-Annealed | E12: Length | F12: =G12*6 -> 1256.1 | G12: 209.35 | I12: =(F12*H12) -> 0 | J12: =SUM(F12*0.5)*H12 -> 0
A13: =IF(IFERROR(H13*1,0)>0,A12+1,A12) -> 1 | C13: TS1-88-316-NA | D13: 88mm Pipe 316L Non-Annealed | E13: Length | F13: =G13*6 -> 1463.82 | G13: 243.97 | I13: =(F13*H13) -> 0 | J13: =SUM(F13*0.5)*H13 -> 0
A14: =IF(IFERROR(H14*1,0)>0,A13+1,A13) -> 1 | C14: TS1-108-316-NA | D14: 108mm Pipe 316L Non-Annealed | E14: Length | F14: =G14*6 -> 1778.94 | G14: 296.49 | I14: =(F14*H14) -> 0 | J14: =SUM(F14*0.5)*H14 -> 0
A15: =IF(IFERROR(H15*1,0)>0,A14+1,A14) -> 1 | C15: TS1-168-316-NA | D15: 168mm Pipe 316L Non-Annealed | E15: Length | F15: =G15*6 -> 3177.36 | G15: 529.56 | I15: =(F15*H15) -> 0 | J15: =SUM(F15*0.5)*H15 -> 0
A16: =IF(IFERROR(H16*1,0)>0,A15+1,A15) -> 1 | B16: Annealed 316 Stainless Steel Piping 6m Length
A17: =IF(IFERROR(H17*1,0)>0,A16+1,A16) -> 1 | B17: #VALUE! | C17: TS1-15-316 | D17: 15mm Pipe 316L Annealed | E17: Length | F17: =G17*6 -> 235.08 | G17: 39.18 | I17: =(F17*H17) -> 0 | J17: =(F17*0.5)*H17 -> 0
A18: =IF(IFERROR(H18*1,0)>0,A17+1,A17) -> 1 | C18: TS1-22-316 | D18: 22mm Pipe 316L Annealed | E18: Length | F18: =G18*6 -> 321.42 | G18: 53.57 | I18: =(F18*H18) -> 0 | J18: =(F18*0.5)*H18 -> 0
A19: =IF(IFERROR(H19*1,0)>0,A18+1,A18) -> 1 | C19: TS1-28-316 | D19: 28mm Pipe 316L Annealed | E19: Length | F19: =G19*6 -> 409.2 | G19: 68.2 | I19: =(F19*H19) -> 0 | J19: =(F19*0.5)*H19 -> 0
A20: =IF(IFERROR(H20*1,0)>0,A19+1,A19) -> 1 | C20: TS1-42-316 | D20: 42mm Pipe 316L Annealed | E20: Length | F20: =G20*6 -> 719.16 | G20: 119.86 | I20: =(F20*H20) -> 0 | J20: =(F20*0.5)*H20 -> 0
A21: =IF(IFERROR(H21*1,0)>0,A20+1,A20) -> 1 | C21: TS1-54-316 | D21: 54mm Pipe 316L Annealed | E21: Length | F21: =G21*6 -> 890.88 | G21: 148.48 | I21: =(F21*H21) -> 0 | J21: =(F21*0.5)*H21 -> 0
A22: =IF(IFERROR(H22*1,0)>0,A21+1,A21) -> 1 | C22: TS1-76-316 | D22: 76mm Pipe 316L Annealed | E22: Length | F22: =G22*6 -> 1456.44 | G22: 242.74 | I22: =(F22*H22) -> 0 | J22: =(F22*0.5)*H22 -> 0
A23: =IF(IFERROR(H23*1,0)>0,A22+1,A22) -> 1 | C23: TS1-88-316 | D23: 88mm Pipe 316L Annealed | E23: Length | F23: =G23*6 -> 1768.26 | G23: 294.71 | I23: =(F23*H23) -> 0 | J23: =(F23*0.5)*H23 -> 0
A24: =IF(IFERROR(H24*1,0)>0,A23+1,A23) -> 1 | C24: TS1-108-316 | D24: 108mm Pipe 316L Annealed | E24: Length | F24: =G24*6 -> 2117.82 | G24: 352.97 | I24: =(F24*H24) -> 0 | J24: =(F24*0.5)*H24 -> 0
A25: =IF(IFERROR(H25*1,0)>0,A24+1,A24) -> 1 | B25: Annealed 304 Stainless Steel Piping 6m Length
A26: =IF(IFERROR(H26*1,0)>0,A25+1,A25) -> 1 | B26: #VALUE! | C26: TS1-15-304 | D26: 15mm Pipe 304L **Stock** | E26: Length | F26: =(G26*6) -> 119.22 | G26: 19.87 | I26: =(F26*H26) -> 0 | J26: =(F26*0.5)*H26 -> 0
A27: =IF(IFERROR(H27*1,0)>0,A26+1,A26) -> 1 | C27: TS1-22-304 | D27: 22mm Pipe 304L **Stock** | E27: Length | F27: =(G27*6) -> 161.64 | G27: 26.94 | I27: =(F27*H27) -> 0 | J27: =(F27*0.5)*H27 -> 0
A28: =IF(IFERROR(H28*1,0)>0,A27+1,A27) -> 1 | C28: TS1-28-304 | D28: 28mm Pipe 304L **Stock** | E28: Length | F28: =(G28*6) -> 191.82 | G28: 31.97 | I28: =(F28*H28) -> 0 | J28: =(F28*0.5)*H28 -> 0
A29: =IF(IFERROR(H29*1,0)>0,A28+1,A28) -> 1 | C29: TS1-43-304 | D29: 42mm Pipe 304L **Stock** | E29: Length | F29: =(G29*6) -> 356.34 | G29: 59.39 | I29: =(F29*H29) -> 0 | J29: =(F29*0.5)*H29 -> 0
A30: =IF(IFERROR(H30*1,0)>0,A29+1,A29) -> 1 | C30: TS1-54-304 | D30: 54mm Pipe 304L **Stock** | E30: Length | F30: =(G30*6) -> 472.92 | G30: 78.82 | I30: =(F30*H30) -> 0 | J30: =(F30*0.5)*H30 -> 0
A31: =IF(IFERROR(H31*1,0)>0,A30+1,A30) -> 1 | C31: TS1-76-304 | D31: 76mm Pipe 304L | E31: Length | F31: =(G31*6) -> 893.46 | G31: 148.91 | I31: =(F31*H31) -> 0 | J31: =(F31*0.5)*H31 -> 0
A32: =IF(IFERROR(H32*1,0)>0,A31+1,A31) -> 1 | C32: TS1-88-304 | D32: 88mm Pipe 304L | E32: Length | F32: =(G32*6) -> 970.62 | G32: 161.77 | I32: =(F32*H32) -> 0 | J32: =(F32*0.5)*H32 -> 0
A33: =IF(IFERROR(H33*1,0)>0,A32+1,A32) -> 1 | C33: TS1-108-304 | D33: 108mm Pipe 304L | E33: Length | F33: =(G33*6) -> 1047.84 | G33: 174.64 | I33: =(F33*H33) -> 0 | J33: =(F33*0.5)*H33 -> 0
A34: =IF(IFERROR(H34*1,0)>0,A33+1,A33) -> 1 | C34: TS1-168-304 | D34: 168mm Pipe 304L | E34: Length | F34: =(G34*6) -> 1765.56 | G34: 294.26 | I34: =(F34*H34) -> 0 | J34: =(F34*0.5)*H34 -> 0
A35: =IF(IFERROR(H35*1,0)>0,A34+1,A34) -> 1 | B35: 15 Degree Elbows
A36: =IF(IFERROR(H36*1,0)>0,A35+1,A35) -> 1 | C36: TS5-15 | D36: 15mm 15° Elbow | E36: Each | F36: 65.79 | G36: 0 | I36: =(F36*H36) -> 0 | J36: =(F36*0.5)*H36 -> 0
A37: =IF(IFERROR(H37*1,0)>0,A36+1,A36) -> 1 | B37: #VALUE! | C37: TS5-22 | D37: 22mm 15° Elbow | E37: Each | F37: 70.35 | G37: 0 | I37: =(F37*H37) -> 0 | J37: =(F37*0.5)*H37 -> 0
A38: =IF(IFERROR(H38*1,0)>0,A37+1,A37) -> 1 | C38: TS5-28 | D38: 28mm 15° Elbow | E38: Each | F38: 83.09 | G38: 0 | I38: =(F38*H38) -> 0 | J38: =(F38*0.5)*H38 -> 0
A39: =IF(IFERROR(H39*1,0)>0,A38+1,A38) -> 1 | C39: TS5-42 | D39: 42mm 15° Elbow | E39: Each | F39: 141.04 | G39: 0 | I39: =(F39*H39) -> 0 | J39: =(F39*0.5)*H39 -> 0
A40: =IF(IFERROR(H40*1,0)>0,A39+1,A39) -> 1 | C40: TS5-54 | D40: 54mm 15° Elbow | E40: Each | F40: 181.13 | G40: 0 | I40: =(F40*H40) -> 0 | J40: =(F40*0.5)*H40 -> 0
A41: =IF(IFERROR(H41*1,0)>0,A40+1,A40) -> 1 | C41: TS5-76 | D41: 76mm 15° Elbow | E41: Each | F41: 330.26 | G41: 0 | I41: =(F41*H41) -> 0 | J41: =(F41*0.5)*H41 -> 0
A42: =IF(IFERROR(H42*1,0)>0,A41+1,A41) -> 1 | C42: TS5-88 | D42: 88mm 15° Elbow | E42: Each | F42: 393.52 | G42: 0 | I42: =(F42*H42) -> 0 | J42: =(F42*0.5)*H42 -> 0
A43: =IF(IFERROR(H43*1,0)>0,A42+1,A42) -> 1 | C43: TS5-108 | D43: 108mm 15° Elbow | E43: Each | F43: 536.56 | G43: 0 | I43: =(F43*H43) -> 0 | J43: =(F43*0.5)*H43 -> 0
A44: =IF(IFERROR(H44*1,0)>0,A43+1,A43) -> 1 | B44: 45 Degree Elbows
A45: =IF(IFERROR(H45*1,0)>0,A44+1,A44) -> 1 | B45: #VALUE! | C45: TS8-15 | D45: 15mm 45° Elbow **Stock** | E45: Each | F45: 63.38 | G45: 93.3945 | I45: =(F45*H45) -> 0 | J45: =(F45*0.5)*H45 -> 0
A46: =IF(IFERROR(H46*1,0)>0,A45+1,A45) -> 1 | C46: TS8-22 | D46: 22mm 45° Elbow **Stock** | E46: Each | F46: 68.79 | G46: 101.365 | I46: =(F46*H46) -> 0 | J46: =(F46*0.5)*H46 -> 0
A47: =IF(IFERROR(H47*1,0)>0,A46+1,A46) -> 1 | C47: TS8-28 | D47: 28mm 45° Elbow **Stock** | E47: Each | F47: 77.79 | I47: =(F47*H47) -> 0 | J47: =(F47*0.5)*H47 -> 0
A48: =IF(IFERROR(H48*1,0)>0,A47+1,A47) -> 1 | C48: TS8-42 | D48: 42mm 45° Elbow **Stock** | E48: Each | F48: 136.89 | G48: 199.804 | I48: =(F48*H48) -> 0 | J48: =(F48*0.5)*H48 -> 0
A49: =IF(IFERROR(H49*1,0)>0,A48+1,A48) -> 1 | C49: TS8-54 | D49: 54mm 45° Elbow **Stock** | E49: Each | F49: 172.18 | G49: 251.313 | I49: =(F49*H49) -> 0 | J49: =(F49*0.5)*H49 -> 0
A50: =IF(IFERROR(H50*1,0)>0,A49+1,A49) -> 1 | C50: TS8-76 | D50: 76mm 45° Elbow | E50: Each | F50: 291.52 | G50: 413.44 | I50: =(F50*H50) -> 0 | J50: =(F50*0.5)*H50 -> 0
A51: =IF(IFERROR(H51*1,0)>0,A50+1,A50) -> 1 | C51: TS8-88 | D51: 88mm 45° Elbow | E51: Each | F51: 377.62 | G51: 535.534 | I51: =(F51*H51) -> 0 | J51: =(F51*0.5)*H51 -> 0
A52: =IF(IFERROR(H52*1,0)>0,A51+1,A51) -> 1 | C52: TS8-108 | D52: 108mm 45° Elbow | E52: Each | F52: 544.55 | G52: 772.2645 | I52: =(F52*H52) -> 0 | J52: =(F52*0.5)*H52 -> 0
A53: =IF(IFERROR(H53*1,0)>0,A52+1,A52) -> 1 | C53: TS8-168 | D53: 168mm 45° Elbow | E53: Each | F53: 1414.05 | G53: 0 | I53: =(F53*H53) -> 0 | J53: =(F53*0.5)*H53 -> 0
A54: =IF(IFERROR(H54*1,0)>0,A53+1,A53) -> 1 | B54: 90 Degree Elbows
A55: =IF(IFERROR(H55*1,0)>0,A54+1,A54) -> 1 | B55: #VALUE! | C55: TS6-15 | D55: 15mm 90° Elbow **Stock** | E55: Each | F55: 63.38 | G55: 93.3945 | I55: =(F55*H55) -> 0 | J55: =(F55*0.5)*H55 -> 0
A56: =IF(IFERROR(H56*1,0)>0,A55+1,A55) -> 1 | C56: TS6-22 | D56: 22mm 90° Elbow **Stock** | E56: Each | F56: 68.79 | G56: 101.365 | I56: =(F56*H56) -> 0 | J56: =(F56*0.5)*H56 -> 0
A57: =IF(IFERROR(H57*1,0)>0,A56+1,A56) -> 1 | C57: TS6-28 | D57: 28mm 90° Elbow **Stock** | E57: Each | F57: 77.78 | G57: 114.5985 | I57: =(F57*H57) -> 0 | J57: =(F57*0.5)*H57 -> 0
A58: =IF(IFERROR(H58*1,0)>0,A57+1,A57) -> 1 | C58: TS6-42 | D58: 42mm 90° Elbow **Stock** | E58: Each | F58: 139.86 | I58: =(F58*H58) -> 0 | J58: =(F58*0.5)*H58 -> 0
A59: =IF(IFERROR(H59*1,0)>0,A58+1,A58) -> 1 | C59: TS6-54 | D59: 54mm 90° Elbow **Stock** | E59: Each | F59: 179.07 | G59: 261.345 | I59: =(F59*H59) -> 0 | J59: =(F59*0.5)*H59 -> 0
A60: =IF(IFERROR(H60*1,0)>0,A59+1,A59) -> 1 | C60: TS6-76 | D60: 76mm 90° Elbow | E60: Each | F60: 369.04 | G60: 523.374 | I60: =(F60*H60) -> 0 | J60: =(F60*0.5)*H60 -> 0
A61: =IF(IFERROR(H61*1,0)>0,A60+1,A60) -> 1 | C61: TS6-88 | D61: 88mm 90° Elbow | E61: Each | F61: 425.83 | G61: 603.8865 | I61: =(F61*H61) -> 0 | J61: =(F61*0.5)*H61 -> 0
A62: =IF(IFERROR(H62*1,0)>0,A61+1,A61) -> 1 | C62: TS6-108 | D62: 108mm 90° Elbow | E62: Each | F62: 604.87 | G62: 857.812 | I62: =(F62*H62) -> 0 | J62: =(F62*0.5)*H62 -> 0
A63: =IF(IFERROR(H63*1,0)>0,A62+1,A62) -> 1 | C63: TS6-168 | D63: 168mm 90° Elbow | E63: Each | F63: 1432.48 | G63: 0 | I63: =(F63*H63) -> 0 | J63: =(F63*0.5)*H63 -> 0
A64: =IF(IFERROR(H64*1,0)>0,A63+1,A63) -> 1 | B64: Equal Tees
A65: =IF(IFERROR(H65*1,0)>0,A64+1,A64) -> 1 | C65: TS9-15 | D65: 15mm Equal Tee **Stock** | E65: Each | F65: 145.16 | G65: 213.8735 | I65: =(F65*H65) -> 0 | J65: =(F65*0.5)*H65 -> 0
A66: =IF(IFERROR(H66*1,0)>0,A65+1,A65) -> 1 | B66: #VALUE! | C66: TS9-22 | D66: 22mm Equal Tee **Stock** | E66: Each | F66: 149.33 | G66: 220.02 | I66: =(F66*H66) -> 0 | J66: =(F66*0.5)*H66 -> 0
A67: =IF(IFERROR(H67*1,0)>0,A66+1,A66) -> 1 | C67: TS9-28 | D67: 28mm Equal Tee **Stock** | E67: Each | F67: 172.81 | G67: 254.6 | I67: =(F67*H67) -> 0 | J67: =(F67*0.5)*H67 -> 0
A68: =IF(IFERROR(H68*1,0)>0,A67+1,A67) -> 1 | C68: TS9-42 | D68: 42mm Equal Tee **Stock** | E68: Each | F68: 252.81 | I68: =(F68*H68) -> 0 | J68: =(F68*0.5)*H68 -> 0
A69: =IF(IFERROR(H69*1,0)>0,A68+1,A68) -> 1 | C69: TS9-54 | D69: 54mm Equal Tee **Stock** | E69: Each | F69: 265.27 | G69: 387.1725 | I69: =(F69*H69) -> 0 | J69: =(F69*0.5)*H69 -> 0
A70: =IF(IFERROR(H70*1,0)>0,A69+1,A69) -> 1 | C70: TS9-76 | D70: 76mm Equal Tee | E70: Each | F70: 598.84 | G70: 849.2525 | I70: =(F70*H70) -> 0 | J70: =(F70*0.5)*H70 -> 0
A71: =IF(IFERROR(H71*1,0)>0,A70+1,A70) -> 1 | C71: TS9-88 | D71: 88mm Equal Tee | E71: Each | F71: 617.61 | G71: 875.881 | I71: =(F71*H71) -> 0 | J71: =(F71*0.5)*H71 -> 0
A72: =IF(IFERROR(H72*1,0)>0,A71+1,A71) -> 1 | C72: TS9-108 | D72: 108mm Equal Tee | E72: Each | F72: 793.16 | G72: 1124.838 | I72: =(F72*H72) -> 0 | J72: =(F72*0.5)*H72 -> 0
A73: =IF(IFERROR(H73*1,0)>0,A72+1,A72) -> 1 | C73: TS9-168 | D73: 168mm Equal Tee | E73: Each | F73: 2055.2 | G73: 2464.4235 | I73: =(F73*H73) -> 0 | J73: =(F73*0.5)*H73 -> 0
A74: =IF(IFERROR(H74*1,0)>0,A73+1,A73) -> 1 | B74: Reducing Tees
A75: =IF(IFERROR(H75*1,0)>0,A74+1,A74) -> 1 | C75: TS10-22-15 | D75: 22mm x 15mm x 22mm Reducing Tee **Stock** | E75: Each | F75: 166.59 | G75: 245.4515 | I75: =(F75*H75) -> 0 | J75: =(F75*0.5)*H75 -> 0
A76: =IF(IFERROR(H76*1,0)>0,A75+1,A75) -> 1 | C76: TS10-28-15 | D76: 28mm x 15mm x 28mm Reducing Tee **Stock** | E76: Each | F76: 187.48 | G76: 276.1935 | I76: =(F76*H76) -> 0 | J76: =(F76*0.5)*H76 -> 0
A77: =IF(IFERROR(H77*1,0)>0,A76+1,A76) -> 1 | C77: TS10-28-22 | D77: 28mm x 22mm x 28mm Reducing Tee **Stock** | E77: Each | F77: 187.47 | G77: 276.1935 | I77: =(F77*H77) -> 0 | J77: =(F77*0.5)*H77 -> 0
A78: =IF(IFERROR(H78*1,0)>0,A77+1,A77) -> 1 | C78: TS10-42-22 | D78: 42mm x 22mm x 42mm Reducing Tee **Stock** | E78: Each | F78: 267.65 | I78: =(F78*H78) -> 0 | J78: =(F78*0.5)*H78 -> 0
A79: =IF(IFERROR(H79*1,0)>0,A78+1,A78) -> 1 | C79: TS10-42-28 | D79: 42mm x 28mm x 42mm Reducing Tee **Stock** | E79: Each | F79: 280.83 | I79: =(F79*H79) -> 0 | J79: =(F79*0.5)*H79 -> 0
A80: =IF(IFERROR(H80*1,0)>0,A79+1,A79) -> 1 | C80: TS10-54-22 | D80: 54mm x 22mm x 54mm Reducing Tee**Stock** | E80: Each | F80: 320.47 | I80: =(F80*H80) -> 0 | J80: =(F80*0.5)*H80 -> 0
A81: =IF(IFERROR(H81*1,0)>0,A80+1,A80) -> 1 | C81: TS10-54-28 | D81: 54mm x 28mm x 54mm Reducing Tee **Stock** | E81: Each | F81: 366.95 | I81: =(F81*H81) -> 0 | J81: =(F81*0.5)*H81 -> 0
A82: =IF(IFERROR(H82*1,0)>0,A81+1,A81) -> 1 | C82: TS10-54-42 | D82: 54mm x 42mm x 54mm Reducing Tee **Stock** | E82: Each | F82: 378.71 | I82: =(F82*H82) -> 0 | J82: =(F82*0.5)*H82 -> 0
A83: =IF(IFERROR(H83*1,0)>0,A82+1,A82) -> 1 | C83: TS10-76-22 | D83: 76mm x 22mm x 76mm Reducing Tee | E83: Each | F83: 551.11 | I83: =(F83*H83) -> 0 | J83: =(F83*0.5)*H83 -> 0
A84: =IF(IFERROR(H84*1,0)>0,A83+1,A83) -> 1 | C84: TS10-76-28 | D84: 76mm x 28mm x 76mm Reducing Tee | E84: Each | F84: 595.84 | I84: =(F84*H84) -> 0 | J84: =(F84*0.5)*H84 -> 0
A85: =IF(IFERROR(H85*1,0)>0,A84+1,A84) -> 1 | C85: TS10-76-42 | D85: 76mm x 42mm x 76mm Reducing Tee | E85: Each | F85: 691.12 | I85: =(F85*H85) -> 0 | J85: =(F85*0.5)*H85 -> 0
A86: =IF(IFERROR(H86*1,0)>0,A85+1,A85) -> 1 | C86: TS10-76-54 | D86: 76mm x 54mm x 76mm Reducing Tee | E86: Each | F86: 680.47 | I86: =(F86*H86) -> 0 | J86: =(F86*0.5)*H86 -> 0
A87: =IF(IFERROR(H87*1,0)>0,A86+1,A86) -> 1 | C87: TS10-88-22 | D87: 88mm x 22mm x 88mm Reducing Tee | E87: Each | F87: 623.62 | I87: =(F87*H87) -> 0 | J87: =(F87*0.5)*H87 -> 0
A88: =IF(IFERROR(H88*1,0)>0,A87+1,A87) -> 1 | C88: TS10-88-28 | D88: 88mm x 28mm x 88mm Reducing Tee | E88: Each | F88: 659.38 | G88: 467.742 | I88: =(F88*H88) -> 0 | J88: =(F88*0.5)*H88 -> 0
A89: =IF(IFERROR(H89*1,0)>0,A88+1,A88) -> 1 | B89: #VALUE! | C89: TS10-88-42 | D89: 88mm x 42mm x 88mm Reducing Tee | E89: Each | F89: 693.61 | G89: 535.5435 | I89: =(F89*H89) -> 0 | J89: =(F89*0.5)*H89 -> 0
A90: =IF(IFERROR(H90*1,0)>0,A89+1,A89) -> 1 | C90: TS10-88-54 | D90: 88mm x 54mm x 88mm Reducing Tee | E90: Each | F90: 618.41 | G90: 0 | I90: =(F90*H90) -> 0 | J90: =(F90*0.5)*H90 -> 0
A91: =IF(IFERROR(H91*1,0)>0,A90+1,A90) -> 1 | C91: TS10-88-76 | D91: 88mm x 76mm x 88mm Reducing Tee | E91: Each | F91: 620.28 | G91: 0 | I91: =(F91*H91) -> 0 | J91: =(F91*0.5)*H91 -> 0
A92: =IF(IFERROR(H92*1,0)>0,A91+1,A91) -> 1 | C92: TS10-108-22 | D92: 108mm x 22mm x 108mm Reducing Tee | E92: Each | F92: 628.17 | G92: 1043.6795 | I92: =(F92*H92) -> 0 | J92: =(F92*0.5)*H92 -> 0
A93: =IF(IFERROR(H93*1,0)>0,A92+1,A92) -> 1 | C93: TS10-108-28 | D93: 108mm x 28mm x 108mm Reducing Tee | E93: Each | F93: 658.01 | G93: 965.0195 | I93: =(F93*H93) -> 0 | J93: =(F93*0.5)*H93 -> 0
A94: =IF(IFERROR(H94*1,0)>0,A93+1,A93) -> 1 | C94: TS10-108-42 | D94: 108mm x 42mm x 108mm Reducing Tee | E94: Each | F94: 765.9 | G94: 0 | I94: =(F94*H94) -> 0 | J94: =(F94*0.5)*H94 -> 0
A95: =IF(IFERROR(H95*1,0)>0,A94+1,A94) -> 1 | C95: TS10-108-54 | D95: 108mm x 54mm x 108mm Reducing Tee | E95: Each | F95: 721.91 | G95: 983.6585 | I95: =(F95*H95) -> 0 | J95: =(F95*0.5)*H95 -> 0
A96: =IF(IFERROR(H96*1,0)>0,A95+1,A95) -> 1 | C96: TS10-108-76 | D96: 108mm x 76mm x 108mm Reducing Tee | E96: Each | F96: 778.43 | G96: 877.021 | I96: =(F96*H96) -> 0 | J96: =(F96*0.5)*H96 -> 0
A97: =IF(IFERROR(H97*1,0)>0,A96+1,A96) -> 1 | C97: TS10-108-88 | D97: 108mm x 88mm x 108mm Reducing Tee | E97: Each | F97: 849.78 | G97: 0 | I97: =(F97*H97) -> 0 | J97: =(F97*0.5)*H97 -> 0
A98: =IF(IFERROR(H98*1,0)>0,A97+1,A97) -> 1 | C98: TS10-168-76 | D98: 168mm x 76mm x 168mm Reducing Tee | E98: Each | F98: 1728.21 | G98: 0 | I98: =(F98*H98) -> 0 | J98: =(F98*0.5)*H98 -> 0
A99: =IF(IFERROR(H99*1,0)>0,A98+1,A98) -> 1 | C99: TS10-168-88 | D99: 168mm x 88mm x 168mm Reducing Tee | E99: Each | F99: 1774.94 | G99: 0 | I99: =(F99*H99) -> 0 | J99: =(F99*0.5)*H99 -> 0
A100: =IF(IFERROR(H100*1,0)>0,A99+1,A99) -> 1 | C100: TS10-168-108 | D100: 168mm x 108mm x 168mm Reducing Tee | E100: Each | F100: 1821.67 | G100: 0 | I100: =(F100*H100) -> 0 | J100: =(F100*0.5)*H100 -> 0
A101: =IF(IFERROR(H101*1,0)>0,A100+1,A100) -> 1 | B101: Couplings
A102: =IF(IFERROR(H102*1,0)>0,A101+1,A101) -> 1 | C102: TS2-15 | D102: 15mm Coupling **Stock** | E102: Each | F102: 30.77 | G102: 45.3435 | I102: =(F102*H102) -> 0 | J102: =(F102*0.5)*H102 -> 0
A103: =IF(IFERROR(H103*1,0)>0,A102+1,A102) -> 1 | B103: #VALUE! | C103: TS2-22 | D103: 22mm Coupling **Stock** | E103: Each | F103: 34.8 | G103: 51.3 | I103: =(F103*H103) -> 0 | J103: =(F103*0.5)*H103 -> 0
...

Sheet Summary
B1: #VALUE! | G1: List Total: | H1: =SUM(F6:F800) -> 0
G2: Final Cost: | H2: =SUM(G6:G800)+O4 -> 0
G3: Discount:
G4: Amount Saved: | H4: =SUM(H1-H2) -> 0
A5: ROW | B5: Description | C5: TruPress PN | D5: List Cost | E5: Quantity | F5: Total Price | G5: Discounted Price | H5: NOTES
A6: 2 | B6: =IFERROR(VLOOKUP($A6,'TruPress Price File'!$A$7:$J$460,4,0),"") | C6: =IFERROR(VLOOKUP($A6,'TruPress Price File'!$A$7:$J$460,3,0),"") | D6: =IFERROR(VLOOKUP($A6,'TruPress Price File'!$A$7:$J$460,6,0),"") | E6: =IFERROR(VLOOKUP($A6,'TruPress Price File'!$A$7:$J$460,8,0),"") | F6: =IFERROR(VLOOKUP($A6,'TruPress Price File'!$A$7:$J$460,9,0),"") | G6: =IFERROR(F6-(F6*$H$3%),"")
A7: 3 | B7: =IFERROR(VLOOKUP($A7,'TruPress Price File'!$A$7:$J$460,4,0),"") | C7: =IFERROR(VLOOKUP($A7,'TruPress Price File'!$A$7:$J$460,3,0),"") | D7: =IFERROR(VLOOKUP($A7,'TruPress Price File'!$A$7:$J$460,6,0),"") | E7: =IFERROR(VLOOKUP($A7,'TruPress Price File'!$A$7:$J$460,8,0),"") | F7: =IFERROR(VLOOKUP($A7,'TruPress Price File'!$A$7:$J$460,9,0),"") | G7: =IFERROR(F7-(F7*$H$3%),"")
A8: 4 | B8: =IFERROR(VLOOKUP($A8,'TruPress Price File'!$A$7:$J$460,4,0),"") | C8: =IFERROR(VLOOKUP($A8,'TruPress Price File'!$A$7:$J$460,3,0),"") | D8: =IFERROR(VLOOKUP($A8,'TruPress Price File'!$A$7:$J$460,6,0),"") | E8: =IFERROR(VLOOKUP($A8,'TruPress Price File'!$A$7:$J$460,8,0),"") | F8: =IFERROR(VLOOKUP($A8,'TruPress Price File'!$A$7:$J$460,9,0),"") | G8: =IFERROR(F8-(F8*$H$3%),"")
A9: 5 | B9: =IFERROR(VLOOKUP($A9,'TruPress Price File'!$A$7:$J$460,4,0),"") | C9: =IFERROR(VLOOKUP($A9,'TruPress Price File'!$A$7:$J$460,3,0),"") | D9: =IFERROR(VLOOKUP($A9,'TruPress Price File'!$A$7:$J$460,6,0),"") | E9: =IFERROR(VLOOKUP($A9,'TruPress Price File'!$A$7:$J$460,8,0),"") | F9: =IFERROR(VLOOKUP($A9,'TruPress Price File'!$A$7:$J$460,9,0),"") | G9: =IFERROR(F9-(F9*$H$3%),"")
A10: 6 | B10: =IFERROR(VLOOKUP($A10,'TruPress Price File'!$A$7:$J$460,4,0),"") | C10: =IFERROR(VLOOKUP($A10,'TruPress Price File'!$A$7:$J$460,3,0),"") | D10: =IFERROR(VLOOKUP($A10,'TruPress Price File'!$A$7:$J$460,6,0),"") | E10: =IFERROR(VLOOKUP($A10,'TruPress Price File'!$A$7:$J$460,8,0),"") | F10: =IFERROR(VLOOKUP($A10,'TruPress Price File'!$A$7:$J$460,9,0),"") | G10: =IFERROR(F10-(F10*$H$3%),"")
A11: 7 | B11: =IFERROR(VLOOKUP($A11,'TruPress Price File'!$A$7:$J$460,4,0),"") | C11: =IFERROR(VLOOKUP($A11,'TruPress Price File'!$A$7:$J$460,3,0),"") | D11: =IFERROR(VLOOKUP($A11,'TruPress Price File'!$A$7:$J$460,6,0),"") | E11: =IFERROR(VLOOKUP($A11,'TruPress Price File'!$A$7:$J$460,8,0),"") | F11: =IFERROR(VLOOKUP($A11,'TruPress Price File'!$A$7:$J$460,9,0),"") | G11: =IFERROR(F11-(F11*$H$3%),"")
A12: 8 | B12: =IFERROR(VLOOKUP($A12,'TruPress Price File'!$A$7:$J$460,4,0),"") | C12: =IFERROR(VLOOKUP($A12,'TruPress Price File'!$A$7:$J$460,3,0),"") | D12: =IFERROR(VLOOKUP($A12,'TruPress Price File'!$A$7:$J$460,6,0),"") | E12: =IFERROR(VLOOKUP($A12,'TruPress Price File'!$A$7:$J$460,8,0),"") | F12: =IFERROR(VLOOKUP($A12,'TruPress Price File'!$A$7:$J$460,9,0),"") | G12: =IFERROR(F12-(F12*$H$3%),"")
A13: 9 | B13: =IFERROR(VLOOKUP($A13,'TruPress Price File'!$A$7:$J$460,4,0),"") | C13: =IFERROR(VLOOKUP($A13,'TruPress Price File'!$A$7:$J$460,3,0),"") | D13: =IFERROR(VLOOKUP($A13,'TruPress Price File'!$A$7:$J$460,6,0),"") | E13: =IFERROR(VLOOKUP($A13,'TruPress Price File'!$A$7:$J$460,8,0),"") | F13: =IFERROR(VLOOKUP($A13,'TruPress Price File'!$A$7:$J$460,9,0),"") | G13: =IFERROR(F13-(F13*$H$3%),"")
A14: 10 | B14: =IFERROR(VLOOKUP($A14,'TruPress Price File'!$A$7:$J$460,4,0),"") | C14: =IFERROR(VLOOKUP($A14,'TruPress Price File'!$A$7:$J$460,3,0),"") | D14: =IFERROR(VLOOKUP($A14,'TruPress Price File'!$A$7:$J$460,6,0),"") | E14: =IFERROR(VLOOKUP($A14,'TruPress Price File'!$A$7:$J$460,8,0),"") | F14: =IFERROR(VLOOKUP($A14,'TruPress Price File'!$A$7:$J$460,9,0),"") | G14: =IFERROR(F14-(F14*$H$3%),"")
A15: 11 | B15: =IFERROR(VLOOKUP($A15,'TruPress Price File'!$A$7:$J$460,4,0),"") | C15: =IFERROR(VLOOKUP($A15,'TruPress Price File'!$A$7:$J$460,3,0),"") | D15: =IFERROR(VLOOKUP($A15,'TruPress Price File'!$A$7:$J$460,6,0),"") | E15: =IFERROR(VLOOKUP($A15,'TruPress Price File'!$A$7:$J$460,8,0),"") | F15: =IFERROR(VLOOKUP($A15,'TruPress Price File'!$A$7:$J$460,9,0),"") | G15: =IFERROR(F15-(F15*$H$3%),"")
A16: 12 | B16: =IFERROR(VLOOKUP($A16,'TruPress Price File'!$A$7:$J$460,4,0),"") | C16: =IFERROR(VLOOKUP($A16,'TruPress Price File'!$A$7:$J$460,3,0),"") | D16: =IFERROR(VLOOKUP($A16,'TruPress Price File'!$A$7:$J$460,6,0),"") | E16: =IFERROR(VLOOKUP($A16,'TruPress Price File'!$A$7:$J$460,8,0),"") | F16: =IFERROR(VLOOKUP($A16,'TruPress Price File'!$A$7:$J$460,9,0),"") | G16: =IFERROR(F16-(F16*$H$3%),"")
A17: 13 | B17: =IFERROR(VLOOKUP($A17,'TruPress Price File'!$A$7:$J$460,4,0),"") | C17: =IFERROR(VLOOKUP($A17,'TruPress Price File'!$A$7:$J$460,3,0),"") | D17: =IFERROR(VLOOKUP($A17,'TruPress Price File'!$A$7:$J$460,6,0),"") | E17: =IFERROR(VLOOKUP($A17,'TruPress Price File'!$A$7:$J$460,8,0),"") | F17: =IFERROR(VLOOKUP($A17,'TruPress Price File'!$A$7:$J$460,9,0),"") | G17: =IFERROR(F17-(F17*$H$3%),"")
... A423: 414 | B423: =IFERROR(VLOOKUP($A423,'TruPress Price File'!$A$7:$J$460,4,0),"") | C423: =IFERROR(VLOOKUP($A423,'TruPress Price File'!$A$7:$J$460,3,0),"") | D423: =IFERROR(VLOOKUP($A423,'TruPress Price File'!$A$7:$J$460,6,0),"") | E423: =IFERROR(VLOOKUP($A423,'TruPress Price File'!$A$7:$J$460,8,0),"") | F423: =IFERROR(VLOOKUP($A423,'TruPress Price File'!$A$7:$J$460,9,0),"") | G423: =IFERROR(F423-(F423*$H$3%),"")
A424: 414 | B424: =IFERROR(VLOOKUP($A424,'TruPress Price File'!$A$7:$J$460,4,0),"") | C424: =IFERROR(VLOOKUP($A424,'TruPress Price File'!$A$7:$J$460,2,0),"") | D424: =IFERROR(VLOOKUP($A424,'TruPress Price File'!$A$7:$J$460,6,0),"") | E424: =IFERROR(VLOOKUP($A424,'TruPress Price File'!$A$7:$J$460,8,0),"") | F424: =IFERROR(VLOOKUP($A424,'TruPress Price File'!$A$7:$J$460,9,0),"") | G424: =IFERROR(F424-(F424*$H$3%),"")
A425: 414 | B425: =IFERROR(VLOOKUP($A425,'TruPress Price File'!$A$7:$J$460,4,0),"") | C425: =IFERROR(VLOOKUP($A425,'TruPress Price File'!$A$7:$J$460,2,0),"") | D425: =IFERROR(VLOOKUP($A425,'TruPress Price File'!$A$7:$J$460,6,0),"") | E425: =IFERROR(VLOOKUP($A425,'TruPress Price File'!$A$7:$J$460,8,0),"") | F425: =IFERROR(VLOOKUP($A425,'TruPress Price File'!$A$7:$J$460,9,0),"") | G425: =IFERROR(F425-(F425*$H$3%),"")
A426: 414 | B426: =IFERROR(VLOOKUP($A426,'TruPress Price File'!$A$7:$J$460,4,0),"") | C426: =IFERROR(VLOOKUP($A426,'TruPress Price File'!$A$7:$J$460,2,0),"") | D426: =IFERROR(VLOOKUP($A426,'TruPress Price File'!$A$7:$J$460,6,0),"") | E426: =IFERROR(VLOOKUP($A426,'TruPress Price File'!$A$7:$J$460,8,0),"") | F426: =IFERROR(VLOOKUP($A426,'TruPress Price File'!$A$7:$J$460,9,0),"") | G426: =IFERROR(F426-(F426*$H$3%),"")
A427: 414 | B427: =IFERROR(VLOOKUP($A427,'TruPress Price File'!$A$7:$J$460,4,0),"") | C427: =IFERROR(VLOOKUP($A427,'TruPress Price File'!$A$7:$J$460,2,0),"") | D427: =IFERROR(VLOOKUP($A427,'TruPress Price File'!$A$7:$J$460,6,0),"") | E427: =IFERROR(VLOOKUP($A427,'TruPress Price File'!$A$7:$J$460,8,0),"") | F427: =IFERROR(VLOOKUP($A427,'TruPress Price File'!$A$7:$J$460,9,0),"") | G427: =IFERROR(F427-(F427*$H$3%),"")
A428: 414 | B428: =IFERROR(VLOOKUP($A428,'TruPress Price File'!$A$7:$J$460,4,0),"") | C428: =IFERROR(VLOOKUP($A428,'TruPress Price File'!$A$7:$J$460,2,0),"") | D428: =IFERROR(VLOOKUP($A428,'TruPress Price File'!$A$7:$J$460,6,0),"") | E428: =IFERROR(VLOOKUP($A428,'TruPress Price File'!$A$7:$J$460,8,0),"") | F428: =IFERROR(VLOOKUP($A428,'TruPress Price File'!$A$7:$J$460,9,0),"") | G428: =IFERROR(F428-(F428*$H$3%),"")
A429: 414 | B429: =IFERROR(VLOOKUP($A429,'TruPress Price File'!$A$7:$J$460,4,0),"") | C429: =IFERROR(VLOOKUP($A429,'TruPress Price File'!$A$7:$J$460,2,0),"") | D429: =IFERROR(VLOOKUP($A429,'TruPress Price File'!$A$7:$J$460,6,0),"") | E429: =IFERROR(VLOOKUP($A429,'TruPress Price File'!$A$7:$J$460,8,0),"") | F429: =IFERROR(VLOOKUP($A429,'TruPress Price File'!$A$7:$J$460,9,0),"") | G429: =IFERROR(F429-(F429*$H$3%),"")
A430: 414 | B430: =IFERROR(VLOOKUP($A430,'TruPress Price File'!$A$7:$J$460,4,0),"") | C430: =IFERROR(VLOOKUP($A430,'TruPress Price File'!$A$7:$J$460,2,0),"") | D430: =IFERROR(VLOOKUP($A430,'TruPress Price File'!$A$7:$J$460,6,0),"") | E430: =IFERROR(VLOOKUP($A430,'TruPress Price File'!$A$7:$J$460,8,0),"") | F430: =IFERROR(VLOOKUP($A430,'TruPress Price File'!$A$7:$J$460,9,0),"") | G430: =IFERROR(F430-(F430*$H$3%),"")
A431: 414 | B431: =IFERROR(VLOOKUP($A431,'TruPress Price File'!$A$7:$J$460,4,0),"") | C431: =IFERROR(VLOOKUP($A431,'TruPress Price File'!$A$7:$J$460,2,0),"") | D431: =IFERROR(VLOOKUP($A431,'TruPress Price File'!$A$7:$J$460,6,0),"") | E431: =IFERROR(VLOOKUP($A431,'TruPress Price File'!$A$7:$J$460,8,0),"") | F431: =IFERROR(VLOOKUP($A431,'TruPress Price File'!$A$7:$J$460,9,0),"") | G431: =IFERROR(F431-(F431*$H$3%),"")
A432: 414 | B432: =IFERROR(VLOOKUP($A432,'TruPress Price File'!$A$7:$J$460,4,0),"") | C432: =IFERROR(VLOOKUP($A432,'TruPress Price File'!$A$7:$J$460,2,0),"") | D432: =IFERROR(VLOOKUP($A432,'TruPress Price File'!$A$7:$J$460,6,0),"") | E432: =IFERROR(VLOOKUP($A432,'TruPress Price File'!$A$7:$J$460,8,0),"") | F432: =IFERROR(VLOOKUP($A432,'TruPress Price File'!$A$7:$J$460,9,0),"") | G432: =IFERROR(F432-(F432*$H$3%),"")
A433: 414 | B433: =IFERROR(VLOOKUP($A433,'TruPress Price File'!$A$7:$J$460,4,0),"") | C433: =IFERROR(VLOOKUP($A433,'TruPress Price File'!$A$7:$J$460,2,0),"") | D433: =IFERROR(VLOOKUP($A433,'TruPress Price File'!$A$7:$J$460,6,0),"") | E433: =IFERROR(VLOOKUP($A433,'TruPress Price File'!$A$7:$J$460,8,0),"") | F433: =IFERROR(VLOOKUP($A433,'TruPress Price File'!$A$7:$J$460,9,0),"") | G433: =IFERROR(F433-(F433*$H$3%),"")
A434: 414 | B434: =IFERROR(VLOOKUP($A434,'TruPress Price File'!$A$7:$J$460,4,0),"") | C434: =IFERROR(VLOOKUP($A434,'TruPress Price File'!$A$7:$J$460,2,0),"") | D434: =IFERROR(VLOOKUP($A434,'TruPress Price File'!$A$7:$J$460,6,0),"") | E434: =IFERROR(VLOOKUP($A434,'TruPress Price File'!$A$7:$J$460,8,0),"") | F434: =IFERROR(VLOOKUP($A434,'TruPress Price File'!$A$7:$J$460,9,0),"") | G434: =IFERROR(F434-(F434*$H$3%),"")
A435: 414 | B435: =IFERROR(VLOOKUP($A435,'TruPress Price File'!$A$7:$J$460,4,0),"") | C435: =IFERROR(VLOOKUP($A435,'TruPress Price File'!$A$7:$J$460,2,0),"") | D435: =IFERROR(VLOOKUP($A435,'TruPress Price File'!$A$7:$J$460,6,0),"") | E435: =IFERROR(VLOOKUP($A435,'TruPress Price File'!$A$7:$J$460,8,0),"") | F435: =IFERROR(VLOOKUP($A435,'TruPress Price File'!$A$7:$J$460,9,0),"") | G435: =IFERROR(F435-(F435*$H$3%),"")
... A593: 414 | B593: =IFERROR(VLOOKUP($A593,'TruPress Price File'!$A$7:$J$460,4,0),"") | C593: =IFERROR(VLOOKUP($A593,'TruPress Price File'!$A$7:$J$460,2,0),"") | D593: =IFERROR(VLOOKUP($A593,'TruPress Price File'!$A$7:$J$460,6,0),"") | E593: =IFERROR(VLOOKUP($A593,'TruPress Price File'!$A$7:$J$460,8,0),"") | F593: =IFERROR(VLOOKUP($A593,'TruPress Price File'!$A$7:$J$460,9,0),"") | G593: =IFERROR(F593-(F593*$H$3%),"")
